BEGIN:VCALENDAR
VERSION:2.0
PRODID:-//BBDC - ECPv6.15.13//NONSGML v1.0//EN
CALSCALE:GREGORIAN
METHOD:PUBLISH
X-WR-CALNAME:BBDC
X-ORIGINAL-URL:https://ourhomeyourhome.ca
X-WR-CALDESC:Events for BBDC
REFRESH-INTERVAL;VALUE=DURATION:PT1H
X-Robots-Tag:noindex
X-PUBLISHED-TTL:PT1H
BEGIN:VTIMEZONE
TZID:UTC
BEGIN:STANDARD
TZOFFSETFROM:+0000
TZOFFSETTO:+0000
TZNAME:UTC
DTSTART:20210101T000000
END:STANDARD
END:VTIMEZONE
BEGIN:VEVENT
DTSTART;TZID=UTC:20221028T170000
DTEND;TZID=UTC:20221028T200000
DTSTAMP:20260419T223904
CREATED:20221027T014340Z
LAST-MODIFIED:20221027T014340Z
UID:655-1666976400-1666987200@ourhomeyourhome.ca
SUMMARY:Chase the Ace
DESCRIPTION:Chase the Ace at Beausejour Legion \nSales between 5 and 8 pm with draw at 8 pm \nPool tables open and beverages cold! \nSupport your local Royal Canadian Legion #132
URL:https://ourhomeyourhome.ca/event/chase-the-ace/2022-10-28/
LOCATION:Beausejour Legion #132\, 300 Veterans Lane\, Beausejour\, Manitoba\, R0E 0C0\, Canada
ATTACH;FMTTYPE=image/png:https://ourhomeyourhome.ca/wp-content/uploads/2022/10/Website-14.png
END:VEVENT
BEGIN:VEVENT
DTSTART;TZID=UTC:20221028T193000
DTEND;TZID=UTC:20221028T193000
DTSTAMP:20260419T223904
CREATED:20221027T013945Z
LAST-MODIFIED:20221027T014009Z
UID:648-1666985400-1666985400@ourhomeyourhome.ca
SUMMARY:Winnipeg Blue Bombers VS BC Lions on the Big Screen
DESCRIPTION:Head down to the Beausejour Legion #132 to watch the Winnipeg Blue Bombers come out victorious against the BC Lions! Pool table is open and the beverages are cold! \nGame time is 7:30pm \nChase the Ace from 5-8pm
URL:https://ourhomeyourhome.ca/event/blue-bombers-vs-bc-lions-on-the-big-screen/
LOCATION:Beausejour Legion #132\, 300 Veterans Lane\, Beausejour\, Manitoba\, R0E 0C0\, Canada
ATTACH;FMTTYPE=image/png:https://ourhomeyourhome.ca/wp-content/uploads/2022/10/Website-13.png
END:VEVENT
END:VCALENDAR