BEGIN:VCALENDAR
VERSION:2.0
PRODID:-//BBDC - ECPv6.15.13//NONSGML v1.0//EN
CALSCALE:GREGORIAN
METHOD:PUBLISH
X-WR-CALNAME:BBDC
X-ORIGINAL-URL:https://ourhomeyourhome.ca
X-WR-CALDESC:Events for BBDC
REFRESH-INTERVAL;VALUE=DURATION:PT1H
X-Robots-Tag:noindex
X-PUBLISHED-TTL:PT1H
BEGIN:VTIMEZONE
TZID:UTC
BEGIN:STANDARD
TZOFFSETFROM:+0000
TZOFFSETTO:+0000
TZNAME:UTC
DTSTART:20210101T000000
END:STANDARD
END:VTIMEZONE
BEGIN:VEVENT
DTSTART;TZID=UTC:20221215T090000
DTEND;TZID=UTC:20221218T210000
DTSTAMP:20260419T130252
CREATED:20221205T224449Z
LAST-MODIFIED:20221205T224449Z
UID:742-1671094800-1671397200@ourhomeyourhome.ca
SUMMARY:Viterra Mens Zones Playdowns
DESCRIPTION:Come down to Beausejour Curling Club for some competitive curling action!
URL:https://ourhomeyourhome.ca/event/viterra-mens-zones-playdowns/
LOCATION:Beausejour Curling Club\, 360 Veterans Lane\, BEAUSEJOUR\, MANITOBA\, R0E 0C0\, Canada
ATTACH;FMTTYPE=image/png:https://ourhomeyourhome.ca/wp-content/uploads/2022/12/Website-Events-2.png
END:VEVENT
BEGIN:VEVENT
DTSTART;TZID=UTC:20221218T110000
DTEND;TZID=UTC:20221218T160000
DTSTAMP:20260419T130252
CREATED:20221205T232946Z
LAST-MODIFIED:20221216T233242Z
UID:779-1671361200-1671379200@ourhomeyourhome.ca
SUMMARY:Candycane Wishes & Mistletoe Kisses Christmas Market
DESCRIPTION:Craft Sale & Market at the Beausejour Legion #132\nAll vendors types are welcome\nApplications – Mhpreserves1974@hotmail.com\nText 1204 205 2522 for information \nMarketxmas
URL:https://ourhomeyourhome.ca/event/candycane-wishes-mistletoe-kisses-christmas-market/
LOCATION:Beausejour Legion #132\, 300 Veterans Lane\, Beausejour\, Manitoba\, R0E 0C0\, Canada
ATTACH;FMTTYPE=image/jpeg:https://ourhomeyourhome.ca/wp-content/uploads/2022/12/Website-Events-1.jpg
END:VEVENT
END:VCALENDAR