BEGIN:VCALENDAR
VERSION:2.0
PRODID:-//BBDC - ECPv6.15.13//NONSGML v1.0//EN
CALSCALE:GREGORIAN
METHOD:PUBLISH
X-ORIGINAL-URL:https://ourhomeyourhome.ca
X-WR-CALDESC:Events for BBDC
REFRESH-INTERVAL;VALUE=DURATION:PT1H
X-Robots-Tag:noindex
X-PUBLISHED-TTL:PT1H
BEGIN:VTIMEZONE
TZID:UTC
BEGIN:STANDARD
TZOFFSETFROM:+0000
TZOFFSETTO:+0000
TZNAME:UTC
DTSTART:20220101T000000
END:STANDARD
END:VTIMEZONE
BEGIN:VEVENT
DTSTART;TZID=UTC:20230314T090000
DTEND;TZID=UTC:20230315T230000
DTSTAMP:20260419T071626
CREATED:20221205T230912Z
LAST-MODIFIED:20221205T231920Z
UID:765-1678784400-1678921200@ourhomeyourhome.ca
SUMMARY:Beausejour Farmers Bonspiel
DESCRIPTION:2023 Farmers Bonspiel\n\nThe 2023 Beausejour Farmers Bonspiel is tentatively scheduled for March 14-15\, 2023.  Watch the Beausejour Curling Club website for more details.
URL:https://ourhomeyourhome.ca/event/farmers-bonspiel/
LOCATION:Beausejour Curling Club\, 360 Veterans Lane\, BEAUSEJOUR\, MANITOBA\, R0E 0C0\, Canada
ATTACH;FMTTYPE=image/png:https://ourhomeyourhome.ca/wp-content/uploads/2022/12/Website-Events-3.png
END:VEVENT
END:VCALENDAR