BEGIN:VCALENDAR
VERSION:2.0
PRODID:-//BBDC - ECPv6.15.13//NONSGML v1.0//EN
CALSCALE:GREGORIAN
METHOD:PUBLISH
X-WR-CALNAME:BBDC
X-ORIGINAL-URL:https://ourhomeyourhome.ca
X-WR-CALDESC:Events for BBDC
REFRESH-INTERVAL;VALUE=DURATION:PT1H
X-Robots-Tag:noindex
X-PUBLISHED-TTL:PT1H
BEGIN:VTIMEZONE
TZID:UTC
BEGIN:STANDARD
TZOFFSETFROM:+0000
TZOFFSETTO:+0000
TZNAME:UTC
DTSTART:20230101T000000
END:STANDARD
END:VTIMEZONE
BEGIN:VEVENT
DTSTART;TZID=UTC:20240824T100000
DTEND;TZID=UTC:20240825T150000
DTSTAMP:20260419T101344
CREATED:20220708T015306Z
LAST-MODIFIED:20240203T003151Z
UID:398-1724493600-1724598000@ourhomeyourhome.ca
SUMMARY:Beau Head Arts Festival
DESCRIPTION:Creativity is in the air at the Beauhead Arts Fest! \nAn arts festival held in a unique setting to showcase local artists. Artists pop-up galleries are displayed in the historic buildings of the Pioneer Village Museum in Beausejour\, Manitoba. \nIn addition to the galleries\, musicians will be performing and a farmer’s market focusing on artisan and home grown products will be held on the grounds of the village. This is an event the whole family can enjoy. \nAdmission FREE to members or $2.00 at the gate with access to museum site\, 12 and under free! \nCome out and enjoy goods from local artists based in Beausejour and Brokenhead\, plus more this summer on August 24th to 25th! \nWhat’s New in 2024?\nExpanded Workshops: We’re adding more hands-on workshops for artists and attendees alike.\nEnhanced Atmosphere: Expect a more vibrant and engaging festival atmosphere.\nIncreased Social Media Presence: We’re working on a website and boosting our social media efforts to make the 2024 festival the best yet. \nHelp us make the 2024 Beau Head Arts Fest unforgettable by sharing the news with your artist friends and your supporters! It means the world to us!\nSave the Date: August 24-25\, 2024 \nWe want to give our local artists from Beausejour\, Brokenhead\, and the surrounding areas the first opportunity to secure their spot.\nRegistration for locals opens on April 1\, 2024\nFor artists across Manitoba eager to be part of our creative community\, general registration opens on May 1\, 2024.\nGeneral Registration: Opens May 1\, 2024 \n\n\n\n\nSocial Media Handles:\n\n\n\n\nInstagram: https://www.instagram.com/beauheadartsfest/\n\n\nFacebook: facebook.com/beauheadartsfest
URL:https://ourhomeyourhome.ca/event/beau-head-arts-festival/
LOCATION:Manitoba
ATTACH;FMTTYPE=image/jpeg:https://ourhomeyourhome.ca/wp-content/uploads/2022/07/84857016_1241243142732812_8958663044804640768_n.jpg
END:VEVENT
END:VCALENDAR