BEGIN:VCALENDAR
VERSION:2.0
PRODID:-//BBDC - ECPv6.15.13//NONSGML v1.0//EN
CALSCALE:GREGORIAN
METHOD:PUBLISH
X-WR-CALNAME:BBDC
X-ORIGINAL-URL:https://ourhomeyourhome.ca
X-WR-CALDESC:Events for BBDC
REFRESH-INTERVAL;VALUE=DURATION:PT1H
X-Robots-Tag:noindex
X-PUBLISHED-TTL:PT1H
BEGIN:VTIMEZONE
TZID:America/Winnipeg
BEGIN:DAYLIGHT
TZOFFSETFROM:-0600
TZOFFSETTO:-0500
TZNAME:CDT
DTSTART:20250309T080000
END:DAYLIGHT
BEGIN:STANDARD
TZOFFSETFROM:-0500
TZOFFSETTO:-0600
TZNAME:CST
DTSTART:20251102T070000
END:STANDARD
BEGIN:DAYLIGHT
TZOFFSETFROM:-0600
TZOFFSETTO:-0500
TZNAME:CDT
DTSTART:20260308T080000
END:DAYLIGHT
BEGIN:STANDARD
TZOFFSETFROM:-0500
TZOFFSETTO:-0600
TZNAME:CST
DTSTART:20261101T070000
END:STANDARD
BEGIN:DAYLIGHT
TZOFFSETFROM:-0600
TZOFFSETTO:-0500
TZNAME:CDT
DTSTART:20270314T080000
END:DAYLIGHT
BEGIN:STANDARD
TZOFFSETFROM:-0500
TZOFFSETTO:-0600
TZNAME:CST
DTSTART:20271107T070000
END:STANDARD
END:VTIMEZONE
BEGIN:VEVENT
DTSTART;TZID=America/Winnipeg:20260514T180000
DTEND;TZID=America/Winnipeg:20260514T210000
DTSTAMP:20260423T112638
CREATED:20260417T154056Z
LAST-MODIFIED:20260417T154056Z
UID:2902-1778781600-1778792400@ourhomeyourhome.ca
SUMMARY:Board Game Night | Pennyweight Market
DESCRIPTION:
URL:https://ourhomeyourhome.ca/event/board-game-night-pennyweight-market/
LOCATION:Pennyweight Market\, 802 Park Ave\, Beausejour\, Manitoba\, R0E0C0\, Canada
END:VEVENT
END:VCALENDAR