BEGIN:VCALENDAR
VERSION:2.0
PRODID:-//BBDC - ECPv6.15.13//NONSGML v1.0//EN
CALSCALE:GREGORIAN
METHOD:PUBLISH
X-WR-CALNAME:BBDC
X-ORIGINAL-URL:https://ourhomeyourhome.ca
X-WR-CALDESC:Events for BBDC
REFRESH-INTERVAL;VALUE=DURATION:PT1H
X-Robots-Tag:noindex
X-PUBLISHED-TTL:PT1H
BEGIN:VTIMEZONE
TZID:UTC
BEGIN:STANDARD
TZOFFSETFROM:+0000
TZOFFSETTO:+0000
TZNAME:UTC
DTSTART:20250101T000000
END:STANDARD
END:VTIMEZONE
BEGIN:VEVENT
DTSTART;TZID=UTC:20260712T110000
DTEND;TZID=UTC:20260712T150000
DTSTAMP:20260423T211140
CREATED:20251007T211130Z
LAST-MODIFIED:20251007T211130Z
UID:2347-1783854000-1783868400@ourhomeyourhome.ca
SUMMARY:Pop Up Market
DESCRIPTION:
URL:https://ourhomeyourhome.ca/event/pop-up-market/2026-07-12/
LOCATION:Breezy Oaks Inn & Tavern\, 1055 Park Avenue\, Beausejour\, Manitoba\, R0E 0C0\, Canada
ORGANIZER;CN="m & a markets":MAILTO:garandash@hotmail.com
END:VEVENT
END:VCALENDAR