BEGIN:VCALENDAR
VERSION:2.0
PRODID:-//BBDC - ECPv6.15.13//NONSGML v1.0//EN
CALSCALE:GREGORIAN
METHOD:PUBLISH
X-ORIGINAL-URL:https://ourhomeyourhome.ca
X-WR-CALDESC:Events for BBDC
REFRESH-INTERVAL;VALUE=DURATION:PT1H
X-Robots-Tag:noindex
X-PUBLISHED-TTL:PT1H
BEGIN:VTIMEZONE
TZID:America/Winnipeg
BEGIN:DAYLIGHT
TZOFFSETFROM:-0600
TZOFFSETTO:-0500
TZNAME:CDT
DTSTART:20250309T080000
END:DAYLIGHT
BEGIN:STANDARD
TZOFFSETFROM:-0500
TZOFFSETTO:-0600
TZNAME:CST
DTSTART:20251102T070000
END:STANDARD
BEGIN:DAYLIGHT
TZOFFSETFROM:-0600
TZOFFSETTO:-0500
TZNAME:CDT
DTSTART:20260308T080000
END:DAYLIGHT
BEGIN:STANDARD
TZOFFSETFROM:-0500
TZOFFSETTO:-0600
TZNAME:CST
DTSTART:20261101T070000
END:STANDARD
BEGIN:DAYLIGHT
TZOFFSETFROM:-0600
TZOFFSETTO:-0500
TZNAME:CDT
DTSTART:20270314T080000
END:DAYLIGHT
BEGIN:STANDARD
TZOFFSETFROM:-0500
TZOFFSETTO:-0600
TZNAME:CST
DTSTART:20271107T070000
END:STANDARD
END:VTIMEZONE
BEGIN:VEVENT
DTSTART;VALUE=DATE:20260911
DTEND;VALUE=DATE:20260914
DTSTAMP:20260424T212710
CREATED:20260212T154255Z
LAST-MODIFIED:20260212T154255Z
UID:2643-1789084800-1789343999@ourhomeyourhome.ca
SUMMARY:Double B Agricultural Festival
DESCRIPTION:Save the date – September 11\, 12 & 13\, 2026 \nMore details to come – visit brokenheadag.ca and follow Brokenhead Agricultural Society on Facebook or Instagram to stay in the loop! \n 
URL:https://ourhomeyourhome.ca/event/double-b-agricultural-festival/
LOCATION:Co-Op Community Complex\, 71032\, MB-302\, Beausejour\, MB\, R0E 0C0\, Canada
ORGANIZER;CN="Brokenhead Agricultural Society":MAILTO:brokenheadag@outlook.com
END:VEVENT
BEGIN:VEVENT
DTSTART;TZID=America/Winnipeg:20260912T130000
DTEND;TZID=America/Winnipeg:20260912T130000
DTSTAMP:20260424T212710
CREATED:20260407T141555Z
LAST-MODIFIED:20260407T141914Z
UID:2802-1789218000-1789218000@ourhomeyourhome.ca
SUMMARY:Crib & Meat Draw | Beausejour Legion
DESCRIPTION:Please note there will be no Crib & Meat Draw events on long weekends.
URL:https://ourhomeyourhome.ca/event/crib-meat-draw-beausejour-legion/2026-09-12/
LOCATION:Beausejour Legion #132\, 300 Veterans Lane\, Beausejour\, Manitoba\, R0E 0C0\, Canada
END:VEVENT
END:VCALENDAR