BEGIN:VCALENDAR
VERSION:2.0
PRODID:-//BBDC - ECPv6.15.13//NONSGML v1.0//EN
CALSCALE:GREGORIAN
METHOD:PUBLISH
X-ORIGINAL-URL:https://ourhomeyourhome.ca
X-WR-CALDESC:Events for BBDC
REFRESH-INTERVAL;VALUE=DURATION:PT1H
X-Robots-Tag:noindex
X-PUBLISHED-TTL:PT1H
BEGIN:VTIMEZONE
TZID:America/Winnipeg
BEGIN:DAYLIGHT
TZOFFSETFROM:-0600
TZOFFSETTO:-0500
TZNAME:CDT
DTSTART:20250309T080000
END:DAYLIGHT
BEGIN:STANDARD
TZOFFSETFROM:-0500
TZOFFSETTO:-0600
TZNAME:CST
DTSTART:20251102T070000
END:STANDARD
BEGIN:DAYLIGHT
TZOFFSETFROM:-0600
TZOFFSETTO:-0500
TZNAME:CDT
DTSTART:20260308T080000
END:DAYLIGHT
BEGIN:STANDARD
TZOFFSETFROM:-0500
TZOFFSETTO:-0600
TZNAME:CST
DTSTART:20261101T070000
END:STANDARD
BEGIN:DAYLIGHT
TZOFFSETFROM:-0600
TZOFFSETTO:-0500
TZNAME:CDT
DTSTART:20270314T080000
END:DAYLIGHT
BEGIN:STANDARD
TZOFFSETFROM:-0500
TZOFFSETTO:-0600
TZNAME:CST
DTSTART:20271107T070000
END:STANDARD
END:VTIMEZONE
BEGIN:VTIMEZONE
TZID:UTC
BEGIN:STANDARD
TZOFFSETFROM:+0000
TZOFFSETTO:+0000
TZNAME:UTC
DTSTART:20250101T000000
END:STANDARD
END:VTIMEZONE
BEGIN:VEVENT
DTSTART;TZID=America/Winnipeg:20260223T180000
DTEND;TZID=America/Winnipeg:20260223T180000
DTSTAMP:20260423T145036
CREATED:20260218T174132Z
LAST-MODIFIED:20260218T174132Z
UID:2658-1771869600-1771869600@ourhomeyourhome.ca
SUMMARY:Health Care Aid Program Info Session | Lac Du Bonnet
DESCRIPTION:
URL:https://ourhomeyourhome.ca/event/health-care-aid-program-info-session-lac-du-bonnet/
LOCATION:Manitoba
END:VEVENT
BEGIN:VEVENT
DTSTART;TZID=UTC:20260225T093000
DTEND;TZID=UTC:20260225T113000
DTSTAMP:20260423T145036
CREATED:20250823T011126Z
LAST-MODIFIED:20250823T011126Z
UID:2253-1772011800-1772019000@ourhomeyourhome.ca
SUMMARY:Movers & Minglers for Seniors
DESCRIPTION:
URL:https://ourhomeyourhome.ca/event/movers-minglers-for-seniors/2026-02-25/
LOCATION:Brokenhead River Community Hall\, 320 Veterans Lane\, Beausejour\, Mb\, R0E 0C0\, Canada
END:VEVENT
BEGIN:VEVENT
DTSTART;VALUE=DATE:20260227
DTEND;VALUE=DATE:20260303
DTSTAMP:20260423T145036
CREATED:20260108T182008Z
LAST-MODIFIED:20260109T210859Z
UID:2514-1772150400-1772495999@ourhomeyourhome.ca
SUMMARY:Manitoba Stick Curling Association Mens and Womens Provincial Championships
DESCRIPTION:Beausejour Curling Club is proud to be hosting the Manitoba Provincial Mens and Womens 2-Person Stick Curling Championships from Feb 27 to March 2\, 2026! \nVisit beausejourcurlingclub.ca to stay up to date or contact beausejourcurlingclub@gmail.com with any questions.
URL:https://ourhomeyourhome.ca/event/manitoba-stick-curling-association-mens-and-womens-provincial-championships/
LOCATION:Beausejour Curling Club\, 360 Veterans Lane\, BEAUSEJOUR\, MANITOBA\, R0E 0C0\, Canada
END:VEVENT
BEGIN:VEVENT
DTSTART;TZID=America/Winnipeg:20260228T090000
DTEND;TZID=America/Winnipeg:20260228T150000
DTSTAMP:20260423T145036
CREATED:20260121T173310Z
LAST-MODIFIED:20260121T173310Z
UID:2587-1772269200-1772290800@ourhomeyourhome.ca
SUMMARY:Seed Blessing Celebration
DESCRIPTION:Seed Blessing Celebration\nFebruary 28\, 9:00 am – 3:00 pm\nSandy-Saulteaux Spiritual Centre\n\nA seed blessing event where Indigenous knowledge and ceremony will be highlighted.\nThe Haudenosaunee annual cycle of thanksgiving ceremonies includes this late Winter/early Spring event\, featuring the Haudenosaunee Thanksgiving Address. An Anishinaabe knowledge keeper will share traditional knowledge and teaching about seeds\, plants\, and medicines. Sandy-Saulteaux Spiritual Centre (SSSC) staff will share about the SSSC garden and provide small packets of seeds from their garden\, with a note describing the plant and a recipe\, to be shared with participants. Participants are encouraged to bring seeds from their own gardens and share them with others also. A Rocha Manitoba will participate and will share about their work as well.\n\nSnacks and a lunch of Three Sisters Stew\, with ingredients from the SSSC garden will be served.\n\nEvent registration is $26/guest and includes lunch and snack.\n\nA limited number of rooms are available if you would like to arrive on Friday\, February 27\, and stay overnight. You may check in any time after 3 pm on Friday. Saturday morning breakfast will be included in the accommodation fee of $87/guest.\n\nRegister: https://sandysaulteaux.ca/event/seed-blessing-celebration/\n\nThis event is generously sponsored by Indigenous Ministries of the Christian Reformed Church in North America.
URL:https://ourhomeyourhome.ca/event/seed-blessing-celebration/
LOCATION:Sandy-Saulteaux Spiritual Centre\, 290 Zielke Drive\, Beausejour\, Manitoba\, R0E0C0\, Canada
END:VEVENT
BEGIN:VEVENT
DTSTART;TZID=America/Winnipeg:20260228T190000
DTEND;TZID=America/Winnipeg:20260228T190000
DTSTAMP:20260423T145036
CREATED:20260126T190410Z
LAST-MODIFIED:20260126T190410Z
UID:2607-1772305200-1772305200@ourhomeyourhome.ca
SUMMARY:Annual Open Your Hearts Concert
DESCRIPTION:
URL:https://ourhomeyourhome.ca/event/annual-open-your-hearts-concert-2/
LOCATION:St Paul’s United Church\, 730 James Avenue\, Beausejour\, Manitoba\, R0E0C0\, Canada
END:VEVENT
BEGIN:VEVENT
DTSTART;TZID=UTC:20260301T140000
DTEND;TZID=UTC:20260301T160000
DTSTAMP:20260423T145036
CREATED:20250823T010738Z
LAST-MODIFIED:20250823T010738Z
UID:2228-1772373600-1772380800@ourhomeyourhome.ca
SUMMARY:Family Sunday Funday
DESCRIPTION:
URL:https://ourhomeyourhome.ca/event/family-sunday-funday/2026-03-01/
LOCATION:Brokenhead River Community Hall\, 320 Veterans Lane\, Beausejour\, Mb\, R0E 0C0\, Canada
END:VEVENT
BEGIN:VEVENT
DTSTART;TZID=America/Winnipeg:20260303T130000
DTEND;TZID=America/Winnipeg:20260303T170000
DTSTAMP:20260423T145036
CREATED:20260212T210500Z
LAST-MODIFIED:20260212T210500Z
UID:2649-1772542800-1772557200@ourhomeyourhome.ca
SUMMARY:Club 50 Old Time Dance
DESCRIPTION:
URL:https://ourhomeyourhome.ca/event/club-50-old-time-dance-8/
LOCATION:Brokenhead River Community Hall\, 320 Veterans Lane\, Beausejour\, Mb\, R0E 0C0\, Canada
END:VEVENT
BEGIN:VEVENT
DTSTART;TZID=America/Winnipeg:20260306T170000
DTEND;TZID=America/Winnipeg:20260306T170000
DTSTAMP:20260423T145036
CREATED:20260217T155849Z
LAST-MODIFIED:20260217T155849Z
UID:2652-1772816400-1772816400@ourhomeyourhome.ca
SUMMARY:Supper and Jam Night | Beausejour Legion
DESCRIPTION:
URL:https://ourhomeyourhome.ca/event/supper-and-jam-night-beausejour-legion-2/
LOCATION:Beausejour Legion #132\, 300 Veterans Lane\, Beausejour\, Manitoba\, R0E 0C0\, Canada
END:VEVENT
BEGIN:VEVENT
DTSTART;TZID=America/Winnipeg:20260307T090000
DTEND;TZID=America/Winnipeg:20260307T100000
DTSTAMP:20260423T145036
CREATED:20260220T172210Z
LAST-MODIFIED:20260220T172210Z
UID:2675-1772874000-1772877600@ourhomeyourhome.ca
SUMMARY:Lego Master Builder Workshop Pre School
DESCRIPTION:
URL:https://ourhomeyourhome.ca/event/lego-master-builder-workshop-pre-school/
LOCATION:Tyndall Village Community Centre\, 69 Pierson Drive\, Tyndall\, Manitoba\, R0E 2B0\, Canada
ORGANIZER;CN="Brokenhead River Recreation Commission":MAILTO:programdirector@brokenheadriverrec.com
END:VEVENT
BEGIN:VEVENT
DTSTART;TZID=America/Winnipeg:20260307T130000
DTEND;TZID=America/Winnipeg:20260307T130000
DTSTAMP:20260423T145036
CREATED:20260128T160006Z
LAST-MODIFIED:20260128T160006Z
UID:2617-1772888400-1772888400@ourhomeyourhome.ca
SUMMARY:64th Canadian Power Toboggan Championships
DESCRIPTION:
URL:https://ourhomeyourhome.ca/event/64th-canadian-power-toboggan-championships/
LOCATION:Co-Op Community Complex\, 71032\, MB-302\, Beausejour\, MB\, R0E 0C0\, Canada
ORGANIZER;CN="CPTC":MAILTO:info@cptcracing.com
END:VEVENT
BEGIN:VEVENT
DTSTART;TZID=America/Winnipeg:20260308T100000
DTEND;TZID=America/Winnipeg:20260308T100000
DTSTAMP:20260423T145036
CREATED:20260128T155711Z
LAST-MODIFIED:20260128T155711Z
UID:2615-1772964000-1772964000@ourhomeyourhome.ca
SUMMARY:64th Canadian Power Toboggan Championships
DESCRIPTION:
URL:https://ourhomeyourhome.ca/event/64th-canadian-power-toboggan-championships-2/
LOCATION:Co-Op Community Complex\, 71032\, MB-302\, Beausejour\, MB\, R0E 0C0\, Canada
ORGANIZER;CN="CPTC":MAILTO:info@cptcracing.com
END:VEVENT
BEGIN:VEVENT
DTSTART;VALUE=DATE:20260310
DTEND;VALUE=DATE:20260312
DTSTAMP:20260423T145036
CREATED:20260108T182419Z
LAST-MODIFIED:20260108T182419Z
UID:2518-1773100800-1773273599@ourhomeyourhome.ca
SUMMARY:Farmers Bonspiel | Beausejour Curling Club
DESCRIPTION:Beausejour Curling Club will be hosting the Farmers Bonspiel on March 10 & 11. \nMore details to come\, visit beausejourcurlingclub.ca for more information or contact beausejourcurlingclub@gmail.com with any questions.
URL:https://ourhomeyourhome.ca/event/farmers-bonspiel-beausejour-curling-club/
LOCATION:Beausejour Curling Club\, 360 Veterans Lane\, BEAUSEJOUR\, MANITOBA\, R0E 0C0\, Canada
END:VEVENT
BEGIN:VEVENT
DTSTART;VALUE=DATE:20260313
DTEND;VALUE=DATE:20260315
DTSTAMP:20260423T145036
CREATED:20260114T163818Z
LAST-MODIFIED:20260114T163818Z
UID:2556-1773360000-1773532799@ourhomeyourhome.ca
SUMMARY:Ladies Bonspiel | Tyndall Curling Club
DESCRIPTION:Come watch the Ladies Bonspiel at Tyndall Curling Club on March 13 & 14. Follow Tyndall Curling Club on Facebook to stay up to date!
URL:https://ourhomeyourhome.ca/event/ladies-bonspiel-tyndall-curling-club/
LOCATION:Tyndall Curling Club\, 8 Second Street\, Tyndall\, Manitoba\, R0E 2B0\, Canada
END:VEVENT
BEGIN:VEVENT
DTSTART;TZID=UTC:20260313T183000
DTEND;TZID=UTC:20260313T183000
DTSTAMP:20260423T145036
CREATED:20251008T020243Z
LAST-MODIFIED:20251008T020243Z
UID:2351-1773426600-1773426600@ourhomeyourhome.ca
SUMMARY:Trivia Night
DESCRIPTION:
URL:https://ourhomeyourhome.ca/event/trivia-night/
LOCATION:Tyndall Village Community Centre\, 69 Pierson Drive\, Tyndall\, Manitoba\, R0E 2B0\, Canada
ORGANIZER;CN="Pioneer Village Museum":MAILTO:PVMchair@outlook.com
END:VEVENT
BEGIN:VEVENT
DTSTART;VALUE=DATE:20260314
DTEND;VALUE=DATE:20260315
DTSTAMP:20260423T145036
CREATED:20260302T182910Z
LAST-MODIFIED:20260302T182910Z
UID:2686-1773446400-1773532799@ourhomeyourhome.ca
SUMMARY:Seedy Saturday
DESCRIPTION:
URL:https://ourhomeyourhome.ca/event/seedy-saturday-2/
LOCATION:St Paul’s United Church\, 730 James Avenue\, Beausejour\, Manitoba\, R0E0C0\, Canada
END:VEVENT
BEGIN:VEVENT
DTSTART;TZID=UTC:20260314T110000
DTEND;TZID=UTC:20260314T150000
DTSTAMP:20260423T145036
CREATED:20251007T202422Z
LAST-MODIFIED:20251007T202422Z
UID:2341-1773486000-1773500400@ourhomeyourhome.ca
SUMMARY:St. Patrick's Day Market
DESCRIPTION:
URL:https://ourhomeyourhome.ca/event/st-patricks-day-market/
LOCATION:Beau Head Seniors Centre\, 645 Park Ave.\, Beausejour\, Manitoba\, R0E0C0\, Canada
ORGANIZER;CN="m & a markets":MAILTO:garandash@hotmail.com
END:VEVENT
BEGIN:VEVENT
DTSTART;TZID=America/Winnipeg:20260314T163000
DTEND;TZID=America/Winnipeg:20260314T163000
DTSTAMP:20260423T145036
CREATED:20260223T195142Z
LAST-MODIFIED:20260223T195142Z
UID:2682-1773505800-1773505800@ourhomeyourhome.ca
SUMMARY:St. Patricks' Day Dinner
DESCRIPTION:
URL:https://ourhomeyourhome.ca/event/st-patricks-day-dinner/
LOCATION:Garson Centennial Community Centre\, 11 Thompson Ave\, Garson\, Manitoba\, R0E 0R0\, Canada
END:VEVENT
BEGIN:VEVENT
DTSTART;TZID=America/Winnipeg:20260315T120000
DTEND;TZID=America/Winnipeg:20260315T120000
DTSTAMP:20260423T145036
CREATED:20260115T165512Z
LAST-MODIFIED:20260115T165512Z
UID:2564-1773576000-1773576000@ourhomeyourhome.ca
SUMMARY:Meat Bingo | Garson Hall
DESCRIPTION:
URL:https://ourhomeyourhome.ca/event/meat-bingo-garson-hall/2026-03-15/
LOCATION:Garson Centennial Community Centre\, 11 Thompson Ave\, Garson\, Manitoba\, R0E 0R0\, Canada
END:VEVENT
BEGIN:VEVENT
DTSTART;TZID=UTC:20260315T133000
DTEND;TZID=UTC:20260315T133000
DTSTAMP:20260423T145036
CREATED:20251202T212225Z
LAST-MODIFIED:20251202T212225Z
UID:2481-1773581400-1773581400@ourhomeyourhome.ca
SUMMARY:Winnipeg Jets Watch Party
DESCRIPTION:
URL:https://ourhomeyourhome.ca/event/winnipeg-jets-watch-party-2/
LOCATION:Brokenhead River Community Hall\, 320 Veterans Lane\, Beausejour\, Mb\, R0E 0C0\, Canada
END:VEVENT
BEGIN:VEVENT
DTSTART;TZID=America/Winnipeg:20260318T140000
DTEND;TZID=America/Winnipeg:20260318T200000
DTSTAMP:20260423T145036
CREATED:20260205T160507Z
LAST-MODIFIED:20260205T160507Z
UID:2620-1773842400-1773864000@ourhomeyourhome.ca
SUMMARY:Sunrise School Division Job Fair
DESCRIPTION:
URL:https://ourhomeyourhome.ca/event/sunrise-school-division-job-fair/
LOCATION:Sunrise Education Centre\, 344 Second Street N\, Beausejour\, Manitoba\, R0E0C0\, Canada
END:VEVENT
BEGIN:VEVENT
DTSTART;TZID=America/Winnipeg:20260319T160000
DTEND;TZID=America/Winnipeg:20260319T190000
DTSTAMP:20260423T145036
CREATED:20260218T175652Z
LAST-MODIFIED:20260218T175652Z
UID:2661-1773936000-1773946800@ourhomeyourhome.ca
SUMMARY:Beausejour Bears Community Night
DESCRIPTION:
URL:https://ourhomeyourhome.ca/event/beausejour-bears-community-night/
LOCATION:Manitoba
END:VEVENT
BEGIN:VEVENT
DTSTART;VALUE=DATE:20260320
DTEND;VALUE=DATE:20260322
DTSTAMP:20260423T145036
CREATED:20260108T182616Z
LAST-MODIFIED:20260108T182616Z
UID:2520-1773964800-1774137599@ourhomeyourhome.ca
SUMMARY:Open Bonspiel | Beausejour Curling Club
DESCRIPTION:Beausejour Curling Club will be hosting the Open Bonspiel on March 20 & 21! \nMore details to come\, visit beausejourcurlingclub.ca for more information or contact beausejourcurlingclub@gmail.com with any questions.
URL:https://ourhomeyourhome.ca/event/open-bonspiel-beausejour-curling-club/
LOCATION:Beausejour Curling Club\, 360 Veterans Lane\, BEAUSEJOUR\, MANITOBA\, R0E 0C0\, Canada
END:VEVENT
BEGIN:VEVENT
DTSTART;TZID=America/Winnipeg:20260320T083000
DTEND;TZID=America/Winnipeg:20260320T160000
DTSTAMP:20260423T145036
CREATED:20260212T145737Z
LAST-MODIFIED:20260212T145737Z
UID:2636-1773995400-1774022400@ourhomeyourhome.ca
SUMMARY:Detective Day | Tyndall
DESCRIPTION:DETECTIVE DAY IN-SERVICE\n\n\n 8:30 AM – 4:00 PM\n $25\n\n\n FRIDAY\, MARCH 20\n\n\n Tyndall Village Community Center\n\n\n\n Mission for the Day: Solve mysteries\, follow clues\, crack codes\, and complete secret detective challenges!\n\n\n\n EMAIL: tyndallrec@gmail.com to register your child\n\n\n\n GAMES • CRAFTS • MYSTERIES & MORE
URL:https://ourhomeyourhome.ca/event/detective-day-tyndall/
LOCATION:Tyndall Village Community Centre\, 69 Pierson Drive\, Tyndall\, Manitoba\, R0E 2B0\, Canada
ORGANIZER;CN="Tyndall Recreational Program Inc.":MAILTO:tyndallrec@gmail.com
END:VEVENT
BEGIN:VEVENT
DTSTART;TZID=America/Winnipeg:20260320T190000
DTEND;TZID=America/Winnipeg:20260320T210000
DTSTAMP:20260423T145036
CREATED:20260317T152301Z
LAST-MODIFIED:20260317T152301Z
UID:2705-1774033200-1774040400@ourhomeyourhome.ca
SUMMARY:Library Connections
DESCRIPTION:
URL:https://ourhomeyourhome.ca/event/library-connections-2/
LOCATION:Brokenhead River Regional Library\, 427 Park Avenue\, Beausejour\, Manitoba\, R0E0C0\, Canada
END:VEVENT
BEGIN:VEVENT
DTSTART;TZID=America/Winnipeg:20260320T191500
DTEND;TZID=America/Winnipeg:20260320T220000
DTSTAMP:20260423T145036
CREATED:20260223T143017Z
LAST-MODIFIED:20260223T143017Z
UID:2679-1774034100-1774044000@ourhomeyourhome.ca
SUMMARY:Music Bingo | Beausejour Legion
DESCRIPTION:Pre-Register your team of 2 by emailing entertainmentrclbeausejour@gmail.comMaximum of 50 Teams.$5 per game per person\, 3 games will be played.
URL:https://ourhomeyourhome.ca/event/music-bingo-beausejour-legion-3/
LOCATION:Beausejour Legion #132\, 300 Veterans Lane\, Beausejour\, Manitoba\, R0E 0C0\, Canada
END:VEVENT
BEGIN:VEVENT
DTSTART;TZID=America/Winnipeg:20260322T100000
DTEND;TZID=America/Winnipeg:20260322T150000
DTSTAMP:20260423T145036
CREATED:20260305T152103Z
LAST-MODIFIED:20260305T152103Z
UID:2692-1774173600-1774191600@ourhomeyourhome.ca
SUMMARY:Community Garage Sale | Garson
DESCRIPTION:
URL:https://ourhomeyourhome.ca/event/community-garage-sale-garson/
LOCATION:Garson Centennial Community Centre\, 11 Thompson Ave\, Garson\, Manitoba\, R0E 0R0\, Canada
END:VEVENT
BEGIN:VEVENT
DTSTART;VALUE=DATE:20260326
DTEND;VALUE=DATE:20260330
DTSTAMP:20260423T145036
CREATED:20260108T182817Z
LAST-MODIFIED:20260220T143311Z
UID:2522-1774483200-1774828799@ourhomeyourhome.ca
SUMMARY:Mens and Womens Curling Club Provincial Championships
DESCRIPTION:Visit beausejourcurlingclub.ca for more information or contact beausejourcurlingclub@gmail.com with any questions.
URL:https://ourhomeyourhome.ca/event/mens-and-womens-curling-club-provincial-championships/
LOCATION:Beausejour Curling Club\, 360 Veterans Lane\, BEAUSEJOUR\, MANITOBA\, R0E 0C0\, Canada
END:VEVENT
BEGIN:VEVENT
DTSTART;TZID=America/Winnipeg:20260327T190000
DTEND;TZID=America/Winnipeg:20260327T190000
DTSTAMP:20260423T145036
CREATED:20260312T143259Z
LAST-MODIFIED:20260312T143259Z
UID:2702-1774638000-1774638000@ourhomeyourhome.ca
SUMMARY:Open Mic Night
DESCRIPTION:
URL:https://ourhomeyourhome.ca/event/open-mic-night/
LOCATION:Beausejour Hotel/BJ’s Bar\, 610 Park Ave\, Beausejour\, Manitoba\, R0E 0C0\, Canada
END:VEVENT
BEGIN:VEVENT
DTSTART;TZID=America/Winnipeg:20260327T190000
DTEND;TZID=America/Winnipeg:20260327T190000
DTSTAMP:20260423T145036
CREATED:20260324T183338Z
LAST-MODIFIED:20260324T183338Z
UID:2735-1774638000-1774638000@ourhomeyourhome.ca
SUMMARY:Open Mic Night
DESCRIPTION:Got talent? Or just love a good night out? Come join us for an unforgettable evening of music\, laughs\, and local vibes!\n\n\n\n Friday\, March 27th\n 7:00 PM\n Beausejour Hotel – 610 Park Avenue\n\n\n\n Sing\, play\, perform—or just sit back and enjoy the show!\n Great drinks\, great crowd\, and even better entertainment\n\n\n All skill levels welcome — step up to the mic!
URL:https://ourhomeyourhome.ca/event/open-mic-night-2/
LOCATION:Beausejour Hotel/BJ’s Bar\, 610 Park Ave\, Beausejour\, Manitoba\, R0E 0C0\, Canada
END:VEVENT
BEGIN:VEVENT
DTSTART;TZID=America/Winnipeg:20260328T200000
DTEND;TZID=America/Winnipeg:20260328T200000
DTSTAMP:20260423T145036
CREATED:20260218T182400Z
LAST-MODIFIED:20260218T182400Z
UID:2664-1774728000-1774728000@ourhomeyourhome.ca
SUMMARY:The Bowman Brothers
DESCRIPTION:Tickets can be purchased at the Legion Office\, Tuesday-Thursday 9-4pm. Or call the office 204-268-1549 or 204-403-2152 to arrange for tickets.
URL:https://ourhomeyourhome.ca/event/the-bowman-brothers/
LOCATION:Beausejour Legion #132\, 300 Veterans Lane\, Beausejour\, Manitoba\, R0E 0C0\, Canada
END:VEVENT
END:VCALENDAR