BEGIN:VCALENDAR
VERSION:2.0
PRODID:-//BBDC - ECPv6.15.13//NONSGML v1.0//EN
CALSCALE:GREGORIAN
METHOD:PUBLISH
X-ORIGINAL-URL:https://ourhomeyourhome.ca
X-WR-CALDESC:Events for BBDC
REFRESH-INTERVAL;VALUE=DURATION:PT1H
X-Robots-Tag:noindex
X-PUBLISHED-TTL:PT1H
BEGIN:VTIMEZONE
TZID:America/Winnipeg
BEGIN:DAYLIGHT
TZOFFSETFROM:-0600
TZOFFSETTO:-0500
TZNAME:CDT
DTSTART:20250309T080000
END:DAYLIGHT
BEGIN:STANDARD
TZOFFSETFROM:-0500
TZOFFSETTO:-0600
TZNAME:CST
DTSTART:20251102T070000
END:STANDARD
BEGIN:DAYLIGHT
TZOFFSETFROM:-0600
TZOFFSETTO:-0500
TZNAME:CDT
DTSTART:20260308T080000
END:DAYLIGHT
BEGIN:STANDARD
TZOFFSETFROM:-0500
TZOFFSETTO:-0600
TZNAME:CST
DTSTART:20261101T070000
END:STANDARD
BEGIN:DAYLIGHT
TZOFFSETFROM:-0600
TZOFFSETTO:-0500
TZNAME:CDT
DTSTART:20270314T080000
END:DAYLIGHT
BEGIN:STANDARD
TZOFFSETFROM:-0500
TZOFFSETTO:-0600
TZNAME:CST
DTSTART:20271107T070000
END:STANDARD
END:VTIMEZONE
BEGIN:VTIMEZONE
TZID:UTC
BEGIN:STANDARD
TZOFFSETFROM:+0000
TZOFFSETTO:+0000
TZNAME:UTC
DTSTART:20250101T000000
END:STANDARD
END:VTIMEZONE
BEGIN:VEVENT
DTSTART;TZID=America/Winnipeg:20260315T120000
DTEND;TZID=America/Winnipeg:20260315T120000
DTSTAMP:20260423T125839
CREATED:20260115T165512Z
LAST-MODIFIED:20260115T165512Z
UID:2564-1773576000-1773576000@ourhomeyourhome.ca
SUMMARY:Meat Bingo | Garson Hall
DESCRIPTION:
URL:https://ourhomeyourhome.ca/event/meat-bingo-garson-hall/2026-03-15/
LOCATION:Garson Centennial Community Centre\, 11 Thompson Ave\, Garson\, Manitoba\, R0E 0R0\, Canada
END:VEVENT
BEGIN:VEVENT
DTSTART;TZID=UTC:20260315T133000
DTEND;TZID=UTC:20260315T133000
DTSTAMP:20260423T125839
CREATED:20251202T212225Z
LAST-MODIFIED:20251202T212225Z
UID:2481-1773581400-1773581400@ourhomeyourhome.ca
SUMMARY:Winnipeg Jets Watch Party
DESCRIPTION:
URL:https://ourhomeyourhome.ca/event/winnipeg-jets-watch-party-2/
LOCATION:Brokenhead River Community Hall\, 320 Veterans Lane\, Beausejour\, Mb\, R0E 0C0\, Canada
END:VEVENT
BEGIN:VEVENT
DTSTART;TZID=America/Winnipeg:20260318T140000
DTEND;TZID=America/Winnipeg:20260318T200000
DTSTAMP:20260423T125839
CREATED:20260205T160507Z
LAST-MODIFIED:20260205T160507Z
UID:2620-1773842400-1773864000@ourhomeyourhome.ca
SUMMARY:Sunrise School Division Job Fair
DESCRIPTION:
URL:https://ourhomeyourhome.ca/event/sunrise-school-division-job-fair/
LOCATION:Sunrise Education Centre\, 344 Second Street N\, Beausejour\, Manitoba\, R0E0C0\, Canada
END:VEVENT
BEGIN:VEVENT
DTSTART;TZID=America/Winnipeg:20260319T160000
DTEND;TZID=America/Winnipeg:20260319T190000
DTSTAMP:20260423T125839
CREATED:20260218T175652Z
LAST-MODIFIED:20260218T175652Z
UID:2661-1773936000-1773946800@ourhomeyourhome.ca
SUMMARY:Beausejour Bears Community Night
DESCRIPTION:
URL:https://ourhomeyourhome.ca/event/beausejour-bears-community-night/
LOCATION:Manitoba
END:VEVENT
BEGIN:VEVENT
DTSTART;VALUE=DATE:20260320
DTEND;VALUE=DATE:20260322
DTSTAMP:20260423T125839
CREATED:20260108T182616Z
LAST-MODIFIED:20260108T182616Z
UID:2520-1773964800-1774137599@ourhomeyourhome.ca
SUMMARY:Open Bonspiel | Beausejour Curling Club
DESCRIPTION:Beausejour Curling Club will be hosting the Open Bonspiel on March 20 & 21! \nMore details to come\, visit beausejourcurlingclub.ca for more information or contact beausejourcurlingclub@gmail.com with any questions.
URL:https://ourhomeyourhome.ca/event/open-bonspiel-beausejour-curling-club/
LOCATION:Beausejour Curling Club\, 360 Veterans Lane\, BEAUSEJOUR\, MANITOBA\, R0E 0C0\, Canada
END:VEVENT
BEGIN:VEVENT
DTSTART;TZID=America/Winnipeg:20260320T083000
DTEND;TZID=America/Winnipeg:20260320T160000
DTSTAMP:20260423T125839
CREATED:20260212T145737Z
LAST-MODIFIED:20260212T145737Z
UID:2636-1773995400-1774022400@ourhomeyourhome.ca
SUMMARY:Detective Day | Tyndall
DESCRIPTION:DETECTIVE DAY IN-SERVICE\n\n\n 8:30 AM – 4:00 PM\n $25\n\n\n FRIDAY\, MARCH 20\n\n\n Tyndall Village Community Center\n\n\n\n Mission for the Day: Solve mysteries\, follow clues\, crack codes\, and complete secret detective challenges!\n\n\n\n EMAIL: tyndallrec@gmail.com to register your child\n\n\n\n GAMES • CRAFTS • MYSTERIES & MORE
URL:https://ourhomeyourhome.ca/event/detective-day-tyndall/
LOCATION:Tyndall Village Community Centre\, 69 Pierson Drive\, Tyndall\, Manitoba\, R0E 2B0\, Canada
ORGANIZER;CN="Tyndall Recreational Program Inc.":MAILTO:tyndallrec@gmail.com
END:VEVENT
BEGIN:VEVENT
DTSTART;TZID=America/Winnipeg:20260320T190000
DTEND;TZID=America/Winnipeg:20260320T210000
DTSTAMP:20260423T125839
CREATED:20260317T152301Z
LAST-MODIFIED:20260317T152301Z
UID:2705-1774033200-1774040400@ourhomeyourhome.ca
SUMMARY:Library Connections
DESCRIPTION:
URL:https://ourhomeyourhome.ca/event/library-connections-2/
LOCATION:Brokenhead River Regional Library\, 427 Park Avenue\, Beausejour\, Manitoba\, R0E0C0\, Canada
END:VEVENT
BEGIN:VEVENT
DTSTART;TZID=America/Winnipeg:20260320T191500
DTEND;TZID=America/Winnipeg:20260320T220000
DTSTAMP:20260423T125839
CREATED:20260223T143017Z
LAST-MODIFIED:20260223T143017Z
UID:2679-1774034100-1774044000@ourhomeyourhome.ca
SUMMARY:Music Bingo | Beausejour Legion
DESCRIPTION:Pre-Register your team of 2 by emailing entertainmentrclbeausejour@gmail.comMaximum of 50 Teams.$5 per game per person\, 3 games will be played.
URL:https://ourhomeyourhome.ca/event/music-bingo-beausejour-legion-3/
LOCATION:Beausejour Legion #132\, 300 Veterans Lane\, Beausejour\, Manitoba\, R0E 0C0\, Canada
END:VEVENT
BEGIN:VEVENT
DTSTART;TZID=America/Winnipeg:20260322T100000
DTEND;TZID=America/Winnipeg:20260322T150000
DTSTAMP:20260423T125839
CREATED:20260305T152103Z
LAST-MODIFIED:20260305T152103Z
UID:2692-1774173600-1774191600@ourhomeyourhome.ca
SUMMARY:Community Garage Sale | Garson
DESCRIPTION:
URL:https://ourhomeyourhome.ca/event/community-garage-sale-garson/
LOCATION:Garson Centennial Community Centre\, 11 Thompson Ave\, Garson\, Manitoba\, R0E 0R0\, Canada
END:VEVENT
BEGIN:VEVENT
DTSTART;VALUE=DATE:20260326
DTEND;VALUE=DATE:20260330
DTSTAMP:20260423T125839
CREATED:20260108T182817Z
LAST-MODIFIED:20260220T143311Z
UID:2522-1774483200-1774828799@ourhomeyourhome.ca
SUMMARY:Mens and Womens Curling Club Provincial Championships
DESCRIPTION:Visit beausejourcurlingclub.ca for more information or contact beausejourcurlingclub@gmail.com with any questions.
URL:https://ourhomeyourhome.ca/event/mens-and-womens-curling-club-provincial-championships/
LOCATION:Beausejour Curling Club\, 360 Veterans Lane\, BEAUSEJOUR\, MANITOBA\, R0E 0C0\, Canada
END:VEVENT
BEGIN:VEVENT
DTSTART;TZID=America/Winnipeg:20260327T190000
DTEND;TZID=America/Winnipeg:20260327T190000
DTSTAMP:20260423T125839
CREATED:20260312T143259Z
LAST-MODIFIED:20260312T143259Z
UID:2702-1774638000-1774638000@ourhomeyourhome.ca
SUMMARY:Open Mic Night
DESCRIPTION:
URL:https://ourhomeyourhome.ca/event/open-mic-night/
LOCATION:Beausejour Hotel/BJ’s Bar\, 610 Park Ave\, Beausejour\, Manitoba\, R0E 0C0\, Canada
END:VEVENT
BEGIN:VEVENT
DTSTART;TZID=America/Winnipeg:20260327T190000
DTEND;TZID=America/Winnipeg:20260327T190000
DTSTAMP:20260423T125839
CREATED:20260324T183338Z
LAST-MODIFIED:20260324T183338Z
UID:2735-1774638000-1774638000@ourhomeyourhome.ca
SUMMARY:Open Mic Night
DESCRIPTION:Got talent? Or just love a good night out? Come join us for an unforgettable evening of music\, laughs\, and local vibes!\n\n\n\n Friday\, March 27th\n 7:00 PM\n Beausejour Hotel – 610 Park Avenue\n\n\n\n Sing\, play\, perform—or just sit back and enjoy the show!\n Great drinks\, great crowd\, and even better entertainment\n\n\n All skill levels welcome — step up to the mic!
URL:https://ourhomeyourhome.ca/event/open-mic-night-2/
LOCATION:Beausejour Hotel/BJ’s Bar\, 610 Park Ave\, Beausejour\, Manitoba\, R0E 0C0\, Canada
END:VEVENT
BEGIN:VEVENT
DTSTART;TZID=America/Winnipeg:20260328T200000
DTEND;TZID=America/Winnipeg:20260328T200000
DTSTAMP:20260423T125839
CREATED:20260218T182400Z
LAST-MODIFIED:20260218T182400Z
UID:2664-1774728000-1774728000@ourhomeyourhome.ca
SUMMARY:The Bowman Brothers
DESCRIPTION:Tickets can be purchased at the Legion Office\, Tuesday-Thursday 9-4pm. Or call the office 204-268-1549 or 204-403-2152 to arrange for tickets.
URL:https://ourhomeyourhome.ca/event/the-bowman-brothers/
LOCATION:Beausejour Legion #132\, 300 Veterans Lane\, Beausejour\, Manitoba\, R0E 0C0\, Canada
END:VEVENT
BEGIN:VEVENT
DTSTART;TZID=America/Winnipeg:20260329T130000
DTEND;TZID=America/Winnipeg:20260329T130000
DTSTAMP:20260423T125839
CREATED:20260326T155407Z
LAST-MODIFIED:20260326T155407Z
UID:2746-1774789200-1774789200@ourhomeyourhome.ca
SUMMARY:Meat Bingo | Beausejour Legion
DESCRIPTION:
URL:https://ourhomeyourhome.ca/event/meat-bingo-beausejour-legion/
LOCATION:Beausejour Legion #132\, 300 Veterans Lane\, Beausejour\, Manitoba\, R0E 0C0\, Canada
END:VEVENT
BEGIN:VEVENT
DTSTART;TZID=America/Winnipeg:20260404T090000
DTEND;TZID=America/Winnipeg:20260404T110000
DTSTAMP:20260423T125839
CREATED:20260219T213420Z
LAST-MODIFIED:20260219T213420Z
UID:2667-1775293200-1775300400@ourhomeyourhome.ca
SUMMARY:Easter Pancake Breakfast | Garson
DESCRIPTION:
URL:https://ourhomeyourhome.ca/event/easter-pancake-breakfast-garson/
LOCATION:Garson Centennial Community Centre\, 11 Thompson Ave\, Garson\, Manitoba\, R0E 0R0\, Canada
END:VEVENT
BEGIN:VEVENT
DTSTART;TZID=America/Winnipeg:20260404T100000
DTEND;TZID=America/Winnipeg:20260404T150000
DTSTAMP:20260423T125839
CREATED:20260108T180336Z
LAST-MODIFIED:20260326T160146Z
UID:2505-1775296800-1775314800@ourhomeyourhome.ca
SUMMARY:Easter Market | Tyndall
DESCRIPTION:
URL:https://ourhomeyourhome.ca/event/easter-market-2/
LOCATION:Tyndall Village Community Centre\, 69 Pierson Drive\, Tyndall\, Manitoba\, R0E 2B0\, Canada
ORGANIZER;CN="m & a markets":MAILTO:garandash@hotmail.com
END:VEVENT
BEGIN:VEVENT
DTSTART;TZID=America/Winnipeg:20260407T130000
DTEND;TZID=America/Winnipeg:20260407T170000
DTSTAMP:20260423T125839
CREATED:20260318T151300Z
LAST-MODIFIED:20260326T160216Z
UID:2712-1775566800-1775581200@ourhomeyourhome.ca
SUMMARY:Club 50 Old Time Dance | Beausejour
DESCRIPTION:
URL:https://ourhomeyourhome.ca/event/club-50-old-time-dance-9/
LOCATION:Brokenhead River Community Hall\, 320 Veterans Lane\, Beausejour\, Mb\, R0E 0C0\, Canada
END:VEVENT
BEGIN:VEVENT
DTSTART;TZID=America/Winnipeg:20260411T100000
DTEND;TZID=America/Winnipeg:20260411T160000
DTSTAMP:20260423T125839
CREATED:20260309T205930Z
LAST-MODIFIED:20260309T205930Z
UID:2696-1775901600-1775923200@ourhomeyourhome.ca
SUMMARY:18th Annual Tyndall Eagles Tin for the Bin
DESCRIPTION:
URL:https://ourhomeyourhome.ca/event/18th-annual-tyndall-eagles-tin-for-the-bin/
LOCATION:Tyndall Curling Club\, 8 Second Street\, Tyndall\, Manitoba\, R0E 2B0\, Canada
END:VEVENT
BEGIN:VEVENT
DTSTART;TZID=America/Winnipeg:20260411T130000
DTEND;TZID=America/Winnipeg:20260411T130000
DTSTAMP:20260423T125839
CREATED:20260407T141555Z
LAST-MODIFIED:20260407T141906Z
UID:2778-1775912400-1775912400@ourhomeyourhome.ca
SUMMARY:Crib & Meat Draw | Beausejour Legion
DESCRIPTION:Please note there will be no Crib & Meat Draw events on long weekends.
URL:https://ourhomeyourhome.ca/event/crib-meat-draw-beausejour-legion/2026-04-11/
LOCATION:Beausejour Legion #132\, 300 Veterans Lane\, Beausejour\, Manitoba\, R0E 0C0\, Canada
END:VEVENT
BEGIN:VEVENT
DTSTART;TZID=America/Winnipeg:20260412T120000
DTEND;TZID=America/Winnipeg:20260412T120000
DTSTAMP:20260423T125839
CREATED:20260115T165512Z
LAST-MODIFIED:20260115T165512Z
UID:2565-1775995200-1775995200@ourhomeyourhome.ca
SUMMARY:Meat Bingo | Garson Hall
DESCRIPTION:
URL:https://ourhomeyourhome.ca/event/meat-bingo-garson-hall/2026-04-12/
LOCATION:Garson Centennial Community Centre\, 11 Thompson Ave\, Garson\, Manitoba\, R0E 0R0\, Canada
END:VEVENT
BEGIN:VEVENT
DTSTART;TZID=America/Winnipeg:20260412T173000
DTEND;TZID=America/Winnipeg:20260412T193000
DTSTAMP:20260423T125839
CREATED:20260325T184846Z
LAST-MODIFIED:20260325T184927Z
UID:2739-1776015000-1776022200@ourhomeyourhome.ca
SUMMARY:Paint The Ice | Beausejour Sportsplex
DESCRIPTION:
URL:https://ourhomeyourhome.ca/event/paint-the-ice-beausejour-sportsplex/
LOCATION:Beausejour Sportsplex\, 360 Veterans Lane\, Beausejour\, Manitoba\, Canada
ORGANIZER;CN="Beauhead Arts Fest":MAILTO:beauheadartsfest@gmail.com
END:VEVENT
BEGIN:VEVENT
DTSTART;TZID=America/Winnipeg:20260416T190000
DTEND;TZID=America/Winnipeg:20260416T190000
DTSTAMP:20260423T125839
CREATED:20260331T141528Z
LAST-MODIFIED:20260331T141602Z
UID:2755-1776366000-1776366000@ourhomeyourhome.ca
SUMMARY:Movie Night | Beausejour
DESCRIPTION:Community Movie Night \n\n\n\nJoin us for a fun night out on Thursday\, April 16th at 7:00 PM!\n\n\n\n Brokenhead River Community Hall\n\n\n\n $5.00 Entry\n Ages 12 & under are FREE\n Snacks available for purchase\n\n\n\n Help us choose the movie – vote for your pick on Brokenhead River Recreation’s Facebook Page!\n\nThe winning movie will be announced on Thursday\, April 2nd!\n\n\n\nBring your friends\, family\, and cozy blankets—we can’t wait to see you there!
URL:https://ourhomeyourhome.ca/event/2755/
LOCATION:Brokenhead River Community Hall\, 320 Veterans Lane\, Beausejour\, Mb\, R0E 0C0\, Canada
ORGANIZER;CN="Brokenhead River Recreation Commission":MAILTO:programdirector@brokenheadriverrec.com
END:VEVENT
BEGIN:VEVENT
DTSTART;TZID=America/Winnipeg:20260417T190000
DTEND;TZID=America/Winnipeg:20260417T210000
DTSTAMP:20260423T125839
CREATED:20260414T163611Z
LAST-MODIFIED:20260414T163611Z
UID:2890-1776452400-1776459600@ourhomeyourhome.ca
SUMMARY:Library Connections | Beausejour
DESCRIPTION:
URL:https://ourhomeyourhome.ca/event/library-connections-beausejour/
LOCATION:Brokenhead River Regional Library\, 427 Park Avenue\, Beausejour\, Manitoba\, R0E0C0\, Canada
END:VEVENT
BEGIN:VEVENT
DTSTART;TZID=America/Winnipeg:20260417T191500
DTEND;TZID=America/Winnipeg:20260417T220000
DTSTAMP:20260423T125839
CREATED:20260325T185503Z
LAST-MODIFIED:20260325T190026Z
UID:2742-1776453300-1776463200@ourhomeyourhome.ca
SUMMARY:Music Bingo | Beausejour Legion
DESCRIPTION:
URL:https://ourhomeyourhome.ca/event/music-bingo/
LOCATION:Beausejour Legion #132\, 300 Veterans Lane\, Beausejour\, Manitoba\, R0E 0C0\, Canada
END:VEVENT
BEGIN:VEVENT
DTSTART;TZID=America/Winnipeg:20260418T110000
DTEND;TZID=America/Winnipeg:20260418T150000
DTSTAMP:20260423T125840
CREATED:20260318T154528Z
LAST-MODIFIED:20260318T154528Z
UID:2715-1776510000-1776524400@ourhomeyourhome.ca
SUMMARY:BBFD Open House & Grand Opening
DESCRIPTION:We’ve got a new hall\, a new truck\, and we want to show you both.Join us for our Grand Opening and Open House on April 18 from 11am to 3pm. Tours of the new hall\, a vehicle extrication demo\, a live burn demo\, a smoke trailer activity\, a bouncy castle\, and hot dogs by donation in support of the Robert Rittwage Memorial Scholarship Fund.Mark your calendars. We’ll see you there. April 18 | 11am to 3pm 71061 PR302
URL:https://ourhomeyourhome.ca/event/bbfd-open-house-grand-opening/
LOCATION:Manitoba
END:VEVENT
BEGIN:VEVENT
DTSTART;TZID=America/Winnipeg:20260418T130000
DTEND;TZID=America/Winnipeg:20260418T130000
DTSTAMP:20260423T125840
CREATED:20260114T201206Z
LAST-MODIFIED:20260114T201206Z
UID:2558-1776517200-1776517200@ourhomeyourhome.ca
SUMMARY:Open Doubles Cribbage Tournament | Beausejour Legion
DESCRIPTION:
URL:https://ourhomeyourhome.ca/event/open-doubles-cribbage-tournament-beausejour-legion/
LOCATION:Beausejour Legion #132\, 300 Veterans Lane\, Beausejour\, Manitoba\, R0E 0C0\, Canada
END:VEVENT
BEGIN:VEVENT
DTSTART;TZID=America/Winnipeg:20260418T130000
DTEND;TZID=America/Winnipeg:20260418T130000
DTSTAMP:20260423T125840
CREATED:20260407T141555Z
LAST-MODIFIED:20260407T141906Z
UID:2780-1776517200-1776517200@ourhomeyourhome.ca
SUMMARY:Crib & Meat Draw | Beausejour Legion
DESCRIPTION:Please note there will be no Crib & Meat Draw events on long weekends.
URL:https://ourhomeyourhome.ca/event/crib-meat-draw-beausejour-legion/2026-04-18/
LOCATION:Beausejour Legion #132\, 300 Veterans Lane\, Beausejour\, Manitoba\, R0E 0C0\, Canada
END:VEVENT
BEGIN:VEVENT
DTSTART;TZID=America/Winnipeg:20260418T173000
DTEND;TZID=America/Winnipeg:20260418T173000
DTSTAMP:20260423T125840
CREATED:20260217T160037Z
LAST-MODIFIED:20260326T160253Z
UID:2655-1776533400-1776533400@ourhomeyourhome.ca
SUMMARY:Quiz Night | Garson
DESCRIPTION:
URL:https://ourhomeyourhome.ca/event/quiz-night-2/
LOCATION:Garson Centennial Community Centre\, 11 Thompson Ave\, Garson\, Manitoba\, R0E 0R0\, Canada
END:VEVENT
BEGIN:VEVENT
DTSTART;TZID=America/Winnipeg:20260422T170000
DTEND;TZID=America/Winnipeg:20260422T170000
DTSTAMP:20260423T125840
CREATED:20260407T142416Z
LAST-MODIFIED:20260407T142416Z
UID:2858-1776877200-1776877200@ourhomeyourhome.ca
SUMMARY:Youth in Philanthropy Meeting | BRCF
DESCRIPTION:
URL:https://ourhomeyourhome.ca/event/youth-in-philanthropy-meeting-brcf/
LOCATION:Century 21 Board Room\, 644 Park Avenue\, Beausejour\, Manitoba\, R0E0C0\, Canada
ORGANIZER;CN="Brokenhead River Community Foundation":MAILTO:brcf@brcfoundation.ca
END:VEVENT
BEGIN:VEVENT
DTSTART;TZID=America/Winnipeg:20260425T100000
DTEND;TZID=America/Winnipeg:20260425T150000
DTSTAMP:20260423T125840
CREATED:20260310T140607Z
LAST-MODIFIED:20260310T140607Z
UID:2699-1777111200-1777129200@ourhomeyourhome.ca
SUMMARY:Annual Spring Craft Sale | Garson
DESCRIPTION:Tables available!! Please email everkress@gmail.com if interested & please state what it is you sell
URL:https://ourhomeyourhome.ca/event/annual-spring-craft-sale-garson/
LOCATION:Garson Centennial Community Centre\, 11 Thompson Ave\, Garson\, Manitoba\, R0E 0R0\, Canada
END:VEVENT
END:VCALENDAR