BEGIN:VCALENDAR
VERSION:2.0
PRODID:-//BBDC - ECPv6.15.13//NONSGML v1.0//EN
CALSCALE:GREGORIAN
METHOD:PUBLISH
X-WR-CALNAME:BBDC
X-ORIGINAL-URL:https://ourhomeyourhome.ca
X-WR-CALDESC:Events for BBDC
REFRESH-INTERVAL;VALUE=DURATION:PT1H
X-Robots-Tag:noindex
X-PUBLISHED-TTL:PT1H
BEGIN:VTIMEZONE
TZID:UTC
BEGIN:STANDARD
TZOFFSETFROM:+0000
TZOFFSETTO:+0000
TZNAME:UTC
DTSTART:20210101T000000
END:STANDARD
END:VTIMEZONE
BEGIN:VEVENT
DTSTART;TZID=UTC:20221126T090000
DTEND;TZID=UTC:20221126T130000
DTSTAMP:20260419T161857
CREATED:20221107T234527Z
LAST-MODIFIED:20221107T234528Z
UID:686-1669453200-1669467600@ourhomeyourhome.ca
SUMMARY:Winter Showcase
DESCRIPTION:Tarantism Dance Company is hosting a Community Pancake Breakfast\, pictures with Santa\, and Winter Market! \nCome and watch your local dancers while getting your Christmas Shopping done! \nEnjoy pancakes with Santa and live entertainment!
URL:https://ourhomeyourhome.ca/event/winter-showcase/
LOCATION:Brokenhead River Community Hall\, 320 Veterans Lane\, Beausejour\, Mb\, R0E 0C0\, Canada
ATTACH;FMTTYPE=image/jpeg:https://ourhomeyourhome.ca/wp-content/uploads/2022/11/Winter-Showcase.jpg
ORGANIZER;CN="Tarantism Dance Company":MAILTO:info@tarantismdance.com
END:VEVENT
BEGIN:VEVENT
DTSTART;TZID=UTC:20221120T170000
DTEND;TZID=UTC:20221120T220000
DTSTAMP:20260419T161857
CREATED:20221121T041748Z
LAST-MODIFIED:20221121T041748Z
UID:695-1668963600-1668981600@ourhomeyourhome.ca
SUMMARY:109th Grey Cup on the Big Screen
DESCRIPTION:Head down to the Beausejour Legion #132 to watch the Winnipeg Blue Bombers come out victorious against the Toronto Argonauts in the 109th Grey Cup! Pool table is open\, beverages are cold\, and chili will be served at halftime! \nGame time is 5pm
URL:https://ourhomeyourhome.ca/event/109th-grey-cup-on-the-big-screen/
LOCATION:Beausejour Legion #132\, 300 Veterans Lane\, Beausejour\, Manitoba\, R0E 0C0\, Canada
ATTACH;FMTTYPE=image/jpeg:https://ourhomeyourhome.ca/wp-content/uploads/2022/11/fbo-cfl-grey-cup-20211212.jpeg
END:VEVENT
BEGIN:VEVENT
DTSTART;TZID=UTC:20221111T093000
DTEND;TZID=UTC:20221111T120000
DTSTAMP:20260419T161857
CREATED:20221105T000213Z
LAST-MODIFIED:20221105T000214Z
UID:676-1668159000-1668168000@ourhomeyourhome.ca
SUMMARY:Remembrance Day Service
DESCRIPTION:Friday\, November 11\nRemembrance Day Service at Brokenhead Community Hall\nDoors open at 9:30AM\nFollowing\, a light lunch served in the hall\nRoyal Canadian Legion #132 will be open\, memberships can be renewed.
URL:https://ourhomeyourhome.ca/event/remembrance-day-service/
LOCATION:Brokenhead River Community Hall\, 320 Veterans Lane\, Beausejour\, Mb\, R0E 0C0\, Canada
ATTACH;FMTTYPE=image/jpeg:https://ourhomeyourhome.ca/wp-content/uploads/2022/11/Website-10.jpg
END:VEVENT
BEGIN:VEVENT
DTSTART;TZID=UTC:20221105T170000
DTEND;TZID=UTC:20221105T223000
DTSTAMP:20260419T161857
CREATED:20221020T234200Z
LAST-MODIFIED:20221104T231825Z
UID:613-1667667600-1667687400@ourhomeyourhome.ca
SUMMARY:Jon Ljungberg & Free Ride Dinner Theatre
DESCRIPTION:
URL:https://ourhomeyourhome.ca/event/jon-ljungberg-free-ride-dinner-theatre/
LOCATION:Garson Centennial Community Centre\, 11 Thompson Ave\, Garson\, Manitoba\, R0E 0R0\, Canada
ATTACH;FMTTYPE=image/png:https://ourhomeyourhome.ca/wp-content/uploads/2022/10/Website-10.png
END:VEVENT
BEGIN:VEVENT
DTSTART;TZID=UTC:20221104T110000
DTEND;TZID=UTC:20221104T200000
DTSTAMP:20260419T161857
CREATED:20221105T091555Z
LAST-MODIFIED:20221105T091555Z
UID:679-1667559600-1667592000@ourhomeyourhome.ca
SUMMARY:Beausejour Annual Xmas Show and Sale
DESCRIPTION:
URL:https://ourhomeyourhome.ca/event/beausejour-annual-xmas-show-and-sale/2022-11-04/
LOCATION:Brokenhead River Community Hall\, 320 Veterans Lane\, Beausejour\, Mb\, R0E 0C0\, Canada
ATTACH;FMTTYPE=image/jpeg:https://ourhomeyourhome.ca/wp-content/uploads/2022/10/Website-9.jpg
END:VEVENT
BEGIN:VEVENT
DTSTART;TZID=UTC:20221029T110000
DTEND;TZID=UTC:20221029T190000
DTSTAMP:20260419T161857
CREATED:20221007T023832Z
LAST-MODIFIED:20221007T023851Z
UID:594-1667041200-1667070000@ourhomeyourhome.ca
SUMMARY:Halloween Market with Al Simmons
DESCRIPTION:
URL:https://ourhomeyourhome.ca/event/halloween-market/
LOCATION:Brokenhead River Community Hall\, 320 Veterans Lane\, Beausejour\, Mb\, R0E 0C0\, Canada
ATTACH;FMTTYPE=image/png:https://ourhomeyourhome.ca/wp-content/uploads/2022/10/Website-8.png
END:VEVENT
BEGIN:VEVENT
DTSTART;TZID=UTC:20221028T193000
DTEND;TZID=UTC:20221028T193000
DTSTAMP:20260419T161857
CREATED:20221027T013945Z
LAST-MODIFIED:20221027T014009Z
UID:648-1666985400-1666985400@ourhomeyourhome.ca
SUMMARY:Winnipeg Blue Bombers VS BC Lions on the Big Screen
DESCRIPTION:Head down to the Beausejour Legion #132 to watch the Winnipeg Blue Bombers come out victorious against the BC Lions! Pool table is open and the beverages are cold! \nGame time is 7:30pm \nChase the Ace from 5-8pm
URL:https://ourhomeyourhome.ca/event/blue-bombers-vs-bc-lions-on-the-big-screen/
LOCATION:Beausejour Legion #132\, 300 Veterans Lane\, Beausejour\, Manitoba\, R0E 0C0\, Canada
ATTACH;FMTTYPE=image/png:https://ourhomeyourhome.ca/wp-content/uploads/2022/10/Website-13.png
END:VEVENT
BEGIN:VEVENT
DTSTART;TZID=UTC:20221028T170000
DTEND;TZID=UTC:20221028T200000
DTSTAMP:20260419T161857
CREATED:20221027T014340Z
LAST-MODIFIED:20221027T014340Z
UID:655-1666976400-1666987200@ourhomeyourhome.ca
SUMMARY:Chase the Ace
DESCRIPTION:Chase the Ace at Beausejour Legion \nSales between 5 and 8 pm with draw at 8 pm \nPool tables open and beverages cold! \nSupport your local Royal Canadian Legion #132
URL:https://ourhomeyourhome.ca/event/chase-the-ace/2022-10-28/
LOCATION:Beausejour Legion #132\, 300 Veterans Lane\, Beausejour\, Manitoba\, R0E 0C0\, Canada
ATTACH;FMTTYPE=image/png:https://ourhomeyourhome.ca/wp-content/uploads/2022/10/Website-14.png
END:VEVENT
BEGIN:VEVENT
DTSTART;TZID=UTC:20221015T170000
DTEND;TZID=UTC:20221015T210000
DTSTAMP:20260419T161857
CREATED:20221007T022257Z
LAST-MODIFIED:20221007T022258Z
UID:584-1665853200-1665867600@ourhomeyourhome.ca
SUMMARY:Fall Supper
DESCRIPTION:Beausejour Pioneer Village Museum presents the 2nd annual Fall supper Fundraiser!
URL:https://ourhomeyourhome.ca/event/fall-supper/
LOCATION:Brokenhead River Community Hall\, 320 Veterans Lane\, Beausejour\, Mb\, R0E 0C0\, Canada
ATTACH;FMTTYPE=image/png:https://ourhomeyourhome.ca/wp-content/uploads/2022/10/Website-6.png
END:VEVENT
BEGIN:VEVENT
DTSTART;TZID=UTC:20221006T130000
DTEND;TZID=UTC:20221006T160000
DTSTAMP:20260419T161857
CREATED:20221007T015512Z
LAST-MODIFIED:20221007T015512Z
UID:570-1665061200-1665072000@ourhomeyourhome.ca
SUMMARY:Club 50
DESCRIPTION:This 50+ event takes place the first Tuesday of each month at Brokenhead River Community Hall. Join friends for an afternoon of music\, refreshments\, and camaraderie! \nCall Lucille at 204-755-2821 for more details or simply show up for a fun time!
URL:https://ourhomeyourhome.ca/event/club-50/2022-10-06/
LOCATION:Brokenhead River Community Hall\, 320 Veterans Lane\, Beausejour\, Mb\, R0E 0C0\, Canada
ATTACH;FMTTYPE=image/png:https://ourhomeyourhome.ca/wp-content/uploads/2022/10/Website-4.png
END:VEVENT
BEGIN:VEVENT
DTSTART;TZID=UTC:20221001T170000
DTEND;TZID=UTC:20221001T220000
DTSTAMP:20260419T161857
CREATED:20220820T022230Z
LAST-MODIFIED:20221014T221521Z
UID:517-1664643600-1664661600@ourhomeyourhome.ca
SUMMARY:Fall Supper
DESCRIPTION:In support of the Brokenhead River Community Hall with entertainment Adam T. Elvis! \nSilent Auction & Door Prizes \nCocktails at 5pm\, Dinner 6pm\, Entertainment 7pm \nBuffet menu:\nBrown sugar mustard glazed ham\nMeatballs and gravy\nPotato cheddar perogies with all the fixin’s\nSlow baked cabbage rolls in tomato sauce\nButter whipped mashed potatoes\nHoney dill carrots\nCaesar Salad\nCoffee and dessert \nTickets $35\, to purchase: Glen (Beausejour) 204-266-2756\, Karen (Beausejour) 204-268-3150\, Roger (Beausejour Mon\,Tues\,Wed) 204-612-2433\, Ashley (Blumenort/Winnipeg) 204-509-3897 \nAdditional information\, call Melissa at 204-205-2522
URL:https://ourhomeyourhome.ca/event/fall-supper-fundraiser/
LOCATION:Brokenhead River Community Hall\, 320 Veterans Lane\, Beausejour\, Mb\, R0E 0C0\, Canada
ATTACH;FMTTYPE=image/jpeg:https://ourhomeyourhome.ca/wp-content/uploads/2022/08/Fall-Supper.jpg
END:VEVENT
BEGIN:VEVENT
DTSTART;VALUE=DATE:20220909
DTEND;VALUE=DATE:20220912
DTSTAMP:20260419T161857
CREATED:20220728T010452Z
LAST-MODIFIED:20220803T020849Z
UID:488-1662681600-1662940799@ourhomeyourhome.ca
SUMMARY:Double B Ag Fest & Rodeo
DESCRIPTION:Enjoy three days jam packed with adventure! Double B Ag Fest brings back the rodeo\, midway\, parade\, fireworks and more! \nFollow Brokenhead Agricultural Society on Facebook for updates!
URL:https://ourhomeyourhome.ca/event/double-b-agriculture-festival-and-rodeo/
LOCATION:Co-Op Community Complex\, 71032\, MB-302\, Beausejour\, MB\, R0E 0C0\, Canada
ATTACH;FMTTYPE=image/jpeg:https://ourhomeyourhome.ca/wp-content/uploads/2022/07/70904641_1124642857925965_5712771455364628480_n.jpg
ORGANIZER;CN="Brokenhead Agricultural Society":MAILTO:brokenheadag@outlook.com
END:VEVENT
BEGIN:VEVENT
DTSTART;VALUE=DATE:20220901
DTEND;VALUE=DATE:20220915
DTSTAMP:20260419T161857
CREATED:20220830T230224Z
LAST-MODIFIED:20220830T231057Z
UID:541-1661990400-1663199999@ourhomeyourhome.ca
SUMMARY:Chamber Eats Burger Contest
DESCRIPTION:The Beausejour District Chamber of Commerce hosts the annual #ChamberEats burger contest\, September 1 – 14\, 2022! \nEnjoy 7 burger creations available for a limited time only\, and vote on your favourite online at chambereats.ca at each of the participating restaurants\, or at the Town of Beausejour office (639 Park Ave\, Beausejour). \nThis interactive festival connects local people to local food. Order a Chamber Eats creation\, share it online and vote for a chance to ​win gift cards! \nDownload 10% off coupons on the #ChamberEats website! \n 
URL:https://ourhomeyourhome.ca/event/chamber-eats-burger-contest/
LOCATION:Manitoba
ATTACH;FMTTYPE=image/jpeg:https://ourhomeyourhome.ca/wp-content/uploads/2022/08/300973546_753025602779813_3051182709754454817_n.jpg
ORGANIZER;CN="Beausejour District Chamber of Commerce":MAILTO:beausejourchamber@gmail.com
END:VEVENT
BEGIN:VEVENT
DTSTART;TZID=UTC:20220828T203000
DTEND;TZID=UTC:20220828T220000
DTSTAMP:20260419T161857
CREATED:20220825T024508Z
LAST-MODIFIED:20220825T024508Z
UID:535-1661718600-1661724000@ourhomeyourhome.ca
SUMMARY:Drive in Movie - Footloose!
DESCRIPTION:See Footloose on the big screen! Join us after Shades of the Past with a drive-in movie at CPTC! \nStarts at dusk. \n$20 per car\, concession on site\, 50/50 draw! \nHosted by Lions Club International
URL:https://ourhomeyourhome.ca/event/drive-in-movie-footloose/
LOCATION:Co-Op Community Complex\, 71032\, MB-302\, Beausejour\, MB\, R0E 0C0\, Canada
ATTACH;FMTTYPE=image/png:https://ourhomeyourhome.ca/wp-content/uploads/2022/08/Untitled-design-20.png
END:VEVENT
BEGIN:VEVENT
DTSTART;TZID=UTC:20220828T100000
DTEND;TZID=UTC:20220828T150000
DTSTAMP:20260419T161857
CREATED:20220708T230323Z
LAST-MODIFIED:20220708T231500Z
UID:432-1661680800-1661698800@ourhomeyourhome.ca
SUMMARY:Shades of the Past Car Show
DESCRIPTION:Get your engines ready! Don’t miss Beausejour Brokenheads best car show\, back and better than ever! \nEnjoy hundreds of specialty and vintage cars showcased in our bustling business district!
URL:https://ourhomeyourhome.ca/event/shades-of-the-past-car-show/
LOCATION:Park Avenue\, Beausejour\, Park Avenue\, Beausejour\, Manitoba\, R0E 0C0\, Canada
ATTACH;FMTTYPE=image/jpeg:https://ourhomeyourhome.ca/wp-content/uploads/2022/07/DG1K0100-W-d_gershman_photo.jpg
ORGANIZER;CN="Jack Komadowski":MAILTO:jkomadow@mts.net
END:VEVENT
BEGIN:VEVENT
DTSTART;TZID=UTC:20220826T190000
DTEND;TZID=UTC:20220826T233000
DTSTAMP:20260419T161857
CREATED:20220721T213345Z
LAST-MODIFIED:20220721T213345Z
UID:467-1661540400-1661556600@ourhomeyourhome.ca
SUMMARY:Century 21 Sun Country Realty Glow Golf Tournament
DESCRIPTION:Come and support your local Foundation\, and register for Century 21 Sun Country Realty’s very first annual GLOW GOLF TOURNAMENT! \nOpen to all skill levels! \nThe evening will include a 9-Hole Texas Scramble\, complimentary tapas\, and a drink ticket! You will receive 3 glow golf balls\, a flashlight\, and glow items to illuminate you and your golf bag as you play! \nDate: August 26th\, 2022\nCost: $60 per golfer\nShotgun start at 8:30pm\nRegistration deadline: August 8th\, 2022\nAll proceeds will be donated to the Brokenhead River Community Foundation. \nContact Jared Black at (204) 268-2011\, or email jared.black@century21.ca to register your foursome! \n 
URL:https://ourhomeyourhome.ca/event/century-21-sun-country-realty-glow-golf-tournament/
LOCATION:Rivers Edge Golf Course\, 72039 Rd 43E\, Beausejour\, Manitoba\, Canada
ATTACH;FMTTYPE=image/jpeg:https://ourhomeyourhome.ca/wp-content/uploads/2022/07/Untitled-design-2.jpg
ORGANIZER;CN="Rivers Edge Golf Course":MAILTO:riversedgegolf2021@gmail.com
END:VEVENT
BEGIN:VEVENT
DTSTART;TZID=UTC:20220820T080000
DTEND;TZID=UTC:20220820T170000
DTSTAMP:20260419T161857
CREATED:20220708T021057Z
LAST-MODIFIED:20220708T021057Z
UID:405-1660982400-1661014800@ourhomeyourhome.ca
SUMMARY:Rivers Edge Mens Open
DESCRIPTION:Rivers Edge Mens Open hosted by Rivers Edge Golf Course. \nThis beautiful 9-hole course is surrounded by forest and wildlife while the Brokenhead River winds throughout the course for a truly inviting and unique experience! \nView course website for details and updates.
URL:https://ourhomeyourhome.ca/event/rivers-edge-mens-open/
LOCATION:Rivers Edge Golf Course\, 72039 Rd 43E\, Beausejour\, Manitoba\, Canada
ATTACH;FMTTYPE=image/jpeg:https://ourhomeyourhome.ca/wp-content/uploads/2022/07/Website-7.jpg
END:VEVENT
BEGIN:VEVENT
DTSTART;TZID=UTC:20220814T110000
DTEND;TZID=UTC:20220814T160000
DTSTAMP:20260419T161857
CREATED:20220806T002809Z
LAST-MODIFIED:20220810T011011Z
UID:507-1660474800-1660492800@ourhomeyourhome.ca
SUMMARY:Cruise’n Events Airliner Drive-In Show n Shine
DESCRIPTION:Criuse’n Events returns to the Airliner Drive In\, Sunday August 14th from 11:00 till 4:00 for a show and shine featuring the Manitoba Mustangs as well as the 204 Mustangs! \nTwilight Productions will be cranking out the tunes\, twin images will be getting the great pictures and Simply RC will be there with the cool toys! There will be mini donuts and the Tikki hut will be open! \nCar admission is $5 \nEnjoy the day\, great food\, and beautiful cars at the Airliner Drive In!
URL:https://ourhomeyourhome.ca/event/cruisen-events-airliner-drive-in-show-n-shine/
LOCATION:Airliner Drive-In\, First Street North\, Beausejour\, Manitoba\, R0E 0C0\, Canada
ATTACH;FMTTYPE=image/jpeg:https://ourhomeyourhome.ca/wp-content/uploads/2022/06/Untitled-design.jpg
END:VEVENT
BEGIN:VEVENT
DTSTART;TZID=UTC:20220813T080000
DTEND;TZID=UTC:20220813T170000
DTSTAMP:20260419T161857
CREATED:20220708T021131Z
LAST-MODIFIED:20220708T021131Z
UID:404-1660377600-1660410000@ourhomeyourhome.ca
SUMMARY:Rivers Edge Ladies Open
DESCRIPTION:Rivers Edge Ladies Open hosted by Rivers Edge Golf Course. \nThis beautiful 9-hole course is surrounded by forest and wildlife while the Brokenhead River winds throughout the course for a truly inviting and unique experience! \nView course website for details and updates.
URL:https://ourhomeyourhome.ca/event/rivers-edge-ladies-open/
LOCATION:Rivers Edge Golf Course\, 72039 Rd 43E\, Beausejour\, Manitoba\, Canada
ATTACH;FMTTYPE=image/jpeg:https://ourhomeyourhome.ca/wp-content/uploads/2022/07/Website-6.jpg
END:VEVENT
BEGIN:VEVENT
DTSTART;TZID=UTC:20220806T100000
DTEND;TZID=UTC:20220806T140000
DTSTAMP:20260419T161857
CREATED:20220805T232956Z
LAST-MODIFIED:20220805T232956Z
UID:501-1659780000-1659794400@ourhomeyourhome.ca
SUMMARY:Gardens\, Parks & Treasures Poker Derby
DESCRIPTION:Come to the Beausejour Daylily Gardens August 6\, registration at 10am \nDerby hands are $10 each or 3/$25\nMaps are provided to 5 locations within the Town of Beausejour\nBest 3 hands will share the pot\nEvent runs from 10 am to 2 pm\nYou can walk\, run\, bike or take your vehicle! \nThe Country Misfits (a group of 8 local muscians) are playing the Daylily Gardens Poker Derby! Three different sets hit the stage at 11:30\, 12:30 and 1:30! \nSupport the Gardens by joining in the Poker Derby or just come for Gramma’s Market\, enjoy the gardens\, the FREE music and enjoy a hot dog lunch! \n204-268-3377 (Iris Bialek) for information \nFind the Beausejour Daylily Gardens on Facebook! 
URL:https://ourhomeyourhome.ca/event/gardens-parks-treasures-poker-derby/
LOCATION:Beausejour Daylily Gardens\, First St N\, Beausejour\, Manitoba\, Canada
ATTACH;FMTTYPE=image/jpeg:https://ourhomeyourhome.ca/wp-content/uploads/2022/08/Untitled-design-4.jpg
END:VEVENT
BEGIN:VEVENT
DTSTART;TZID=UTC:20220731T120000
DTEND;TZID=UTC:20220731T170000
DTSTAMP:20260419T161857
CREATED:20220708T010403Z
LAST-MODIFIED:20220708T011400Z
UID:388-1659268800-1659286800@ourhomeyourhome.ca
SUMMARY:Superior Inn Outdoor Sunday Market
DESCRIPTION:Don’t miss the Superior Inn Outdoor Sunday Markets! Located in #Beausejour\, this market offers outstanding vendors\, tasty food and treats\, live music and a beautiful community to explore during your visit! \nFind them on Facebook!
URL:https://ourhomeyourhome.ca/event/388/2022-07-31/
LOCATION:Breezy Oaks Inn & Tavern\, 1055 Park Avenue\, Beausejour\, Manitoba\, R0E 0C0\, Canada
ATTACH;FMTTYPE=image/jpeg:https://ourhomeyourhome.ca/wp-content/uploads/2022/07/Website-5.jpg
END:VEVENT
BEGIN:VEVENT
DTSTART;TZID=UTC:20220724T083000
DTEND;TZID=UTC:20220724T210000
DTSTAMP:20260419T161857
CREATED:20220708T011914Z
LAST-MODIFIED:20220708T011914Z
UID:395-1658651400-1658696400@ourhomeyourhome.ca
SUMMARY:Manitoba Gospel Jamboree
DESCRIPTION:The Manitoba Gospel Jamboree is an annual event gathering the best musical talent from Manitoba and beyond. Held during the 3rd weekend in July each year we look forward to our 28th Year.  \nClick here to view the full music schedule! \n\n\n\n\n  \n\n\n\n\nManitoba Gospel Jamboree Location: \nCPTC Race Plex (Pescitelli Rd and Hwy 302\, Beausejour\, MB R0E 0C0 Canada) \n\nSaturday July 23\, 2022  Noon to 9:00 pm \nSunday July 24\, 2022  8:30 am to 9:00 pm (includes pancake breakfast 8:30 – 9:30 am) \nSunday Worship Service at 10:00 am with Pastor Mark Woods. \n\n  \nCost: $ 10 per person/day \nThere is Free camping at the CPTC Grounds for non-serviced sites \n  \nFor more information view the Manitoba Gospel Jamboree Facebook Page or click here to view the website.
URL:https://ourhomeyourhome.ca/event/manitoba-gospel-jamboree-2/
LOCATION:Co-Op Community Complex\, 71032\, MB-302\, Beausejour\, MB\, R0E 0C0\, Canada
ATTACH;FMTTYPE=image/jpeg:https://ourhomeyourhome.ca/wp-content/uploads/2022/07/Website-3.jpg
END:VEVENT
BEGIN:VEVENT
DTSTART;TZID=UTC:20220723T120000
DTEND;TZID=UTC:20220723T210000
DTSTAMP:20260419T161857
CREATED:20220708T004250Z
LAST-MODIFIED:20220716T023753Z
UID:373-1658577600-1658610000@ourhomeyourhome.ca
SUMMARY:Manitoba Gospel Jamboree
DESCRIPTION:The Manitoba Gospel Jamboree is an annual event gathering the best musical talent from Manitoba and beyond. Held during the 3rd weekend in July each year we look forward to our 28th Year.  \nClick here to view the full music schedule! \n\n\n\n\n  \n\n\n\n\nManitoba Gospel Jamboree Location: \nCPTC Race Plex (Pescitelli Rd and Hwy 302\, Beausejour\, MB R0E 0C0 Canada) \n\nSaturday July 23\, 2022  Noon to 9:00 pm \nSunday July 24\, 2022  8:30 am to 9:00 pm (includes pancake breakfast 8:30 – 9:30 am) \nSunday Worship Service at 10:00 am with Pastor Mark Woods. \n\n  \nCost: $ 10 per person/day \nThere is Free camping at the CPTC Grounds for non-serviced sites \nGospel Jamboree The Clipper Article\nFor more information view the Manitoba Gospel Jamboree Facebook Page or click here to view the website.
URL:https://ourhomeyourhome.ca/event/manitoba-gospel-jamboree/
LOCATION:Co-Op Community Complex\, 71032\, MB-302\, Beausejour\, MB\, R0E 0C0\, Canada
ATTACH;FMTTYPE=image/jpeg:https://ourhomeyourhome.ca/wp-content/uploads/2022/07/Website-3.jpg
END:VEVENT
BEGIN:VEVENT
DTSTART;TZID=UTC:20220717T110000
DTEND;TZID=UTC:20220717T160000
DTSTAMP:20260419T161857
CREATED:20220608T224038Z
LAST-MODIFIED:20220708T225414Z
UID:297-1658055600-1658073600@ourhomeyourhome.ca
SUMMARY:20th Anniversary of the Beausejour Daylily Gardens
DESCRIPTION:Celebrate with us! The 20th Anniversary of the Daylily Gardens is Sunday\, July 17! Presentation and cake cutting at 1pm! \nEnjoy live music at the Daylily Stage\, a farmers market\, ice cream\, food trucks and more from 11am-4pm Sundays throughout the summer at Beausejour Daylily Gardens\, bring a chair! \nThe Beausejour Daylily Gardens are a crown jewel in the community\, offering a source of pride and a place of peace and beauty to local residents and tourists alike. From humble beginnings in 2002\, the Beausejour Daylily Gardens has become a world-class showcase of 600 daylily cultivars\, thousands of irises\, peonies\, lilies\, and many ornamental shrubs and trees.  As an AHS and CHS display garden\, its purpose is to educate the public and showcase modern daylily cultivars. Dedicated volunteers tend the vast gardens. There is public seating\, an information area\, an arbor\, and lovely pathways to explore all the gorgeous flowers. It is a lovely place to take in the sunrise or sunset\, and is a fantastic place for aspiring photographers. \nThe Beausejour Daylily Gardens have been recognized internationally as the coldest American Hemerocallis Society (AHS) display garden on the planet\, and the only AHS display garden on the Canadian Prairies. \nThe gardens are conveniently located on First Street\, directly off of Highway 44. \nMore information can be found on Facebook or on our website. \n 
URL:https://ourhomeyourhome.ca/event/summer-sundays-at-the-daylily-gardens-2022-07-17/
LOCATION:Beausejour Daylily Gardens\, First St N\, Beausejour\, Manitoba\, Canada
ATTACH;FMTTYPE=image/jpeg:https://ourhomeyourhome.ca/wp-content/uploads/2022/06/Lily.jpg
END:VEVENT
BEGIN:VEVENT
DTSTART;TZID=UTC:20220708T140000
DTEND;TZID=UTC:20220708T190000
DTSTAMP:20260419T161857
CREATED:20220708T002152Z
LAST-MODIFIED:20220708T004554Z
UID:357-1657288800-1657306800@ourhomeyourhome.ca
SUMMARY:Beausejour Farmers Market
DESCRIPTION:Find fresh baking\, local seasonal fruits and vegetables\, crafts and handmade goods\, collectibles and more! \nAlso enjoy hot food and live music at the Beausejour Farmers Market! \nFridays\, 2- 7 pm\, July- September at Green Oak Gardens\, on Hwy 44\, 2 km East of Beausejour\, weather permitting. \nFind more information and vendor details on the Beausejour Farmers Market Facebook Page!
URL:https://ourhomeyourhome.ca/event/beausejour-farmers-market/2022-07-08/
LOCATION:Green Oak Gardens\, 43044 Provincial Trunk Hwy 44\, Beausejour\, Manitoba\, R0E 0C0\, Canada
ATTACH;FMTTYPE=image/jpeg:https://ourhomeyourhome.ca/wp-content/uploads/2022/07/Website-2.jpg
END:VEVENT
BEGIN:VEVENT
DTSTART;TZID=UTC:20220625T083000
DTEND;TZID=UTC:20220625T150000
DTSTAMP:20260419T161857
CREATED:20220608T223453Z
LAST-MODIFIED:20220608T225028Z
UID:288-1656145800-1656169200@ourhomeyourhome.ca
SUMMARY:Get Active Beausejour
DESCRIPTION:This awesome one day event celebrates all the ways you can get active in Beausejour and will be the official grand opening to the Rail Trail. Some of the great activities to check out and take part in are: \nBeausejour Fun Run or Walk 1k\, 2k\, or 5k! \nFarmers Market\, Food Trucks \nLive Stage with entertainment\, mini-workouts\, games & activities \nGet to know your local Community Groups and recreation services \nRegister to participate in the fun run or walk\, to be a vendor in the Farmers Market\, to showcase your community organization\, or to volunteer! \nRegister Here
URL:https://ourhomeyourhome.ca/event/get-active-beausejour/
LOCATION:Train Whistle Park\, 100 Third St S\, Beausejour\, Manitoba\, R0E 0C0\, Canada
ATTACH;FMTTYPE=image/png:https://ourhomeyourhome.ca/wp-content/uploads/2022/06/Get-active.png
END:VEVENT
BEGIN:VEVENT
DTSTART;TZID=UTC:20220625T080000
DTEND;TZID=UTC:20220625T200000
DTSTAMP:20260419T161857
CREATED:20220609T001547Z
LAST-MODIFIED:20220609T002020Z
UID:326-1656144000-1656187200@ourhomeyourhome.ca
SUMMARY:First Annual Rivers Edge Scramble
DESCRIPTION:Hosted by Rivers Edge Golf Course in Beausejour \n18 holes of golf\, power cart\, lunch/dinner\, prizes and a $10\,000 hole in one contest! \n8am or 1:30 start\, $125 per player\, register as a foursome \nRegister by email: riversedgegolf2021@gmail.com by Sunday June 11
URL:https://ourhomeyourhome.ca/event/first-annual-rivers-edge-scramble/
LOCATION:Rivers Edge Golf Course\, 72039 Rd 43E\, Beausejour\, Manitoba\, Canada
ATTACH;FMTTYPE=image/jpeg:https://ourhomeyourhome.ca/wp-content/uploads/2022/06/Golf.jpg
END:VEVENT
BEGIN:VEVENT
DTSTART;TZID=UTC:20220619T110000
DTEND;TZID=UTC:20220619T160000
DTSTAMP:20260419T161857
CREATED:20220608T224038Z
LAST-MODIFIED:20220825T025000Z
UID:292-1655636400-1655654400@ourhomeyourhome.ca
SUMMARY:Summer Sundays at the Daylily Gardens
DESCRIPTION:Enjoy live music at the Daylily Stage\, a farmers market\, ice cream\, food trucks and more from 11am-4pm Sundays throughout the summer at Beausejour Daylily Gardens! \nCelebrate with us! The 20th Anniversary of the Daylily Gardens is Sunday\, July 17! Bring a chair! \nThe Beausejour Daylily Gardens are a crown jewel in the community\, offering a source of pride and a place of peace and beauty to local residents and tourists alike. From humble beginnings in 2002\, the Beausejour Daylily Gardens has become a world-class showcase of 600 daylily cultivars\, thousands of irises\, peonies\, lilies\, and many ornamental shrubs and trees.  As an AHS and CHS display garden\, its purpose is to educate the public and showcase modern daylily cultivars. Dedicated volunteers tend the vast gardens. There is public seating\, an information area\, an arbor\, and lovely pathways to explore all the gorgeous flowers. It is a lovely place to take in the sunrise or sunset\, and is a fantastic place for aspiring photographers. \nThe Beausejour Daylily Gardens have been recognized internationally as the coldest American Hemerocallis Society (AHS) display garden on the planet\, and the only AHS display garden on the Canadian Prairies. \nThe gardens are conveniently located on First Street\, directly off of Highway 44. \nMore information can be found on Facebook or on our website. \n 
URL:https://ourhomeyourhome.ca/event/summer-sundays-at-the-daylily-gardens/2022-06-19/
LOCATION:Beausejour Daylily Gardens\, First St N\, Beausejour\, Manitoba\, Canada
ATTACH;FMTTYPE=image/png:https://ourhomeyourhome.ca/wp-content/uploads/2022/06/Website.png
END:VEVENT
BEGIN:VEVENT
DTSTART;TZID=UTC:20220617T140000
DTEND;TZID=UTC:20220617T200000
DTSTAMP:20260419T161857
CREATED:20220608T222341Z
LAST-MODIFIED:20220708T021412Z
UID:192-1655474400-1655496000@ourhomeyourhome.ca
SUMMARY:Gramma’s Summer Outdoor Markets at Dencross Corner
DESCRIPTION:Come support small businesses in the community. \nDencross Corner Café located 15 minutes North of Beausejour at the corner of HWY # 12 and HWY #317
URL:https://ourhomeyourhome.ca/event/grammas-summer-outdoor-markets/2022-06-17/
LOCATION:Dencross Cornerstone Cafe
ATTACH;FMTTYPE=image/jpeg:https://ourhomeyourhome.ca/wp-content/uploads/2022/06/Local-Market-scaled.jpg
ORGANIZER;CN="Arlene":MAILTO:afs_57@icloud.com
END:VEVENT
BEGIN:VEVENT
DTSTART;VALUE=DATE:20220305
DTEND;VALUE=DATE:20220307
DTSTAMP:20260419T161857
CREATED:20220602T003536Z
LAST-MODIFIED:20220602T003708Z
UID:188-1646438400-1646611199@ourhomeyourhome.ca
SUMMARY:60th Annual Canadian Power Toboggan Championships (CPTC)
DESCRIPTION:The fastest racers in the world? A world-class racing track made of pure ice? Speeds of over 160 km/hr? Head over to Beausejour for the most adrenaline-fueled races in Manitoba! This two-day\, speed infused\, family-friendly event attracts over 100 racers\, and thousands of spectators from all over North America to take part in this elite international race. \n  \nUpcoming Events: \n59th Annual Championship – December 11 & 12 \n60th Annual Championship – March 5 & 6 \n  \nLocation: \nCPTC Iceplex \n71032\, MB-302 \nBeausejour\, MB
URL:https://ourhomeyourhome.ca/event/60th-annual-canadian-power-toboggan-championships-cptc/
LOCATION:Co-Op Community Complex\, 71032\, MB-302\, Beausejour\, MB\, R0E 0C0\, Canada
ATTACH;FMTTYPE=image/jpeg:https://ourhomeyourhome.ca/wp-content/uploads/2021/11/Untitled-3.jpg
END:VEVENT
END:VCALENDAR