BEGIN:VCALENDAR
VERSION:2.0
PRODID:-//BBDC - ECPv6.15.13//NONSGML v1.0//EN
CALSCALE:GREGORIAN
METHOD:PUBLISH
X-WR-CALNAME:BBDC
X-ORIGINAL-URL:https://ourhomeyourhome.ca
X-WR-CALDESC:Events for BBDC
REFRESH-INTERVAL;VALUE=DURATION:PT1H
X-Robots-Tag:noindex
X-PUBLISHED-TTL:PT1H
BEGIN:VTIMEZONE
TZID:UTC
BEGIN:STANDARD
TZOFFSETFROM:+0000
TZOFFSETTO:+0000
TZNAME:UTC
DTSTART:20240101T000000
END:STANDARD
END:VTIMEZONE
BEGIN:VEVENT
DTSTART;TZID=UTC:20251018T130000
DTEND;TZID=UTC:20251018T160000
DTSTAMP:20260420T020023
CREATED:20250926T185621Z
LAST-MODIFIED:20250926T185621Z
UID:2310-1760792400-1760803200@ourhomeyourhome.ca
SUMMARY:Community Halloween Party
DESCRIPTION:
URL:https://ourhomeyourhome.ca/event/community-halloween-party/
LOCATION:Zion Lutheran Church\, 403 First Street North\, Beausejour\, Manitoba\, R0E0C0\, Canada
ORGANIZER;CN="Beausejour Lions Club":MAILTO:ilaruth.hlatky@gmail.com
END:VEVENT
BEGIN:VEVENT
DTSTART;TZID=UTC:20251019T120000
DTEND;TZID=UTC:20251019T120000
DTSTAMP:20260420T020023
CREATED:20250103T211235Z
LAST-MODIFIED:20251010T204738Z
UID:1870-1760875200-1760875200@ourhomeyourhome.ca
SUMMARY:Garson Hall Meat Bingo
DESCRIPTION:Doors open at noon with bingo starting at 1pm! \n$3 for your first card and $1 for each additional card. \nBingo will be held on October 19\, November 16\, February 15\, March 15\, April 12
URL:https://ourhomeyourhome.ca/event/garson-hall-meat-bingo/2025-10-19/
LOCATION:Garson Centennial Community Centre\, 11 Thompson Ave\, Garson\, Manitoba\, R0E 0R0\, Canada
ORGANIZER;CN="Garson Centennial Community Centre":MAILTO:garsonhallmb@gmail.com
END:VEVENT
BEGIN:VEVENT
DTSTART;TZID=UTC:20251021T183000
DTEND;TZID=UTC:20251021T203000
DTSTAMP:20260420T020023
CREATED:20250923T204121Z
LAST-MODIFIED:20251009T182952Z
UID:2300-1761071400-1761078600@ourhomeyourhome.ca
SUMMARY:Speed Networking | Beausejour & District Chamber
DESCRIPTION:
URL:https://ourhomeyourhome.ca/event/speed-networking-beausejour-district-chamber/
LOCATION:Brokenhead River Community Hall\, 320 Veterans Lane\, Beausejour\, Mb\, R0E 0C0\, Canada
END:VEVENT
BEGIN:VEVENT
DTSTART;TZID=UTC:20251022T093000
DTEND;TZID=UTC:20251022T113000
DTSTAMP:20260420T020023
CREATED:20250823T011126Z
LAST-MODIFIED:20250823T011126Z
UID:2234-1761125400-1761132600@ourhomeyourhome.ca
SUMMARY:Movers & Minglers for Seniors
DESCRIPTION:
URL:https://ourhomeyourhome.ca/event/movers-minglers-for-seniors/2025-10-22/
LOCATION:Brokenhead River Community Hall\, 320 Veterans Lane\, Beausejour\, Mb\, R0E 0C0\, Canada
END:VEVENT
BEGIN:VEVENT
DTSTART;TZID=UTC:20251024T180000
DTEND;TZID=UTC:20251024T210000
DTSTAMP:20260420T020023
CREATED:20251009T185642Z
LAST-MODIFIED:20251009T185642Z
UID:2367-1761328800-1761339600@ourhomeyourhome.ca
SUMMARY:Honey Taste Testing Experience
DESCRIPTION:
URL:https://ourhomeyourhome.ca/event/honey-taste-testing-experience/
LOCATION:Beausejour Legion #132\, 300 Veterans Lane\, Beausejour\, Manitoba\, R0E 0C0\, Canada
ORGANIZER;CN="Golden Bay Honey & Beehive Tours":MAILTO:goldenbayhoney@gmail.com
END:VEVENT
BEGIN:VEVENT
DTSTART;TZID=UTC:20251024T183000
DTEND;TZID=UTC:20251024T213000
DTSTAMP:20260420T020023
CREATED:20251018T003226Z
LAST-MODIFIED:20251018T003226Z
UID:2416-1761330600-1761341400@ourhomeyourhome.ca
SUMMARY:Halloween Howl
DESCRIPTION:
URL:https://ourhomeyourhome.ca/event/halloween-howl/
LOCATION:Tyndall Village Community Centre\, 69 Pierson Drive\, Tyndall\, Manitoba\, R0E 2B0\, Canada
ORGANIZER;CN="Brokenhead River Recreation Commission":MAILTO:programdirector@brokenheadriverrec.com
END:VEVENT
BEGIN:VEVENT
DTSTART;TZID=UTC:20251024T190000
DTEND;TZID=UTC:20251024T190000
DTSTAMP:20260420T020023
CREATED:20250930T181902Z
LAST-MODIFIED:20250930T181902Z
UID:2320-1761332400-1761332400@ourhomeyourhome.ca
SUMMARY:Beausejour Legion Puzzle Mania
DESCRIPTION:
URL:https://ourhomeyourhome.ca/event/beausejour-legion-puzzle-mania/
LOCATION:Beausejour Legion #132\, 300 Veterans Lane\, Beausejour\, Manitoba\, R0E 0C0\, Canada
END:VEVENT
BEGIN:VEVENT
DTSTART;TZID=UTC:20251025T150000
DTEND;TZID=UTC:20251025T170000
DTSTAMP:20260420T020023
CREATED:20251007T201634Z
LAST-MODIFIED:20251007T201657Z
UID:2333-1761404400-1761411600@ourhomeyourhome.ca
SUMMARY:Boo-Bash Halloween Party
DESCRIPTION:Dress up in your best costume and come be apart of our INDOOR Trunk-or-treat inspired Halloween Party!Open to everyone! The community\, Tarantism Dance Company dancers\, family\, friends\, Anyone! You don’t have to be a TDC dancer!Trick or treating\, games\, crafts\, Pictures with Glinda & dance performances by the TDC performance companies and the TDC Boo CrewOctober 25\, 2025 3-5pm Zion Lutheran Church (403 1st Street North Beausejour\, MB)
URL:https://ourhomeyourhome.ca/event/2333/
LOCATION:Zion Lutheran Church\, 403 First Street North\, Beausejour\, Manitoba\, R0E0C0\, Canada
ORGANIZER;CN="Tarantism Dance Company":MAILTO:info@tarantismdance.com
END:VEVENT
BEGIN:VEVENT
DTSTART;TZID=UTC:20251025T210000
DTEND;TZID=UTC:20251025T210000
DTSTAMP:20260420T020023
CREATED:20251014T194951Z
LAST-MODIFIED:20251014T194951Z
UID:2396-1761426000-1761426000@ourhomeyourhome.ca
SUMMARY:Halloween Karaoke Night at BJ's
DESCRIPTION:
URL:https://ourhomeyourhome.ca/event/halloween-karaoke-night-at-bjs/
LOCATION:Beausejour Hotel/BJ’s Bar\, 610 Park Ave\, Beausejour\, Manitoba\, R0E 0C0\, Canada
END:VEVENT
BEGIN:VEVENT
DTSTART;TZID=UTC:20251026T120000
DTEND;TZID=UTC:20251026T170000
DTSTAMP:20260420T020023
CREATED:20251008T020751Z
LAST-MODIFIED:20251008T020751Z
UID:2360-1761480000-1761498000@ourhomeyourhome.ca
SUMMARY:Pumpkin Carving Contest | Pennyweight Market
DESCRIPTION:
URL:https://ourhomeyourhome.ca/event/pumpkin-carving-contest-pennyweight-market/
LOCATION:Pennyweight Market\, 802 Park Ave\, Beausejour\, Manitoba\, R0E0C0\, Canada
END:VEVENT
BEGIN:VEVENT
DTSTART;TZID=UTC:20251026T130000
DTEND;TZID=UTC:20251026T170000
DTSTAMP:20260420T020023
CREATED:20250909T232010Z
LAST-MODIFIED:20250909T232010Z
UID:2289-1761483600-1761498000@ourhomeyourhome.ca
SUMMARY:Old Time Dance
DESCRIPTION:
URL:https://ourhomeyourhome.ca/event/old-time-dance-2/
LOCATION:Brokenhead River Community Hall\, 320 Veterans Lane\, Beausejour\, Mb\, R0E 0C0\, Canada
END:VEVENT
BEGIN:VEVENT
DTSTART;TZID=UTC:20251028T090000
DTEND;TZID=UTC:20251028T160000
DTSTAMP:20260420T020023
CREATED:20251008T020439Z
LAST-MODIFIED:20251010T203803Z
UID:2354-1761642000-1761667200@ourhomeyourhome.ca
SUMMARY:Business Succession Workshop
DESCRIPTION:
URL:https://ourhomeyourhome.ca/event/business-succession-workshop/
LOCATION:Brokenhead River Community Hall\, 320 Veterans Lane\, Beausejour\, Mb\, R0E 0C0\, Canada
ORGANIZER;CN="Innovate Eastman":MAILTO:sli@innovateeastman.com
END:VEVENT
BEGIN:VEVENT
DTSTART;TZID=UTC:20251029T093000
DTEND;TZID=UTC:20251029T113000
DTSTAMP:20260420T020023
CREATED:20250823T011126Z
LAST-MODIFIED:20250823T011126Z
UID:2235-1761730200-1761737400@ourhomeyourhome.ca
SUMMARY:Movers & Minglers for Seniors
DESCRIPTION:
URL:https://ourhomeyourhome.ca/event/movers-minglers-for-seniors/2025-10-29/
LOCATION:Brokenhead River Community Hall\, 320 Veterans Lane\, Beausejour\, Mb\, R0E 0C0\, Canada
END:VEVENT
BEGIN:VEVENT
DTSTART;TZID=UTC:20251031T173000
DTEND;TZID=UTC:20251031T190000
DTSTAMP:20260420T020023
CREATED:20251023T012654Z
LAST-MODIFIED:20251023T012654Z
UID:2419-1761931800-1761937200@ourhomeyourhome.ca
SUMMARY:1st Annual Trick or Patrol
DESCRIPTION:
URL:https://ourhomeyourhome.ca/event/1st-annual-trick-or-patrol/
LOCATION:Manitoba
END:VEVENT
BEGIN:VEVENT
DTSTART;VALUE=DATE:20251101
DTEND;VALUE=DATE:20251103
DTSTAMP:20260420T020023
CREATED:20251008T020544Z
LAST-MODIFIED:20251008T020544Z
UID:2357-1761955200-1762127999@ourhomeyourhome.ca
SUMMARY:Pumpkin Palooza
DESCRIPTION:
URL:https://ourhomeyourhome.ca/event/pumpkin-palooza/
LOCATION:Manitoba
END:VEVENT
BEGIN:VEVENT
DTSTART;TZID=UTC:20251101T110000
DTEND;TZID=UTC:20251101T140000
DTSTAMP:20260420T020023
CREATED:20251030T194251Z
LAST-MODIFIED:20251030T194251Z
UID:2434-1761994800-1762005600@ourhomeyourhome.ca
SUMMARY:Lace Making Demo Day
DESCRIPTION:
URL:https://ourhomeyourhome.ca/event/lace-making-demo-day/
LOCATION:Brokenhead River Regional Library\, 427 Park Avenue\, Beausejour\, Manitoba\, R0E0C0\, Canada
END:VEVENT
BEGIN:VEVENT
DTSTART;TZID=UTC:20251102T140000
DTEND;TZID=UTC:20251102T160000
DTSTAMP:20260420T020023
CREATED:20250823T010738Z
LAST-MODIFIED:20250823T010738Z
UID:2224-1762092000-1762099200@ourhomeyourhome.ca
SUMMARY:Family Sunday Funday
DESCRIPTION:
URL:https://ourhomeyourhome.ca/event/family-sunday-funday/2025-11-02/
LOCATION:Brokenhead River Community Hall\, 320 Veterans Lane\, Beausejour\, Mb\, R0E 0C0\, Canada
END:VEVENT
BEGIN:VEVENT
DTSTART;TZID=UTC:20251102T140000
DTEND;TZID=UTC:20251102T160000
DTSTAMP:20260420T020023
CREATED:20251027T234212Z
LAST-MODIFIED:20251027T234212Z
UID:2423-1762092000-1762099200@ourhomeyourhome.ca
SUMMARY:Brokenhead River Arts Council Launch & Meeting
DESCRIPTION:
URL:https://ourhomeyourhome.ca/event/brokenhead-river-arts-council-launch-meeting/
LOCATION:Beausejour Sportsplex\, 360 Veterans Lane\, Beausejour\, Manitoba\, Canada
END:VEVENT
BEGIN:VEVENT
DTSTART;TZID=UTC:20251104T130000
DTEND;TZID=UTC:20251104T130000
DTSTAMP:20260420T020023
CREATED:20251009T002749Z
LAST-MODIFIED:20251009T002749Z
UID:2364-1762261200-1762261200@ourhomeyourhome.ca
SUMMARY:Club 50 Old Time Dance
DESCRIPTION:
URL:https://ourhomeyourhome.ca/event/club-50-old-time-dance-5/
LOCATION:Brokenhead River Community Hall\, 320 Veterans Lane\, Beausejour\, Mb\, R0E 0C0\, Canada
END:VEVENT
BEGIN:VEVENT
DTSTART;TZID=UTC:20251105T093000
DTEND;TZID=UTC:20251105T113000
DTSTAMP:20260420T020023
CREATED:20250823T011126Z
LAST-MODIFIED:20250823T011126Z
UID:2236-1762335000-1762342200@ourhomeyourhome.ca
SUMMARY:Movers & Minglers for Seniors
DESCRIPTION:
URL:https://ourhomeyourhome.ca/event/movers-minglers-for-seniors/2025-11-05/
LOCATION:Brokenhead River Community Hall\, 320 Veterans Lane\, Beausejour\, Mb\, R0E 0C0\, Canada
END:VEVENT
BEGIN:VEVENT
DTSTART;TZID=UTC:20251105T190000
DTEND;TZID=UTC:20251105T213000
DTSTAMP:20260420T020023
CREATED:20251010T204938Z
LAST-MODIFIED:20251010T204938Z
UID:2390-1762369200-1762378200@ourhomeyourhome.ca
SUMMARY:Watercolour Painting Class
DESCRIPTION:
URL:https://ourhomeyourhome.ca/event/watercolour-painting-class-2/
LOCATION:Manitoba
END:VEVENT
BEGIN:VEVENT
DTSTART;TZID=UTC:20251107T110000
DTEND;TZID=UTC:20251107T200000
DTSTAMP:20260420T020023
CREATED:20251017T011717Z
LAST-MODIFIED:20251027T234322Z
UID:2407-1762513200-1762545600@ourhomeyourhome.ca
SUMMARY:Beausejour Annual Xmas Craft Show & Sale
DESCRIPTION:
URL:https://ourhomeyourhome.ca/event/beausejour-annual-xmas-craft-show-sale/2025-11-07/
LOCATION:Brokenhead River Community Hall\, 320 Veterans Lane\, Beausejour\, Mb\, R0E 0C0\, Canada
END:VEVENT
BEGIN:VEVENT
DTSTART;TZID=UTC:20251107T170000
DTEND;TZID=UTC:20251107T170000
DTSTAMP:20260420T020023
CREATED:20251016T194546Z
LAST-MODIFIED:20251016T194546Z
UID:2404-1762534800-1762534800@ourhomeyourhome.ca
SUMMARY:Beausejour Legion Supper and Jam Night
DESCRIPTION:
URL:https://ourhomeyourhome.ca/event/beausejour-legion-supper-and-jam-night-3/
LOCATION:Beausejour Legion #132\, 300 Veterans Lane\, Beausejour\, Manitoba\, R0E 0C0\, Canada
END:VEVENT
BEGIN:VEVENT
DTSTART;TZID=UTC:20251107T190000
DTEND;TZID=UTC:20251107T190000
DTSTAMP:20260420T020023
CREATED:20251009T192521Z
LAST-MODIFIED:20251009T192619Z
UID:2371-1762542000-1762542000@ourhomeyourhome.ca
SUMMARY:Scott Woods Christmas Hoedown
DESCRIPTION:
URL:https://ourhomeyourhome.ca/event/2371/
LOCATION:Zion Lutheran Church\, 403 First Street North\, Beausejour\, Manitoba\, R0E0C0\, Canada
END:VEVENT
BEGIN:VEVENT
DTSTART;TZID=UTC:20251108T100000
DTEND;TZID=UTC:20251108T170000
DTSTAMP:20260420T020023
CREATED:20251017T011717Z
LAST-MODIFIED:20251027T234322Z
UID:2409-1762596000-1762621200@ourhomeyourhome.ca
SUMMARY:Beausejour Annual Xmas Craft Show & Sale
DESCRIPTION:
URL:https://ourhomeyourhome.ca/event/beausejour-annual-xmas-craft-show-sale/2025-11-08/
LOCATION:Brokenhead River Community Hall\, 320 Veterans Lane\, Beausejour\, Mb\, R0E 0C0\, Canada
END:VEVENT
BEGIN:VEVENT
DTSTART;TZID=UTC:20251111T100000
DTEND;TZID=UTC:20251111T100000
DTSTAMP:20260420T020023
CREATED:20251030T193908Z
LAST-MODIFIED:20251030T193908Z
UID:2430-1762855200-1762855200@ourhomeyourhome.ca
SUMMARY:Remembrance Day Service
DESCRIPTION:
URL:https://ourhomeyourhome.ca/event/remembrance-day-service-2/
LOCATION:Brokenhead River Community Hall\, 320 Veterans Lane\, Beausejour\, Mb\, R0E 0C0\, Canada
ORGANIZER;CN="Beausejour Legion #132":MAILTO:Entertainmentrclbeausejour@gmail.com
END:VEVENT
BEGIN:VEVENT
DTSTART;TZID=UTC:20251111T160000
DTEND;TZID=UTC:20251111T160000
DTSTAMP:20260420T020023
CREATED:20251011T010428Z
LAST-MODIFIED:20251011T010428Z
UID:2393-1762876800-1762876800@ourhomeyourhome.ca
SUMMARY:Fall Supper
DESCRIPTION:
URL:https://ourhomeyourhome.ca/event/fall-supper-2/
LOCATION:St Paul’s United Church\, 730 James Avenue\, Beausejour\, Manitoba\, R0E0C0\, Canada
END:VEVENT
BEGIN:VEVENT
DTSTART;TZID=UTC:20251112T093000
DTEND;TZID=UTC:20251112T113000
DTSTAMP:20260420T020023
CREATED:20250823T011126Z
LAST-MODIFIED:20250823T011126Z
UID:2237-1762939800-1762947000@ourhomeyourhome.ca
SUMMARY:Movers & Minglers for Seniors
DESCRIPTION:
URL:https://ourhomeyourhome.ca/event/movers-minglers-for-seniors/2025-11-12/
LOCATION:Brokenhead River Community Hall\, 320 Veterans Lane\, Beausejour\, Mb\, R0E 0C0\, Canada
END:VEVENT
BEGIN:VEVENT
DTSTART;TZID=UTC:20251113T130000
DTEND;TZID=UTC:20251113T160000
DTSTAMP:20260420T020023
CREATED:20231102T024413Z
LAST-MODIFIED:20250904T204854Z
UID:1559-1763038800-1763049600@ourhomeyourhome.ca
SUMMARY:Seniors Holiday Celebration
DESCRIPTION:
URL:https://ourhomeyourhome.ca/event/seniors-holiday-celebration/
LOCATION:Brokenhead River Community Hall\, 320 Veterans Lane\, Beausejour\, Mb\, R0E 0C0\, Canada
ORGANIZER;CN="Brokenhead River Recreation Commission":MAILTO:programdirector@brokenheadriverrec.com
END:VEVENT
BEGIN:VEVENT
DTSTART;TZID=UTC:20251114T183000
DTEND;TZID=UTC:20251114T213000
DTSTAMP:20260420T020023
CREATED:20251001T183440Z
LAST-MODIFIED:20251001T183440Z
UID:2326-1763145000-1763155800@ourhomeyourhome.ca
SUMMARY:Games Night at Beausejour Legion
DESCRIPTION:Join us every second Friday of each month\, starting November 14\, for games night! We have darts\, pool\, crib\, board games\, and you’re welcome to bring your own games as well!
URL:https://ourhomeyourhome.ca/event/games-night-at-beausejour-legion/2025-11-14/
LOCATION:Beausejour Legion #132\, 300 Veterans Lane\, Beausejour\, Manitoba\, R0E 0C0\, Canada
END:VEVENT
END:VCALENDAR