BEGIN:VCALENDAR
VERSION:2.0
PRODID:-//BBDC - ECPv6.15.13//NONSGML v1.0//EN
CALSCALE:GREGORIAN
METHOD:PUBLISH
X-WR-CALNAME:BBDC
X-ORIGINAL-URL:https://ourhomeyourhome.ca
X-WR-CALDESC:Events for BBDC
REFRESH-INTERVAL;VALUE=DURATION:PT1H
X-Robots-Tag:noindex
X-PUBLISHED-TTL:PT1H
BEGIN:VTIMEZONE
TZID:America/Winnipeg
BEGIN:DAYLIGHT
TZOFFSETFROM:-0600
TZOFFSETTO:-0500
TZNAME:CDT
DTSTART:20250309T080000
END:DAYLIGHT
BEGIN:STANDARD
TZOFFSETFROM:-0500
TZOFFSETTO:-0600
TZNAME:CST
DTSTART:20251102T070000
END:STANDARD
BEGIN:DAYLIGHT
TZOFFSETFROM:-0600
TZOFFSETTO:-0500
TZNAME:CDT
DTSTART:20260308T080000
END:DAYLIGHT
BEGIN:STANDARD
TZOFFSETFROM:-0500
TZOFFSETTO:-0600
TZNAME:CST
DTSTART:20261101T070000
END:STANDARD
BEGIN:DAYLIGHT
TZOFFSETFROM:-0600
TZOFFSETTO:-0500
TZNAME:CDT
DTSTART:20270314T080000
END:DAYLIGHT
BEGIN:STANDARD
TZOFFSETFROM:-0500
TZOFFSETTO:-0600
TZNAME:CST
DTSTART:20271107T070000
END:STANDARD
END:VTIMEZONE
BEGIN:VTIMEZONE
TZID:UTC
BEGIN:STANDARD
TZOFFSETFROM:+0000
TZOFFSETTO:+0000
TZNAME:UTC
DTSTART:20250101T000000
END:STANDARD
END:VTIMEZONE
BEGIN:VEVENT
DTSTART;TZID=America/Winnipeg:20260702T100000
DTEND;TZID=America/Winnipeg:20260702T150000
DTSTAMP:20260423T174402
CREATED:20260109T161130Z
LAST-MODIFIED:20260109T161130Z
UID:2531-1782986400-1783004400@ourhomeyourhome.ca
SUMMARY:Beausejour & Area Harvest & Share
DESCRIPTION:Free Vegetables and fruits when available for anyone who needs them!\nThursdays 10am – 3pm\nMid June to late September\n\n\nA table is set up every Thursday at 606 Park Ave in Beausejour in front of Community Threads clothing thrift store (next to RBC)\n\nFor more details and drop off location\, e-mail  Mireille Clark m1967clark@gmail.com
URL:https://ourhomeyourhome.ca/event/beausejour-area-harvest-share/2026-07-02/
LOCATION:Manitoba
END:VEVENT
BEGIN:VEVENT
DTSTART;TZID=America/Winnipeg:20260704T130000
DTEND;TZID=America/Winnipeg:20260704T130000
DTSTAMP:20260423T174402
CREATED:20260407T141555Z
LAST-MODIFIED:20260407T141911Z
UID:2792-1783170000-1783170000@ourhomeyourhome.ca
SUMMARY:Crib & Meat Draw | Beausejour Legion
DESCRIPTION:Please note there will be no Crib & Meat Draw events on long weekends.
URL:https://ourhomeyourhome.ca/event/crib-meat-draw-beausejour-legion/2026-07-04/
LOCATION:Beausejour Legion #132\, 300 Veterans Lane\, Beausejour\, Manitoba\, R0E 0C0\, Canada
END:VEVENT
BEGIN:VEVENT
DTSTART;TZID=America/Winnipeg:20260709T100000
DTEND;TZID=America/Winnipeg:20260709T150000
DTSTAMP:20260423T174402
CREATED:20260109T161130Z
LAST-MODIFIED:20260109T161130Z
UID:2532-1783591200-1783609200@ourhomeyourhome.ca
SUMMARY:Beausejour & Area Harvest & Share
DESCRIPTION:Free Vegetables and fruits when available for anyone who needs them!\nThursdays 10am – 3pm\nMid June to late September\n\n\nA table is set up every Thursday at 606 Park Ave in Beausejour in front of Community Threads clothing thrift store (next to RBC)\n\nFor more details and drop off location\, e-mail  Mireille Clark m1967clark@gmail.com
URL:https://ourhomeyourhome.ca/event/beausejour-area-harvest-share/2026-07-09/
LOCATION:Manitoba
END:VEVENT
BEGIN:VEVENT
DTSTART;TZID=America/Winnipeg:20260711T130000
DTEND;TZID=America/Winnipeg:20260711T130000
DTSTAMP:20260423T174402
CREATED:20260108T175324Z
LAST-MODIFIED:20260108T175324Z
UID:2499-1783774800-1783774800@ourhomeyourhome.ca
SUMMARY:Annual Eastman Vintage Tractor Pull
DESCRIPTION:Pioneer Village Museum will be hosting the 2nd Annual Eastman Vintage Tractor Pull on July 11\, 2026 at 1pm. \n$10.00 admission (kids under 5 FREE) \nContact BJANTIQUEPULL@GMAIL.COM  for further information and visit pioneervillagemuseum.ca to stay up to date!
URL:https://ourhomeyourhome.ca/event/annual-eastman-vintage-tractor-pull/
LOCATION:Pioneer Village Museum\, 901 Gertrude Avenue\, Beausejour\, Manitoba\, R0E 0C0\, Canada
END:VEVENT
BEGIN:VEVENT
DTSTART;TZID=America/Winnipeg:20260711T130000
DTEND;TZID=America/Winnipeg:20260711T130000
DTSTAMP:20260423T174402
CREATED:20260407T141555Z
LAST-MODIFIED:20260407T141911Z
UID:2793-1783774800-1783774800@ourhomeyourhome.ca
SUMMARY:Crib & Meat Draw | Beausejour Legion
DESCRIPTION:Please note there will be no Crib & Meat Draw events on long weekends.
URL:https://ourhomeyourhome.ca/event/crib-meat-draw-beausejour-legion/2026-07-11/
LOCATION:Beausejour Legion #132\, 300 Veterans Lane\, Beausejour\, Manitoba\, R0E 0C0\, Canada
END:VEVENT
BEGIN:VEVENT
DTSTART;TZID=UTC:20260712T110000
DTEND;TZID=UTC:20260712T150000
DTSTAMP:20260423T174402
CREATED:20251007T211130Z
LAST-MODIFIED:20251007T211130Z
UID:2347-1783854000-1783868400@ourhomeyourhome.ca
SUMMARY:Pop Up Market
DESCRIPTION:
URL:https://ourhomeyourhome.ca/event/pop-up-market/2026-07-12/
LOCATION:Breezy Oaks Inn & Tavern\, 1055 Park Avenue\, Beausejour\, Manitoba\, R0E 0C0\, Canada
ORGANIZER;CN="m & a markets":MAILTO:garandash@hotmail.com
END:VEVENT
BEGIN:VEVENT
DTSTART;TZID=America/Winnipeg:20260716T100000
DTEND;TZID=America/Winnipeg:20260716T150000
DTSTAMP:20260423T174402
CREATED:20260109T161130Z
LAST-MODIFIED:20260109T161130Z
UID:2533-1784196000-1784214000@ourhomeyourhome.ca
SUMMARY:Beausejour & Area Harvest & Share
DESCRIPTION:Free Vegetables and fruits when available for anyone who needs them!\nThursdays 10am – 3pm\nMid June to late September\n\n\nA table is set up every Thursday at 606 Park Ave in Beausejour in front of Community Threads clothing thrift store (next to RBC)\n\nFor more details and drop off location\, e-mail  Mireille Clark m1967clark@gmail.com
URL:https://ourhomeyourhome.ca/event/beausejour-area-harvest-share/2026-07-16/
LOCATION:Manitoba
END:VEVENT
BEGIN:VEVENT
DTSTART;TZID=America/Winnipeg:20260718T130000
DTEND;TZID=America/Winnipeg:20260718T130000
DTSTAMP:20260423T174402
CREATED:20260407T141555Z
LAST-MODIFIED:20260407T141911Z
UID:2794-1784379600-1784379600@ourhomeyourhome.ca
SUMMARY:Crib & Meat Draw | Beausejour Legion
DESCRIPTION:Please note there will be no Crib & Meat Draw events on long weekends.
URL:https://ourhomeyourhome.ca/event/crib-meat-draw-beausejour-legion/2026-07-18/
LOCATION:Beausejour Legion #132\, 300 Veterans Lane\, Beausejour\, Manitoba\, R0E 0C0\, Canada
END:VEVENT
BEGIN:VEVENT
DTSTART;TZID=America/Winnipeg:20260723T100000
DTEND;TZID=America/Winnipeg:20260723T150000
DTSTAMP:20260423T174402
CREATED:20260109T161130Z
LAST-MODIFIED:20260109T161130Z
UID:2534-1784800800-1784818800@ourhomeyourhome.ca
SUMMARY:Beausejour & Area Harvest & Share
DESCRIPTION:Free Vegetables and fruits when available for anyone who needs them!\nThursdays 10am – 3pm\nMid June to late September\n\n\nA table is set up every Thursday at 606 Park Ave in Beausejour in front of Community Threads clothing thrift store (next to RBC)\n\nFor more details and drop off location\, e-mail  Mireille Clark m1967clark@gmail.com
URL:https://ourhomeyourhome.ca/event/beausejour-area-harvest-share/2026-07-23/
LOCATION:Manitoba
END:VEVENT
BEGIN:VEVENT
DTSTART;TZID=America/Winnipeg:20260725T130000
DTEND;TZID=America/Winnipeg:20260725T130000
DTSTAMP:20260423T174402
CREATED:20260407T141555Z
LAST-MODIFIED:20260407T141911Z
UID:2795-1784984400-1784984400@ourhomeyourhome.ca
SUMMARY:Crib & Meat Draw | Beausejour Legion
DESCRIPTION:Please note there will be no Crib & Meat Draw events on long weekends.
URL:https://ourhomeyourhome.ca/event/crib-meat-draw-beausejour-legion/2026-07-25/
LOCATION:Beausejour Legion #132\, 300 Veterans Lane\, Beausejour\, Manitoba\, R0E 0C0\, Canada
END:VEVENT
BEGIN:VEVENT
DTSTART;TZID=UTC:20260726T110000
DTEND;TZID=UTC:20260726T150000
DTSTAMP:20260423T174402
CREATED:20251007T211130Z
LAST-MODIFIED:20251007T211130Z
UID:2348-1785063600-1785078000@ourhomeyourhome.ca
SUMMARY:Pop Up Market
DESCRIPTION:
URL:https://ourhomeyourhome.ca/event/pop-up-market/2026-07-26/
LOCATION:Breezy Oaks Inn & Tavern\, 1055 Park Avenue\, Beausejour\, Manitoba\, R0E 0C0\, Canada
ORGANIZER;CN="m & a markets":MAILTO:garandash@hotmail.com
END:VEVENT
BEGIN:VEVENT
DTSTART;TZID=UTC:20260726T130000
DTEND;TZID=UTC:20260726T130000
DTSTAMP:20260423T174402
CREATED:20251017T185404Z
LAST-MODIFIED:20260212T153722Z
UID:2413-1785070800-1785070800@ourhomeyourhome.ca
SUMMARY:BB Jammers at Daylily Stage
DESCRIPTION:The “BB Jammers” are made up of local musicians that have been playing together at local open jams and garage jams. Each event group will be made up of those musicians who are available.  While not a true band playing regular gigs\, because we have played together over the years we are very much like a band! \n  \nLive music starting at 1PM. Admission is free – bring your own chair!
URL:https://ourhomeyourhome.ca/event/bb-jammers-at-daylily-stage/2026-07-26/
LOCATION:Beausejour Daylily Gardens\, First St N\, Beausejour\, Manitoba\, Canada
END:VEVENT
BEGIN:VEVENT
DTSTART;TZID=America/Winnipeg:20260726T130000
DTEND;TZID=America/Winnipeg:20260726T130000
DTSTAMP:20260423T174402
CREATED:20260407T141308Z
LAST-MODIFIED:20260407T141308Z
UID:2772-1785070800-1785070800@ourhomeyourhome.ca
SUMMARY:Meat Bingo | Beausejour Legion
DESCRIPTION:
URL:https://ourhomeyourhome.ca/event/meat-bingo-beausejour-legion-2/2026-07-26/
LOCATION:Beausejour Legion #132\, 300 Veterans Lane\, Beausejour\, Manitoba\, R0E 0C0\, Canada
END:VEVENT
BEGIN:VEVENT
DTSTART;TZID=America/Winnipeg:20260730T100000
DTEND;TZID=America/Winnipeg:20260730T150000
DTSTAMP:20260423T174403
CREATED:20260109T161130Z
LAST-MODIFIED:20260109T161130Z
UID:2535-1785405600-1785423600@ourhomeyourhome.ca
SUMMARY:Beausejour & Area Harvest & Share
DESCRIPTION:Free Vegetables and fruits when available for anyone who needs them!\nThursdays 10am – 3pm\nMid June to late September\n\n\nA table is set up every Thursday at 606 Park Ave in Beausejour in front of Community Threads clothing thrift store (next to RBC)\n\nFor more details and drop off location\, e-mail  Mireille Clark m1967clark@gmail.com
URL:https://ourhomeyourhome.ca/event/beausejour-area-harvest-share/2026-07-30/
LOCATION:Manitoba
END:VEVENT
BEGIN:VEVENT
DTSTART;TZID=UTC:20260802T000000
DTEND;TZID=UTC:20260802T000000
DTSTAMP:20260423T174403
CREATED:20251120T210306Z
LAST-MODIFIED:20251120T210306Z
UID:2456-1785628800-1785628800@ourhomeyourhome.ca
SUMMARY:Eastman Pipers at Daylily Gardens
DESCRIPTION:More details to come.
URL:https://ourhomeyourhome.ca/event/eastman-pipers-at-daylily-gardens/
LOCATION:Beausejour Daylily Gardens\, First St N\, Beausejour\, Manitoba\, Canada
END:VEVENT
BEGIN:VEVENT
DTSTART;TZID=America/Winnipeg:20260806T100000
DTEND;TZID=America/Winnipeg:20260806T150000
DTSTAMP:20260423T174403
CREATED:20260109T161130Z
LAST-MODIFIED:20260109T161130Z
UID:2536-1786010400-1786028400@ourhomeyourhome.ca
SUMMARY:Beausejour & Area Harvest & Share
DESCRIPTION:Free Vegetables and fruits when available for anyone who needs them!\nThursdays 10am – 3pm\nMid June to late September\n\n\nA table is set up every Thursday at 606 Park Ave in Beausejour in front of Community Threads clothing thrift store (next to RBC)\n\nFor more details and drop off location\, e-mail  Mireille Clark m1967clark@gmail.com
URL:https://ourhomeyourhome.ca/event/beausejour-area-harvest-share/2026-08-06/
LOCATION:Manitoba
END:VEVENT
BEGIN:VEVENT
DTSTART;TZID=America/Winnipeg:20260808T130000
DTEND;TZID=America/Winnipeg:20260808T130000
DTSTAMP:20260423T174403
CREATED:20260407T141555Z
LAST-MODIFIED:20260407T141911Z
UID:2797-1786194000-1786194000@ourhomeyourhome.ca
SUMMARY:Crib & Meat Draw | Beausejour Legion
DESCRIPTION:Please note there will be no Crib & Meat Draw events on long weekends.
URL:https://ourhomeyourhome.ca/event/crib-meat-draw-beausejour-legion/2026-08-08/
LOCATION:Beausejour Legion #132\, 300 Veterans Lane\, Beausejour\, Manitoba\, R0E 0C0\, Canada
END:VEVENT
BEGIN:VEVENT
DTSTART;TZID=UTC:20260809T090000
DTEND;TZID=UTC:20260809T160000
DTSTAMP:20260423T174403
CREATED:20250718T021114Z
LAST-MODIFIED:20260108T175557Z
UID:1615-1786266000-1786291200@ourhomeyourhome.ca
SUMMARY:Heritage Day
DESCRIPTION:Celebrate the 28th Annual Heritage Day at Pioneer Village Museum on August 9\, 2026 from 9am-4pm! \nMore details to come\, visit pioneervillagemuseum.ca to stay up to date.
URL:https://ourhomeyourhome.ca/event/heritage-day/
LOCATION:Pioneer Village Museum\, 901 Gertrude Avenue\, Beausejour\, Manitoba\, R0E 0C0\, Canada
END:VEVENT
BEGIN:VEVENT
DTSTART;TZID=America/Winnipeg:20260813T100000
DTEND;TZID=America/Winnipeg:20260813T150000
DTSTAMP:20260423T174403
CREATED:20260109T161130Z
LAST-MODIFIED:20260109T161130Z
UID:2537-1786615200-1786633200@ourhomeyourhome.ca
SUMMARY:Beausejour & Area Harvest & Share
DESCRIPTION:Free Vegetables and fruits when available for anyone who needs them!\nThursdays 10am – 3pm\nMid June to late September\n\n\nA table is set up every Thursday at 606 Park Ave in Beausejour in front of Community Threads clothing thrift store (next to RBC)\n\nFor more details and drop off location\, e-mail  Mireille Clark m1967clark@gmail.com
URL:https://ourhomeyourhome.ca/event/beausejour-area-harvest-share/2026-08-13/
LOCATION:Manitoba
END:VEVENT
BEGIN:VEVENT
DTSTART;TZID=America/Winnipeg:20260815T130000
DTEND;TZID=America/Winnipeg:20260815T130000
DTSTAMP:20260423T174403
CREATED:20260407T141555Z
LAST-MODIFIED:20260407T141912Z
UID:2798-1786798800-1786798800@ourhomeyourhome.ca
SUMMARY:Crib & Meat Draw | Beausejour Legion
DESCRIPTION:Please note there will be no Crib & Meat Draw events on long weekends.
URL:https://ourhomeyourhome.ca/event/crib-meat-draw-beausejour-legion/2026-08-15/
LOCATION:Beausejour Legion #132\, 300 Veterans Lane\, Beausejour\, Manitoba\, R0E 0C0\, Canada
END:VEVENT
BEGIN:VEVENT
DTSTART;TZID=America/Winnipeg:20260820T100000
DTEND;TZID=America/Winnipeg:20260820T150000
DTSTAMP:20260423T174403
CREATED:20260109T161130Z
LAST-MODIFIED:20260109T161130Z
UID:2538-1787220000-1787238000@ourhomeyourhome.ca
SUMMARY:Beausejour & Area Harvest & Share
DESCRIPTION:Free Vegetables and fruits when available for anyone who needs them!\nThursdays 10am – 3pm\nMid June to late September\n\n\nA table is set up every Thursday at 606 Park Ave in Beausejour in front of Community Threads clothing thrift store (next to RBC)\n\nFor more details and drop off location\, e-mail  Mireille Clark m1967clark@gmail.com
URL:https://ourhomeyourhome.ca/event/beausejour-area-harvest-share/2026-08-20/
LOCATION:Manitoba
END:VEVENT
BEGIN:VEVENT
DTSTART;VALUE=DATE:20260821
DTEND;VALUE=DATE:20260823
DTSTAMP:20260423T174403
CREATED:20260115T170540Z
LAST-MODIFIED:20260115T170540Z
UID:2573-1787270400-1787443199@ourhomeyourhome.ca
SUMMARY:Beauhead Arts Fest
DESCRIPTION:  \nSave the date for the 2026 Beauhead Arts Fest! More details are to come – follow Beauhead Arts Fest on Facebook or Instagram. Or visit their website at beauheadarts.ca to stay up to date!
URL:https://ourhomeyourhome.ca/event/beauhead-arts-fest-2/
LOCATION:Pioneer Village Museum\, 901 Gertrude Avenue\, Beausejour\, Manitoba\, R0E 0C0\, Canada
ORGANIZER;CN="Beauhead Arts Fest":MAILTO:beauheadartsfest@gmail.com
END:VEVENT
BEGIN:VEVENT
DTSTART;TZID=America/Winnipeg:20260822T130000
DTEND;TZID=America/Winnipeg:20260822T130000
DTSTAMP:20260423T174403
CREATED:20260407T141555Z
LAST-MODIFIED:20260407T141912Z
UID:2799-1787403600-1787403600@ourhomeyourhome.ca
SUMMARY:Crib & Meat Draw | Beausejour Legion
DESCRIPTION:Please note there will be no Crib & Meat Draw events on long weekends.
URL:https://ourhomeyourhome.ca/event/crib-meat-draw-beausejour-legion/2026-08-22/
LOCATION:Beausejour Legion #132\, 300 Veterans Lane\, Beausejour\, Manitoba\, R0E 0C0\, Canada
END:VEVENT
BEGIN:VEVENT
DTSTART;TZID=America/Winnipeg:20260827T100000
DTEND;TZID=America/Winnipeg:20260827T150000
DTSTAMP:20260423T174403
CREATED:20260109T161130Z
LAST-MODIFIED:20260109T161130Z
UID:2539-1787824800-1787842800@ourhomeyourhome.ca
SUMMARY:Beausejour & Area Harvest & Share
DESCRIPTION:Free Vegetables and fruits when available for anyone who needs them!\nThursdays 10am – 3pm\nMid June to late September\n\n\nA table is set up every Thursday at 606 Park Ave in Beausejour in front of Community Threads clothing thrift store (next to RBC)\n\nFor more details and drop off location\, e-mail  Mireille Clark m1967clark@gmail.com
URL:https://ourhomeyourhome.ca/event/beausejour-area-harvest-share/2026-08-27/
LOCATION:Manitoba
END:VEVENT
BEGIN:VEVENT
DTSTART;TZID=America/Winnipeg:20260829T130000
DTEND;TZID=America/Winnipeg:20260829T130000
DTSTAMP:20260423T174403
CREATED:20260407T141555Z
LAST-MODIFIED:20260407T141912Z
UID:2800-1788008400-1788008400@ourhomeyourhome.ca
SUMMARY:Crib & Meat Draw | Beausejour Legion
DESCRIPTION:Please note there will be no Crib & Meat Draw events on long weekends.
URL:https://ourhomeyourhome.ca/event/crib-meat-draw-beausejour-legion/2026-08-29/
LOCATION:Beausejour Legion #132\, 300 Veterans Lane\, Beausejour\, Manitoba\, R0E 0C0\, Canada
END:VEVENT
BEGIN:VEVENT
DTSTART;TZID=America/Winnipeg:20260830T130000
DTEND;TZID=America/Winnipeg:20260830T130000
DTSTAMP:20260423T174403
CREATED:20260407T141308Z
LAST-MODIFIED:20260407T141308Z
UID:2773-1788094800-1788094800@ourhomeyourhome.ca
SUMMARY:Meat Bingo | Beausejour Legion
DESCRIPTION:
URL:https://ourhomeyourhome.ca/event/meat-bingo-beausejour-legion-2/2026-08-30/
LOCATION:Beausejour Legion #132\, 300 Veterans Lane\, Beausejour\, Manitoba\, R0E 0C0\, Canada
END:VEVENT
BEGIN:VEVENT
DTSTART;TZID=America/Winnipeg:20260903T100000
DTEND;TZID=America/Winnipeg:20260903T150000
DTSTAMP:20260423T174403
CREATED:20260109T161130Z
LAST-MODIFIED:20260109T161130Z
UID:2541-1788429600-1788447600@ourhomeyourhome.ca
SUMMARY:Beausejour & Area Harvest & Share
DESCRIPTION:Free Vegetables and fruits when available for anyone who needs them!\nThursdays 10am – 3pm\nMid June to late September\n\n\nA table is set up every Thursday at 606 Park Ave in Beausejour in front of Community Threads clothing thrift store (next to RBC)\n\nFor more details and drop off location\, e-mail  Mireille Clark m1967clark@gmail.com
URL:https://ourhomeyourhome.ca/event/beausejour-area-harvest-share/2026-09-03/
LOCATION:Manitoba
END:VEVENT
BEGIN:VEVENT
DTSTART;TZID=UTC:20260906T130000
DTEND;TZID=UTC:20260906T130000
DTSTAMP:20260423T174403
CREATED:20251017T185404Z
LAST-MODIFIED:20251017T185404Z
UID:2640-1788699600-1788699600@ourhomeyourhome.ca
SUMMARY:BB Jammers at Daylily Stage
DESCRIPTION:The “BB Jammers” are made up of local musicians that have been playing together at local open jams and garage jams. Each event group will be made up of those musicians who are available.  While not a true band playing regular gigs\, because we have played together over the years we are very much like a band! \n  \nLive music starting at 1PM. Admission is free – bring your own chair!
URL:https://ourhomeyourhome.ca/event/bb-jammers-at-daylily-stage/2026-09-06/
LOCATION:Beausejour Daylily Gardens\, First St N\, Beausejour\, Manitoba\, Canada
END:VEVENT
BEGIN:VEVENT
DTSTART;TZID=America/Winnipeg:20260910T100000
DTEND;TZID=America/Winnipeg:20260910T150000
DTSTAMP:20260423T174403
CREATED:20260109T161130Z
LAST-MODIFIED:20260109T161130Z
UID:2542-1789034400-1789052400@ourhomeyourhome.ca
SUMMARY:Beausejour & Area Harvest & Share
DESCRIPTION:Free Vegetables and fruits when available for anyone who needs them!\nThursdays 10am – 3pm\nMid June to late September\n\n\nA table is set up every Thursday at 606 Park Ave in Beausejour in front of Community Threads clothing thrift store (next to RBC)\n\nFor more details and drop off location\, e-mail  Mireille Clark m1967clark@gmail.com
URL:https://ourhomeyourhome.ca/event/beausejour-area-harvest-share/2026-09-10/
LOCATION:Manitoba
END:VEVENT
BEGIN:VEVENT
DTSTART;VALUE=DATE:20260911
DTEND;VALUE=DATE:20260914
DTSTAMP:20260423T174403
CREATED:20260212T154255Z
LAST-MODIFIED:20260212T154255Z
UID:2643-1789084800-1789343999@ourhomeyourhome.ca
SUMMARY:Double B Agricultural Festival
DESCRIPTION:Save the date – September 11\, 12 & 13\, 2026 \nMore details to come – visit brokenheadag.ca and follow Brokenhead Agricultural Society on Facebook or Instagram to stay in the loop! \n 
URL:https://ourhomeyourhome.ca/event/double-b-agricultural-festival/
LOCATION:Co-Op Community Complex\, 71032\, MB-302\, Beausejour\, MB\, R0E 0C0\, Canada
ORGANIZER;CN="Brokenhead Agricultural Society":MAILTO:brokenheadag@outlook.com
END:VEVENT
END:VCALENDAR