BEGIN:VCALENDAR
VERSION:2.0
PRODID:-//BBDC - ECPv6.15.13//NONSGML v1.0//EN
CALSCALE:GREGORIAN
METHOD:PUBLISH
X-ORIGINAL-URL:https://ourhomeyourhome.ca
X-WR-CALDESC:Events for BBDC
REFRESH-INTERVAL;VALUE=DURATION:PT1H
X-Robots-Tag:noindex
X-PUBLISHED-TTL:PT1H
BEGIN:VTIMEZONE
TZID:America/Winnipeg
BEGIN:DAYLIGHT
TZOFFSETFROM:-0600
TZOFFSETTO:-0500
TZNAME:CDT
DTSTART:20250309T080000
END:DAYLIGHT
BEGIN:STANDARD
TZOFFSETFROM:-0500
TZOFFSETTO:-0600
TZNAME:CST
DTSTART:20251102T070000
END:STANDARD
BEGIN:DAYLIGHT
TZOFFSETFROM:-0600
TZOFFSETTO:-0500
TZNAME:CDT
DTSTART:20260308T080000
END:DAYLIGHT
BEGIN:STANDARD
TZOFFSETFROM:-0500
TZOFFSETTO:-0600
TZNAME:CST
DTSTART:20261101T070000
END:STANDARD
BEGIN:DAYLIGHT
TZOFFSETFROM:-0600
TZOFFSETTO:-0500
TZNAME:CDT
DTSTART:20270314T080000
END:DAYLIGHT
BEGIN:STANDARD
TZOFFSETFROM:-0500
TZOFFSETTO:-0600
TZNAME:CST
DTSTART:20271107T070000
END:STANDARD
END:VTIMEZONE
BEGIN:VEVENT
DTSTART;TZID=America/Winnipeg:20260418T130000
DTEND;TZID=America/Winnipeg:20260418T130000
DTSTAMP:20260423T162207
CREATED:20260114T201206Z
LAST-MODIFIED:20260114T201206Z
UID:2558-1776517200-1776517200@ourhomeyourhome.ca
SUMMARY:Open Doubles Cribbage Tournament | Beausejour Legion
DESCRIPTION:
URL:https://ourhomeyourhome.ca/event/open-doubles-cribbage-tournament-beausejour-legion/
LOCATION:Beausejour Legion #132\, 300 Veterans Lane\, Beausejour\, Manitoba\, R0E 0C0\, Canada
END:VEVENT
BEGIN:VEVENT
DTSTART;TZID=America/Winnipeg:20260418T130000
DTEND;TZID=America/Winnipeg:20260418T130000
DTSTAMP:20260423T162207
CREATED:20260407T141555Z
LAST-MODIFIED:20260407T141906Z
UID:2780-1776517200-1776517200@ourhomeyourhome.ca
SUMMARY:Crib & Meat Draw | Beausejour Legion
DESCRIPTION:Please note there will be no Crib & Meat Draw events on long weekends.
URL:https://ourhomeyourhome.ca/event/crib-meat-draw-beausejour-legion/2026-04-18/
LOCATION:Beausejour Legion #132\, 300 Veterans Lane\, Beausejour\, Manitoba\, R0E 0C0\, Canada
END:VEVENT
BEGIN:VEVENT
DTSTART;TZID=America/Winnipeg:20260418T173000
DTEND;TZID=America/Winnipeg:20260418T173000
DTSTAMP:20260423T162207
CREATED:20260217T160037Z
LAST-MODIFIED:20260326T160253Z
UID:2655-1776533400-1776533400@ourhomeyourhome.ca
SUMMARY:Quiz Night | Garson
DESCRIPTION:
URL:https://ourhomeyourhome.ca/event/quiz-night-2/
LOCATION:Garson Centennial Community Centre\, 11 Thompson Ave\, Garson\, Manitoba\, R0E 0R0\, Canada
END:VEVENT
BEGIN:VEVENT
DTSTART;TZID=America/Winnipeg:20260422T170000
DTEND;TZID=America/Winnipeg:20260422T170000
DTSTAMP:20260423T162207
CREATED:20260407T142416Z
LAST-MODIFIED:20260407T142416Z
UID:2858-1776877200-1776877200@ourhomeyourhome.ca
SUMMARY:Youth in Philanthropy Meeting | BRCF
DESCRIPTION:
URL:https://ourhomeyourhome.ca/event/youth-in-philanthropy-meeting-brcf/
LOCATION:Century 21 Board Room\, 644 Park Avenue\, Beausejour\, Manitoba\, R0E0C0\, Canada
ORGANIZER;CN="Brokenhead River Community Foundation":MAILTO:brcf@brcfoundation.ca
END:VEVENT
BEGIN:VEVENT
DTSTART;TZID=America/Winnipeg:20260425T100000
DTEND;TZID=America/Winnipeg:20260425T150000
DTSTAMP:20260423T162207
CREATED:20260310T140607Z
LAST-MODIFIED:20260310T140607Z
UID:2699-1777111200-1777129200@ourhomeyourhome.ca
SUMMARY:Annual Spring Craft Sale | Garson
DESCRIPTION:Tables available!! Please email everkress@gmail.com if interested & please state what it is you sell
URL:https://ourhomeyourhome.ca/event/annual-spring-craft-sale-garson/
LOCATION:Garson Centennial Community Centre\, 11 Thompson Ave\, Garson\, Manitoba\, R0E 0R0\, Canada
END:VEVENT
BEGIN:VEVENT
DTSTART;TZID=America/Winnipeg:20260425T130000
DTEND;TZID=America/Winnipeg:20260425T130000
DTSTAMP:20260423T162207
CREATED:20260407T141555Z
LAST-MODIFIED:20260407T141906Z
UID:2781-1777122000-1777122000@ourhomeyourhome.ca
SUMMARY:Crib & Meat Draw | Beausejour Legion
DESCRIPTION:Please note there will be no Crib & Meat Draw events on long weekends.
URL:https://ourhomeyourhome.ca/event/crib-meat-draw-beausejour-legion/2026-04-25/
LOCATION:Beausejour Legion #132\, 300 Veterans Lane\, Beausejour\, Manitoba\, R0E 0C0\, Canada
END:VEVENT
BEGIN:VEVENT
DTSTART;TZID=America/Winnipeg:20260425T183000
DTEND;TZID=America/Winnipeg:20260425T213000
DTSTAMP:20260423T162207
CREATED:20260408T152308Z
LAST-MODIFIED:20260408T152308Z
UID:2882-1777141800-1777152600@ourhomeyourhome.ca
SUMMARY:Dance the Early Evening Away! 18+ | Tyndall
DESCRIPTION:For more information:\nhttps://app.amilia.com/store/en/brokenhead-river-recreation-commission/shop/activities/6858337 \n 
URL:https://ourhomeyourhome.ca/event/dance-the-early-evening-away-18-tyndall/
LOCATION:Tyndall Village Community Centre\, 69 Pierson Drive\, Tyndall\, Manitoba\, R0E 2B0\, Canada
ORGANIZER;CN="Brokenhead River Recreation Commission":MAILTO:programdirector@brokenheadriverrec.com
END:VEVENT
BEGIN:VEVENT
DTSTART;TZID=America/Winnipeg:20260426T130000
DTEND;TZID=America/Winnipeg:20260426T130000
DTSTAMP:20260423T162207
CREATED:20260407T141308Z
LAST-MODIFIED:20260407T141308Z
UID:2768-1777208400-1777208400@ourhomeyourhome.ca
SUMMARY:Meat Bingo | Beausejour Legion
DESCRIPTION:
URL:https://ourhomeyourhome.ca/event/meat-bingo-beausejour-legion-2/2026-04-26/
LOCATION:Beausejour Legion #132\, 300 Veterans Lane\, Beausejour\, Manitoba\, R0E 0C0\, Canada
END:VEVENT
BEGIN:VEVENT
DTSTART;TZID=America/Winnipeg:20260426T130000
DTEND;TZID=America/Winnipeg:20260426T170000
DTSTAMP:20260423T162207
CREATED:20260323T173520Z
LAST-MODIFIED:20260326T160334Z
UID:2728-1777208400-1777222800@ourhomeyourhome.ca
SUMMARY:Old Time Dance | Beausejour
DESCRIPTION:
URL:https://ourhomeyourhome.ca/event/old-time-dance-3/
LOCATION:Brokenhead River Community Hall\, 320 Veterans Lane\, Beausejour\, Mb\, R0E 0C0\, Canada
END:VEVENT
BEGIN:VEVENT
DTSTART;VALUE=DATE:20260427
DTEND;VALUE=DATE:20260504
DTSTAMP:20260423T162207
CREATED:20260407T142729Z
LAST-MODIFIED:20260407T142729Z
UID:2862-1777248000-1777852799@ourhomeyourhome.ca
SUMMARY:Smile Cookie Week
DESCRIPTION:100% of proceeds going towards Brokenhead River Community Foundation scholarship & bursaries! Stop by Tim Hortons in Beausejour from April 27 to May 3\, 2026 to get your cookies and support local students!
URL:https://ourhomeyourhome.ca/event/smile-cookie-week/
LOCATION:Beausejour Tim Hortons\, 1050 Park Avenue\, Beausejour\, Manitoba\, R0E0C0\, Canada
ORGANIZER;CN="Brokenhead River Community Foundation":MAILTO:brcf@brcfoundation.ca
END:VEVENT
BEGIN:VEVENT
DTSTART;TZID=America/Winnipeg:20260501T110000
DTEND;TZID=America/Winnipeg:20260501T170000
DTSTAMP:20260423T162207
CREATED:20260421T170744Z
LAST-MODIFIED:20260421T170842Z
UID:2909-1777633200-1777654800@ourhomeyourhome.ca
SUMMARY:Beauhead Arts Fest Krispy Kreme Donut Sale
DESCRIPTION:  \nThe Beauhead Arts Festival Krispy Kreme donut fundraiser! Friday May 1 from 11am-5pm at the Big Beausejour Book Sale. Pre-order you box today! All proceeds going right back into supporting arts programming and opportunities in our community!
URL:https://ourhomeyourhome.ca/event/beauhead-arts-fest-krispy-kreme-donut-sale/
LOCATION:Beausejour Sportsplex\, 360 Veterans Lane\, Beausejour\, Manitoba\, Canada
ORGANIZER;CN="Beauhead Arts Fest":MAILTO:beauheadartsfest@gmail.com
END:VEVENT
BEGIN:VEVENT
DTSTART;TZID=America/Winnipeg:20260501T120000
DTEND;TZID=America/Winnipeg:20260501T200000
DTSTAMP:20260423T162207
CREATED:20260205T181155Z
LAST-MODIFIED:20260423T141355Z
UID:2627-1777636800-1777665600@ourhomeyourhome.ca
SUMMARY:The Big Beausejour Book Sale
DESCRIPTION:Follow The Big Beausejour Book Sale on Facebook or Instagram to stay up to date. \n  \nMark your calendars for the 11th Annual Big Beausejour Book Sale! Our volunteers transform the dry ice surface of the Beausejour Sportsplex into an amazing and affordable book sale. (Plus puzzles\, games\, DVDs and LPs)\nWe gratefully accept gently used donations year-round at the Beausejour Sportsplex\, DC Accounting and Tarantism Dance. We also accept donation drop offs during our event.\nThe 2026 event will be on:\nFriday\, May 1st from noon to 8pm – Special feature of the Author’s Alley in the lobby from noon to 4pm. We started this feature last year and it was AMAZING. We have 20 Manitoba authors signed up\, and we hope this “meet and greet” will continue to promote their talents!\nSaturday\, May 2nd from 10am to 3pm – We offer a sensory shopping experience from 10am until noon with dimmed lighting and no music playing.\nSunday\, May 3rd from 10am to 3pm – Our half price day!\nPlease consider bringing a shopping bag (we also have lots of extras for you!) and a “tin for the bin” to help out our local food bank. Our fundraising efforts allow us to sponsor the Dolly Parton Imagination Library for Beausejour\, Garson\, Tyndall and the RM of Brokenhead. This is an amazing literacy program for children ages 0-5\, where they can sign up to receive free books in the mail each month. A great way to promote early literacy! We also donate funds to support the Brokenhead River Regional Library and the EBEYS\, Gillis School\, and EESS school libraries.\nCash and debit accepted. (No credit cards due to the high service fees.) Follow our Facebook page for lots of information and sneak peeks! Thank you for your support!
URL:https://ourhomeyourhome.ca/event/the-big-beausejour-book-sale-2/2026-05-01/
LOCATION:Beausejour Sportsplex\, 360 Veterans Lane\, Beausejour\, Manitoba\, Canada
ORGANIZER;CN="Big Beausejour Book Sale":MAILTO:the.big.beausejour.book.sale@gmail.com
END:VEVENT
BEGIN:VEVENT
DTSTART;TZID=America/Winnipeg:20260501T170000
DTEND;TZID=America/Winnipeg:20260501T170000
DTSTAMP:20260423T162207
CREATED:20260410T170856Z
LAST-MODIFIED:20260423T134535Z
UID:2885-1777654800-1777654800@ourhomeyourhome.ca
SUMMARY:Supper and Jam Night | Beausejour Legion
DESCRIPTION:
URL:https://ourhomeyourhome.ca/event/supper-and-jam-night-beausejour-legion-3/
LOCATION:Beausejour Legion #132\, 300 Veterans Lane\, Beausejour\, Manitoba\, R0E 0C0\, Canada
END:VEVENT
BEGIN:VEVENT
DTSTART;TZID=America/Winnipeg:20260502T100000
DTEND;TZID=America/Winnipeg:20260502T150000
DTSTAMP:20260423T162207
CREATED:20260205T181155Z
LAST-MODIFIED:20260423T141355Z
UID:2629-1777716000-1777734000@ourhomeyourhome.ca
SUMMARY:The Big Beausejour Book Sale
DESCRIPTION:Follow The Big Beausejour Book Sale on Facebook or Instagram to stay up to date. \n  \nMark your calendars for the 11th Annual Big Beausejour Book Sale! Our volunteers transform the dry ice surface of the Beausejour Sportsplex into an amazing and affordable book sale. (Plus puzzles\, games\, DVDs and LPs)\nWe gratefully accept gently used donations year-round at the Beausejour Sportsplex\, DC Accounting and Tarantism Dance. We also accept donation drop offs during our event.\nThe 2026 event will be on:\nFriday\, May 1st from noon to 8pm – Special feature of the Author’s Alley in the lobby from noon to 4pm. We started this feature last year and it was AMAZING. We have 20 Manitoba authors signed up\, and we hope this “meet and greet” will continue to promote their talents!\nSaturday\, May 2nd from 10am to 3pm – We offer a sensory shopping experience from 10am until noon with dimmed lighting and no music playing.\nSunday\, May 3rd from 10am to 3pm – Our half price day!\nPlease consider bringing a shopping bag (we also have lots of extras for you!) and a “tin for the bin” to help out our local food bank. Our fundraising efforts allow us to sponsor the Dolly Parton Imagination Library for Beausejour\, Garson\, Tyndall and the RM of Brokenhead. This is an amazing literacy program for children ages 0-5\, where they can sign up to receive free books in the mail each month. A great way to promote early literacy! We also donate funds to support the Brokenhead River Regional Library and the EBEYS\, Gillis School\, and EESS school libraries.\nCash and debit accepted. (No credit cards due to the high service fees.) Follow our Facebook page for lots of information and sneak peeks! Thank you for your support!
URL:https://ourhomeyourhome.ca/event/the-big-beausejour-book-sale-2/2026-05-02/
LOCATION:Beausejour Sportsplex\, 360 Veterans Lane\, Beausejour\, Manitoba\, Canada
ORGANIZER;CN="Big Beausejour Book Sale":MAILTO:the.big.beausejour.book.sale@gmail.com
END:VEVENT
BEGIN:VEVENT
DTSTART;TZID=America/Winnipeg:20260502T113000
DTEND;TZID=America/Winnipeg:20260502T140000
DTSTAMP:20260423T162207
CREATED:20260318T143336Z
LAST-MODIFIED:20260326T160412Z
UID:2709-1777721400-1777730400@ourhomeyourhome.ca
SUMMARY:Ring in Spring Picnic | Beausejour
DESCRIPTION:
URL:https://ourhomeyourhome.ca/event/ring-in-spring-picnic/
LOCATION:Manitoba
ORGANIZER;CN="Tarantism Dance Company":MAILTO:info@tarantismdance.com
END:VEVENT
BEGIN:VEVENT
DTSTART;TZID=America/Winnipeg:20260502T130000
DTEND;TZID=America/Winnipeg:20260502T130000
DTSTAMP:20260423T162207
CREATED:20260407T141555Z
LAST-MODIFIED:20260407T141906Z
UID:2782-1777726800-1777726800@ourhomeyourhome.ca
SUMMARY:Crib & Meat Draw | Beausejour Legion
DESCRIPTION:Please note there will be no Crib & Meat Draw events on long weekends.
URL:https://ourhomeyourhome.ca/event/crib-meat-draw-beausejour-legion/2026-05-02/
LOCATION:Beausejour Legion #132\, 300 Veterans Lane\, Beausejour\, Manitoba\, R0E 0C0\, Canada
END:VEVENT
BEGIN:VEVENT
DTSTART;TZID=America/Winnipeg:20260503T100000
DTEND;TZID=America/Winnipeg:20260503T150000
DTSTAMP:20260423T162207
CREATED:20260205T181155Z
LAST-MODIFIED:20260423T141356Z
UID:2630-1777802400-1777820400@ourhomeyourhome.ca
SUMMARY:The Big Beausejour Book Sale
DESCRIPTION:Follow The Big Beausejour Book Sale on Facebook or Instagram to stay up to date. \n  \nMark your calendars for the 11th Annual Big Beausejour Book Sale! Our volunteers transform the dry ice surface of the Beausejour Sportsplex into an amazing and affordable book sale. (Plus puzzles\, games\, DVDs and LPs)\nWe gratefully accept gently used donations year-round at the Beausejour Sportsplex\, DC Accounting and Tarantism Dance. We also accept donation drop offs during our event.\nThe 2026 event will be on:\nFriday\, May 1st from noon to 8pm – Special feature of the Author’s Alley in the lobby from noon to 4pm. We started this feature last year and it was AMAZING. We have 20 Manitoba authors signed up\, and we hope this “meet and greet” will continue to promote their talents!\nSaturday\, May 2nd from 10am to 3pm – We offer a sensory shopping experience from 10am until noon with dimmed lighting and no music playing.\nSunday\, May 3rd from 10am to 3pm – Our half price day!\nPlease consider bringing a shopping bag (we also have lots of extras for you!) and a “tin for the bin” to help out our local food bank. Our fundraising efforts allow us to sponsor the Dolly Parton Imagination Library for Beausejour\, Garson\, Tyndall and the RM of Brokenhead. This is an amazing literacy program for children ages 0-5\, where they can sign up to receive free books in the mail each month. A great way to promote early literacy! We also donate funds to support the Brokenhead River Regional Library and the EBEYS\, Gillis School\, and EESS school libraries.\nCash and debit accepted. (No credit cards due to the high service fees.) Follow our Facebook page for lots of information and sneak peeks! Thank you for your support!
URL:https://ourhomeyourhome.ca/event/the-big-beausejour-book-sale-2/2026-05-03/
LOCATION:Beausejour Sportsplex\, 360 Veterans Lane\, Beausejour\, Manitoba\, Canada
ORGANIZER;CN="Big Beausejour Book Sale":MAILTO:the.big.beausejour.book.sale@gmail.com
END:VEVENT
BEGIN:VEVENT
DTSTART;TZID=America/Winnipeg:20260504T173000
DTEND;TZID=America/Winnipeg:20260504T173000
DTSTAMP:20260423T162207
CREATED:20260414T185330Z
LAST-MODIFIED:20260414T185330Z
UID:2894-1777915800-1777915800@ourhomeyourhome.ca
SUMMARY:BBDC AGM | Beausejour
DESCRIPTION:Notice of the Annual General Meeting for Beausejour Brokenhead Development Corporation on Monday\, May 4th at 5:30pm at the RM of Brokenhead Office – 72013 Road 42E\, Beausejour.
URL:https://ourhomeyourhome.ca/event/bbdc-agm-beausejour/
LOCATION:Manitoba
END:VEVENT
BEGIN:VEVENT
DTSTART;TZID=America/Winnipeg:20260505T130000
DTEND;TZID=America/Winnipeg:20260505T160000
DTSTAMP:20260423T162207
CREATED:20260415T170331Z
LAST-MODIFIED:20260415T170331Z
UID:2897-1777986000-1777996800@ourhomeyourhome.ca
SUMMARY:Club 50 Old Tyme Dance | Beausejour
DESCRIPTION:
URL:https://ourhomeyourhome.ca/event/club-50-old-tyme-dance-beausejour/
LOCATION:Brokenhead River Community Hall\, 320 Veterans Lane\, Beausejour\, Mb\, R0E 0C0\, Canada
END:VEVENT
BEGIN:VEVENT
DTSTART;TZID=America/Winnipeg:20260505T183000
DTEND;TZID=America/Winnipeg:20260505T183000
DTSTAMP:20260423T162207
CREATED:20260407T144105Z
LAST-MODIFIED:20260407T144105Z
UID:2874-1778005800-1778005800@ourhomeyourhome.ca
SUMMARY:The Miss Magnolia Senior Citizen Beauty Pageant
DESCRIPTION:
URL:https://ourhomeyourhome.ca/event/the-miss-magnolia-senior-citizen-beauty-pageant/2026-05-05/
LOCATION:St Paul’s United Church\, 730 James Avenue\, Beausejour\, Manitoba\, R0E0C0\, Canada
END:VEVENT
BEGIN:VEVENT
DTSTART;TZID=America/Winnipeg:20260506T183000
DTEND;TZID=America/Winnipeg:20260506T183000
DTSTAMP:20260423T162207
CREATED:20260407T144105Z
LAST-MODIFIED:20260407T144105Z
UID:2877-1778092200-1778092200@ourhomeyourhome.ca
SUMMARY:The Miss Magnolia Senior Citizen Beauty Pageant
DESCRIPTION:
URL:https://ourhomeyourhome.ca/event/the-miss-magnolia-senior-citizen-beauty-pageant/2026-05-06/
LOCATION:St Paul’s United Church\, 730 James Avenue\, Beausejour\, Manitoba\, R0E0C0\, Canada
END:VEVENT
BEGIN:VEVENT
DTSTART;TZID=America/Winnipeg:20260507T183000
DTEND;TZID=America/Winnipeg:20260507T183000
DTSTAMP:20260423T162207
CREATED:20260407T144105Z
LAST-MODIFIED:20260407T144105Z
UID:2878-1778178600-1778178600@ourhomeyourhome.ca
SUMMARY:The Miss Magnolia Senior Citizen Beauty Pageant
DESCRIPTION:
URL:https://ourhomeyourhome.ca/event/the-miss-magnolia-senior-citizen-beauty-pageant/2026-05-07/
LOCATION:St Paul’s United Church\, 730 James Avenue\, Beausejour\, Manitoba\, R0E0C0\, Canada
END:VEVENT
BEGIN:VEVENT
DTSTART;TZID=America/Winnipeg:20260508T100000
DTEND;TZID=America/Winnipeg:20260508T150000
DTSTAMP:20260423T162207
CREATED:20260421T131428Z
LAST-MODIFIED:20260421T131428Z
UID:2905-1778234400-1778252400@ourhomeyourhome.ca
SUMMARY:Common Threads Quilt Show
DESCRIPTION:
URL:https://ourhomeyourhome.ca/event/common-threads-quilt-show/2026-05-08/
LOCATION:Zion Lutheran Church\, 403 First Street North\, Beausejour\, Manitoba\, R0E0C0\, Canada
END:VEVENT
BEGIN:VEVENT
DTSTART;TZID=America/Winnipeg:20260508T183000
DTEND;TZID=America/Winnipeg:20260508T183000
DTSTAMP:20260423T162207
CREATED:20260407T144105Z
LAST-MODIFIED:20260407T144105Z
UID:2879-1778265000-1778265000@ourhomeyourhome.ca
SUMMARY:The Miss Magnolia Senior Citizen Beauty Pageant
DESCRIPTION:
URL:https://ourhomeyourhome.ca/event/the-miss-magnolia-senior-citizen-beauty-pageant/2026-05-08/
LOCATION:St Paul’s United Church\, 730 James Avenue\, Beausejour\, Manitoba\, R0E0C0\, Canada
END:VEVENT
BEGIN:VEVENT
DTSTART;TZID=America/Winnipeg:20260509T100000
DTEND;TZID=America/Winnipeg:20260509T150000
DTSTAMP:20260423T162207
CREATED:20260421T131428Z
LAST-MODIFIED:20260421T131428Z
UID:2907-1778320800-1778338800@ourhomeyourhome.ca
SUMMARY:Common Threads Quilt Show
DESCRIPTION:
URL:https://ourhomeyourhome.ca/event/common-threads-quilt-show/2026-05-09/
LOCATION:Zion Lutheran Church\, 403 First Street North\, Beausejour\, Manitoba\, R0E0C0\, Canada
END:VEVENT
BEGIN:VEVENT
DTSTART;TZID=America/Winnipeg:20260509T130000
DTEND;TZID=America/Winnipeg:20260509T130000
DTSTAMP:20260423T162207
CREATED:20260407T141555Z
LAST-MODIFIED:20260407T141906Z
UID:2783-1778331600-1778331600@ourhomeyourhome.ca
SUMMARY:Crib & Meat Draw | Beausejour Legion
DESCRIPTION:Please note there will be no Crib & Meat Draw events on long weekends.
URL:https://ourhomeyourhome.ca/event/crib-meat-draw-beausejour-legion/2026-05-09/
LOCATION:Beausejour Legion #132\, 300 Veterans Lane\, Beausejour\, Manitoba\, R0E 0C0\, Canada
END:VEVENT
BEGIN:VEVENT
DTSTART;TZID=America/Winnipeg:20260509T140000
DTEND;TZID=America/Winnipeg:20260509T160000
DTSTAMP:20260423T162207
CREATED:20260323T172718Z
LAST-MODIFIED:20260326T160449Z
UID:2721-1778335200-1778342400@ourhomeyourhome.ca
SUMMARY:Paint Night | Beausejour
DESCRIPTION:Come out for some creative time\, meet new people\, and become part of a wonderful community of artists. We hope you’ll join us! Tickets are available through Eventbrite: https://www.eventbrite.ca/e/beauhead-arts-fest-fundraiser-paint-night-tickets-1985338014445 \nThis fundraising event is in support of Beauhead Arts Festival.
URL:https://ourhomeyourhome.ca/event/2721/
LOCATION:Sandy-Saulteaux Spiritual Centre\, 290 Zielke Drive\, Beausejour\, Manitoba\, R0E0C0\, Canada
ORGANIZER;CN="Beauhead Arts Fest":MAILTO:beauheadartsfest@gmail.com
END:VEVENT
BEGIN:VEVENT
DTSTART;TZID=America/Winnipeg:20260509T183000
DTEND;TZID=America/Winnipeg:20260509T183000
DTSTAMP:20260423T162207
CREATED:20260407T144105Z
LAST-MODIFIED:20260407T144105Z
UID:2880-1778351400-1778351400@ourhomeyourhome.ca
SUMMARY:The Miss Magnolia Senior Citizen Beauty Pageant
DESCRIPTION:
URL:https://ourhomeyourhome.ca/event/the-miss-magnolia-senior-citizen-beauty-pageant/2026-05-09/
LOCATION:St Paul’s United Church\, 730 James Avenue\, Beausejour\, Manitoba\, R0E0C0\, Canada
END:VEVENT
BEGIN:VEVENT
DTSTART;TZID=America/Winnipeg:20260514T180000
DTEND;TZID=America/Winnipeg:20260514T210000
DTSTAMP:20260423T162207
CREATED:20260417T154056Z
LAST-MODIFIED:20260417T154056Z
UID:2902-1778781600-1778792400@ourhomeyourhome.ca
SUMMARY:Board Game Night | Pennyweight Market
DESCRIPTION:
URL:https://ourhomeyourhome.ca/event/board-game-night-pennyweight-market/
LOCATION:Pennyweight Market\, 802 Park Ave\, Beausejour\, Manitoba\, R0E0C0\, Canada
END:VEVENT
BEGIN:VEVENT
DTSTART;VALUE=DATE:20260515
DTEND;VALUE=DATE:20260516
DTSTAMP:20260423T162207
CREATED:20260407T143120Z
LAST-MODIFIED:20260407T143120Z
UID:2869-1778803200-1778889599@ourhomeyourhome.ca
SUMMARY:BRCF Bursary & Scholarship Application Deadline
DESCRIPTION:
URL:https://ourhomeyourhome.ca/event/brcf-bursary-scholarship-application-deadline/
LOCATION:Manitoba
ORGANIZER;CN="Brokenhead River Community Foundation":MAILTO:brcf@brcfoundation.ca
END:VEVENT
END:VCALENDAR