BEGIN:VCALENDAR
VERSION:2.0
PRODID:-//BBDC - ECPv6.15.13//NONSGML v1.0//EN
CALSCALE:GREGORIAN
METHOD:PUBLISH
X-ORIGINAL-URL:https://ourhomeyourhome.ca
X-WR-CALDESC:Events for BBDC
REFRESH-INTERVAL;VALUE=DURATION:PT1H
X-Robots-Tag:noindex
X-PUBLISHED-TTL:PT1H
BEGIN:VTIMEZONE
TZID:UTC
BEGIN:STANDARD
TZOFFSETFROM:+0000
TZOFFSETTO:+0000
TZNAME:UTC
DTSTART:20250101T000000
END:STANDARD
END:VTIMEZONE
BEGIN:VTIMEZONE
TZID:America/Winnipeg
BEGIN:DAYLIGHT
TZOFFSETFROM:-0600
TZOFFSETTO:-0500
TZNAME:CDT
DTSTART:20250309T080000
END:DAYLIGHT
BEGIN:STANDARD
TZOFFSETFROM:-0500
TZOFFSETTO:-0600
TZNAME:CST
DTSTART:20251102T070000
END:STANDARD
BEGIN:DAYLIGHT
TZOFFSETFROM:-0600
TZOFFSETTO:-0500
TZNAME:CDT
DTSTART:20260308T080000
END:DAYLIGHT
BEGIN:STANDARD
TZOFFSETFROM:-0500
TZOFFSETTO:-0600
TZNAME:CST
DTSTART:20261101T070000
END:STANDARD
BEGIN:DAYLIGHT
TZOFFSETFROM:-0600
TZOFFSETTO:-0500
TZNAME:CDT
DTSTART:20270314T080000
END:DAYLIGHT
BEGIN:STANDARD
TZOFFSETFROM:-0500
TZOFFSETTO:-0600
TZNAME:CST
DTSTART:20271107T070000
END:STANDARD
END:VTIMEZONE
BEGIN:VEVENT
DTSTART;TZID=UTC:20260523T090000
DTEND;TZID=UTC:20260523T120000
DTSTAMP:20260423T175437
CREATED:20230508T213544Z
LAST-MODIFIED:20251125T225211Z
UID:1065-1779526800-1779537600@ourhomeyourhome.ca
SUMMARY:Beausejour Daylily Gardens Annual Plant Sale
DESCRIPTION:More details to come.
URL:https://ourhomeyourhome.ca/event/beausejour-daylily-gardens-surplus-plant-sale/
LOCATION:Beausejour Daylily Gardens\, First St N\, Beausejour\, Manitoba\, Canada
END:VEVENT
BEGIN:VEVENT
DTSTART;TZID=America/Winnipeg:20260523T130000
DTEND;TZID=America/Winnipeg:20260523T130000
DTSTAMP:20260423T175437
CREATED:20260407T141555Z
LAST-MODIFIED:20260407T141907Z
UID:2785-1779541200-1779541200@ourhomeyourhome.ca
SUMMARY:Crib & Meat Draw | Beausejour Legion
DESCRIPTION:Please note there will be no Crib & Meat Draw events on long weekends.
URL:https://ourhomeyourhome.ca/event/crib-meat-draw-beausejour-legion/2026-05-23/
LOCATION:Beausejour Legion #132\, 300 Veterans Lane\, Beausejour\, Manitoba\, R0E 0C0\, Canada
END:VEVENT
BEGIN:VEVENT
DTSTART;TZID=America/Winnipeg:20260529T180000
DTEND;TZID=America/Winnipeg:20260529T180000
DTSTAMP:20260423T175437
CREATED:20260410T171201Z
LAST-MODIFIED:20260417T153819Z
UID:2888-1780077600-1780077600@ourhomeyourhome.ca
SUMMARY:Plant Bingo | Garson
DESCRIPTION:
URL:https://ourhomeyourhome.ca/event/plant-bingo-garson/
LOCATION:Garson Centennial Community Centre\, 11 Thompson Ave\, Garson\, Manitoba\, R0E 0R0\, Canada
END:VEVENT
BEGIN:VEVENT
DTSTART;TZID=America/Winnipeg:20260530T100000
DTEND;TZID=America/Winnipeg:20260530T180000
DTSTAMP:20260423T175437
CREATED:20260331T162432Z
LAST-MODIFIED:20260331T162627Z
UID:2760-1780135200-1780164000@ourhomeyourhome.ca
SUMMARY:Eastman Tourism & Outdoor Show
DESCRIPTION:For more information or to book a booth\, please contact Michelle Gawronsky at Eastman Tourism at 204-451-1757 or admin@eastmantourism.ca
URL:https://ourhomeyourhome.ca/event/eastman-tourism-outdoor-show/2026-05-30/
LOCATION:Manitoba
ORGANIZER;CN="Eastman Tourism Association":MAILTO:admin@eastmantourism.ca
END:VEVENT
BEGIN:VEVENT
DTSTART;TZID=America/Winnipeg:20260530T130000
DTEND;TZID=America/Winnipeg:20260530T130000
DTSTAMP:20260423T175437
CREATED:20260407T141555Z
LAST-MODIFIED:20260407T141907Z
UID:2786-1780146000-1780146000@ourhomeyourhome.ca
SUMMARY:Crib & Meat Draw | Beausejour Legion
DESCRIPTION:Please note there will be no Crib & Meat Draw events on long weekends.
URL:https://ourhomeyourhome.ca/event/crib-meat-draw-beausejour-legion/2026-05-30/
LOCATION:Beausejour Legion #132\, 300 Veterans Lane\, Beausejour\, Manitoba\, R0E 0C0\, Canada
END:VEVENT
BEGIN:VEVENT
DTSTART;TZID=America/Winnipeg:20260531T100000
DTEND;TZID=America/Winnipeg:20260531T160000
DTSTAMP:20260423T175437
CREATED:20260331T162432Z
LAST-MODIFIED:20260331T162432Z
UID:2766-1780221600-1780243200@ourhomeyourhome.ca
SUMMARY:Eastman Tourism & Outdoor Show
DESCRIPTION:For more information or to book a booth\, please contact Michelle Gawronsky at Eastman Tourism at 204-451-1757 or admin@eastmantourism.ca
URL:https://ourhomeyourhome.ca/event/eastman-tourism-outdoor-show/2026-05-31/
LOCATION:Manitoba
ORGANIZER;CN="Eastman Tourism Association":MAILTO:admin@eastmantourism.ca
END:VEVENT
BEGIN:VEVENT
DTSTART;TZID=America/Winnipeg:20260531T130000
DTEND;TZID=America/Winnipeg:20260531T130000
DTSTAMP:20260423T175437
CREATED:20260407T141308Z
LAST-MODIFIED:20260407T141308Z
UID:2770-1780232400-1780232400@ourhomeyourhome.ca
SUMMARY:Meat Bingo | Beausejour Legion
DESCRIPTION:
URL:https://ourhomeyourhome.ca/event/meat-bingo-beausejour-legion-2/2026-05-31/
LOCATION:Beausejour Legion #132\, 300 Veterans Lane\, Beausejour\, Manitoba\, R0E 0C0\, Canada
END:VEVENT
BEGIN:VEVENT
DTSTART;TZID=America/Winnipeg:20260603T190000
DTEND;TZID=America/Winnipeg:20260603T190000
DTSTAMP:20260423T175437
CREATED:20260320T150944Z
LAST-MODIFIED:20260320T150944Z
UID:2718-1780513200-1780513200@ourhomeyourhome.ca
SUMMARY:Scott Woods Presents Fiddle Country
DESCRIPTION:
URL:https://ourhomeyourhome.ca/event/scott-woods-presents-fiddle-country/
LOCATION:Zion Lutheran Church\, 403 First Street North\, Beausejour\, Manitoba\, R0E0C0\, Canada
END:VEVENT
BEGIN:VEVENT
DTSTART;VALUE=DATE:20260606
DTEND;VALUE=DATE:20260607
DTSTAMP:20260423T175437
CREATED:20260323T173942Z
LAST-MODIFIED:20260323T174142Z
UID:2731-1780704000-1780790399@ourhomeyourhome.ca
SUMMARY:Beausejour Community Garage Sale
DESCRIPTION: 
URL:https://ourhomeyourhome.ca/event/beausejour-community-garage-sale/
LOCATION:Manitoba
ORGANIZER;CN="Town of Beausejour Recreation":MAILTO:recreation@townofbeausejour.com
END:VEVENT
BEGIN:VEVENT
DTSTART;TZID=America/Winnipeg:20260606T130000
DTEND;TZID=America/Winnipeg:20260606T130000
DTSTAMP:20260423T175437
CREATED:20260407T141555Z
LAST-MODIFIED:20260407T141907Z
UID:2787-1780750800-1780750800@ourhomeyourhome.ca
SUMMARY:Crib & Meat Draw | Beausejour Legion
DESCRIPTION:Please note there will be no Crib & Meat Draw events on long weekends.
URL:https://ourhomeyourhome.ca/event/crib-meat-draw-beausejour-legion/2026-06-06/
LOCATION:Beausejour Legion #132\, 300 Veterans Lane\, Beausejour\, Manitoba\, R0E 0C0\, Canada
END:VEVENT
BEGIN:VEVENT
DTSTART;TZID=America/Winnipeg:20260613T130000
DTEND;TZID=America/Winnipeg:20260613T130000
DTSTAMP:20260423T175437
CREATED:20260407T141555Z
LAST-MODIFIED:20260407T141907Z
UID:2788-1781355600-1781355600@ourhomeyourhome.ca
SUMMARY:Crib & Meat Draw | Beausejour Legion
DESCRIPTION:Please note there will be no Crib & Meat Draw events on long weekends.
URL:https://ourhomeyourhome.ca/event/crib-meat-draw-beausejour-legion/2026-06-13/
LOCATION:Beausejour Legion #132\, 300 Veterans Lane\, Beausejour\, Manitoba\, R0E 0C0\, Canada
END:VEVENT
BEGIN:VEVENT
DTSTART;TZID=UTC:20260614T110000
DTEND;TZID=UTC:20260614T150000
DTSTAMP:20260423T175437
CREATED:20251007T211130Z
LAST-MODIFIED:20251007T211130Z
UID:2345-1781434800-1781449200@ourhomeyourhome.ca
SUMMARY:Pop Up Market
DESCRIPTION:
URL:https://ourhomeyourhome.ca/event/pop-up-market/2026-06-14/
LOCATION:Breezy Oaks Inn & Tavern\, 1055 Park Avenue\, Beausejour\, Manitoba\, R0E 0C0\, Canada
ORGANIZER;CN="m & a markets":MAILTO:garandash@hotmail.com
END:VEVENT
BEGIN:VEVENT
DTSTART;TZID=America/Winnipeg:20260618T100000
DTEND;TZID=America/Winnipeg:20260618T150000
DTSTAMP:20260423T175437
CREATED:20260109T161130Z
LAST-MODIFIED:20260109T161130Z
UID:2527-1781776800-1781794800@ourhomeyourhome.ca
SUMMARY:Beausejour & Area Harvest & Share
DESCRIPTION:Free Vegetables and fruits when available for anyone who needs them!\nThursdays 10am – 3pm\nMid June to late September\n\n\nA table is set up every Thursday at 606 Park Ave in Beausejour in front of Community Threads clothing thrift store (next to RBC)\n\nFor more details and drop off location\, e-mail  Mireille Clark m1967clark@gmail.com
URL:https://ourhomeyourhome.ca/event/beausejour-area-harvest-share/2026-06-18/
LOCATION:Manitoba
END:VEVENT
BEGIN:VEVENT
DTSTART;TZID=America/Winnipeg:20260618T190000
DTEND;TZID=America/Winnipeg:20260618T190000
DTSTAMP:20260423T175437
CREATED:20260407T142919Z
LAST-MODIFIED:20260407T142919Z
UID:2866-1781809200-1781809200@ourhomeyourhome.ca
SUMMARY:Brokenhead River Community Foundation AGM
DESCRIPTION:
URL:https://ourhomeyourhome.ca/event/brokenhead-river-community-foundation-agm/
LOCATION:Manitoba
ORGANIZER;CN="Brokenhead River Community Foundation":MAILTO:brcf@brcfoundation.ca
END:VEVENT
BEGIN:VEVENT
DTSTART;TZID=America/Winnipeg:20260620T130000
DTEND;TZID=America/Winnipeg:20260620T130000
DTSTAMP:20260423T175437
CREATED:20260407T141555Z
LAST-MODIFIED:20260407T141907Z
UID:2789-1781960400-1781960400@ourhomeyourhome.ca
SUMMARY:Crib & Meat Draw | Beausejour Legion
DESCRIPTION:Please note there will be no Crib & Meat Draw events on long weekends.
URL:https://ourhomeyourhome.ca/event/crib-meat-draw-beausejour-legion/2026-06-20/
LOCATION:Beausejour Legion #132\, 300 Veterans Lane\, Beausejour\, Manitoba\, R0E 0C0\, Canada
END:VEVENT
BEGIN:VEVENT
DTSTART;TZID=America/Winnipeg:20260625T100000
DTEND;TZID=America/Winnipeg:20260625T150000
DTSTAMP:20260423T175437
CREATED:20260109T161130Z
LAST-MODIFIED:20260109T161130Z
UID:2530-1782381600-1782399600@ourhomeyourhome.ca
SUMMARY:Beausejour & Area Harvest & Share
DESCRIPTION:Free Vegetables and fruits when available for anyone who needs them!\nThursdays 10am – 3pm\nMid June to late September\n\n\nA table is set up every Thursday at 606 Park Ave in Beausejour in front of Community Threads clothing thrift store (next to RBC)\n\nFor more details and drop off location\, e-mail  Mireille Clark m1967clark@gmail.com
URL:https://ourhomeyourhome.ca/event/beausejour-area-harvest-share/2026-06-25/
LOCATION:Manitoba
END:VEVENT
BEGIN:VEVENT
DTSTART;TZID=America/Winnipeg:20260627T130000
DTEND;TZID=America/Winnipeg:20260627T130000
DTSTAMP:20260423T175437
CREATED:20260407T141555Z
LAST-MODIFIED:20260407T141911Z
UID:2791-1782565200-1782565200@ourhomeyourhome.ca
SUMMARY:Crib & Meat Draw | Beausejour Legion
DESCRIPTION:Please note there will be no Crib & Meat Draw events on long weekends.
URL:https://ourhomeyourhome.ca/event/crib-meat-draw-beausejour-legion/2026-06-27/
LOCATION:Beausejour Legion #132\, 300 Veterans Lane\, Beausejour\, Manitoba\, R0E 0C0\, Canada
END:VEVENT
BEGIN:VEVENT
DTSTART;TZID=UTC:20260628T130000
DTEND;TZID=UTC:20260628T130000
DTSTAMP:20260423T175437
CREATED:20251017T185404Z
LAST-MODIFIED:20260212T153722Z
UID:2411-1782651600-1782651600@ourhomeyourhome.ca
SUMMARY:BB Jammers at Daylily Stage
DESCRIPTION:The “BB Jammers” are made up of local musicians that have been playing together at local open jams and garage jams. Each event group will be made up of those musicians who are available.  While not a true band playing regular gigs\, because we have played together over the years we are very much like a band! \n  \nLive music starting at 1PM. Admission is free – bring your own chair!
URL:https://ourhomeyourhome.ca/event/bb-jammers-at-daylily-stage/2026-06-28/
LOCATION:Beausejour Daylily Gardens\, First St N\, Beausejour\, Manitoba\, Canada
END:VEVENT
BEGIN:VEVENT
DTSTART;TZID=America/Winnipeg:20260628T130000
DTEND;TZID=America/Winnipeg:20260628T130000
DTSTAMP:20260423T175437
CREATED:20260407T141308Z
LAST-MODIFIED:20260407T141308Z
UID:2771-1782651600-1782651600@ourhomeyourhome.ca
SUMMARY:Meat Bingo | Beausejour Legion
DESCRIPTION:
URL:https://ourhomeyourhome.ca/event/meat-bingo-beausejour-legion-2/2026-06-28/
LOCATION:Beausejour Legion #132\, 300 Veterans Lane\, Beausejour\, Manitoba\, R0E 0C0\, Canada
END:VEVENT
BEGIN:VEVENT
DTSTART;TZID=UTC:20260701T090000
DTEND;TZID=UTC:20260701T130000
DTSTAMP:20260423T175437
CREATED:20230624T010413Z
LAST-MODIFIED:20260108T174845Z
UID:1209-1782896400-1782910800@ourhomeyourhome.ca
SUMMARY:Pioneer Village Museum Pancake Breakfast
DESCRIPTION:The Pioneer Village Museum is hosting its annual pancake breakfast July 1st 2026 from 9am to 1pm. \nMore details to come. Visit pioneervillagemuseum.ca to stay up to date!
URL:https://ourhomeyourhome.ca/event/pioneer-village-museum-pancake-breakfast/
LOCATION:Pioneer Village Museum\, 901 Gertrude Avenue\, Beausejour\, Manitoba\, R0E 0C0\, Canada
END:VEVENT
BEGIN:VEVENT
DTSTART;TZID=America/Winnipeg:20260702T100000
DTEND;TZID=America/Winnipeg:20260702T150000
DTSTAMP:20260423T175437
CREATED:20260109T161130Z
LAST-MODIFIED:20260109T161130Z
UID:2531-1782986400-1783004400@ourhomeyourhome.ca
SUMMARY:Beausejour & Area Harvest & Share
DESCRIPTION:Free Vegetables and fruits when available for anyone who needs them!\nThursdays 10am – 3pm\nMid June to late September\n\n\nA table is set up every Thursday at 606 Park Ave in Beausejour in front of Community Threads clothing thrift store (next to RBC)\n\nFor more details and drop off location\, e-mail  Mireille Clark m1967clark@gmail.com
URL:https://ourhomeyourhome.ca/event/beausejour-area-harvest-share/2026-07-02/
LOCATION:Manitoba
END:VEVENT
BEGIN:VEVENT
DTSTART;TZID=America/Winnipeg:20260704T130000
DTEND;TZID=America/Winnipeg:20260704T130000
DTSTAMP:20260423T175437
CREATED:20260407T141555Z
LAST-MODIFIED:20260407T141911Z
UID:2792-1783170000-1783170000@ourhomeyourhome.ca
SUMMARY:Crib & Meat Draw | Beausejour Legion
DESCRIPTION:Please note there will be no Crib & Meat Draw events on long weekends.
URL:https://ourhomeyourhome.ca/event/crib-meat-draw-beausejour-legion/2026-07-04/
LOCATION:Beausejour Legion #132\, 300 Veterans Lane\, Beausejour\, Manitoba\, R0E 0C0\, Canada
END:VEVENT
BEGIN:VEVENT
DTSTART;TZID=America/Winnipeg:20260709T100000
DTEND;TZID=America/Winnipeg:20260709T150000
DTSTAMP:20260423T175437
CREATED:20260109T161130Z
LAST-MODIFIED:20260109T161130Z
UID:2532-1783591200-1783609200@ourhomeyourhome.ca
SUMMARY:Beausejour & Area Harvest & Share
DESCRIPTION:Free Vegetables and fruits when available for anyone who needs them!\nThursdays 10am – 3pm\nMid June to late September\n\n\nA table is set up every Thursday at 606 Park Ave in Beausejour in front of Community Threads clothing thrift store (next to RBC)\n\nFor more details and drop off location\, e-mail  Mireille Clark m1967clark@gmail.com
URL:https://ourhomeyourhome.ca/event/beausejour-area-harvest-share/2026-07-09/
LOCATION:Manitoba
END:VEVENT
BEGIN:VEVENT
DTSTART;TZID=America/Winnipeg:20260711T130000
DTEND;TZID=America/Winnipeg:20260711T130000
DTSTAMP:20260423T175437
CREATED:20260108T175324Z
LAST-MODIFIED:20260108T175324Z
UID:2499-1783774800-1783774800@ourhomeyourhome.ca
SUMMARY:Annual Eastman Vintage Tractor Pull
DESCRIPTION:Pioneer Village Museum will be hosting the 2nd Annual Eastman Vintage Tractor Pull on July 11\, 2026 at 1pm. \n$10.00 admission (kids under 5 FREE) \nContact BJANTIQUEPULL@GMAIL.COM  for further information and visit pioneervillagemuseum.ca to stay up to date!
URL:https://ourhomeyourhome.ca/event/annual-eastman-vintage-tractor-pull/
LOCATION:Pioneer Village Museum\, 901 Gertrude Avenue\, Beausejour\, Manitoba\, R0E 0C0\, Canada
END:VEVENT
BEGIN:VEVENT
DTSTART;TZID=America/Winnipeg:20260711T130000
DTEND;TZID=America/Winnipeg:20260711T130000
DTSTAMP:20260423T175437
CREATED:20260407T141555Z
LAST-MODIFIED:20260407T141911Z
UID:2793-1783774800-1783774800@ourhomeyourhome.ca
SUMMARY:Crib & Meat Draw | Beausejour Legion
DESCRIPTION:Please note there will be no Crib & Meat Draw events on long weekends.
URL:https://ourhomeyourhome.ca/event/crib-meat-draw-beausejour-legion/2026-07-11/
LOCATION:Beausejour Legion #132\, 300 Veterans Lane\, Beausejour\, Manitoba\, R0E 0C0\, Canada
END:VEVENT
BEGIN:VEVENT
DTSTART;TZID=UTC:20260712T110000
DTEND;TZID=UTC:20260712T150000
DTSTAMP:20260423T175437
CREATED:20251007T211130Z
LAST-MODIFIED:20251007T211130Z
UID:2347-1783854000-1783868400@ourhomeyourhome.ca
SUMMARY:Pop Up Market
DESCRIPTION:
URL:https://ourhomeyourhome.ca/event/pop-up-market/2026-07-12/
LOCATION:Breezy Oaks Inn & Tavern\, 1055 Park Avenue\, Beausejour\, Manitoba\, R0E 0C0\, Canada
ORGANIZER;CN="m & a markets":MAILTO:garandash@hotmail.com
END:VEVENT
BEGIN:VEVENT
DTSTART;TZID=America/Winnipeg:20260716T100000
DTEND;TZID=America/Winnipeg:20260716T150000
DTSTAMP:20260423T175437
CREATED:20260109T161130Z
LAST-MODIFIED:20260109T161130Z
UID:2533-1784196000-1784214000@ourhomeyourhome.ca
SUMMARY:Beausejour & Area Harvest & Share
DESCRIPTION:Free Vegetables and fruits when available for anyone who needs them!\nThursdays 10am – 3pm\nMid June to late September\n\n\nA table is set up every Thursday at 606 Park Ave in Beausejour in front of Community Threads clothing thrift store (next to RBC)\n\nFor more details and drop off location\, e-mail  Mireille Clark m1967clark@gmail.com
URL:https://ourhomeyourhome.ca/event/beausejour-area-harvest-share/2026-07-16/
LOCATION:Manitoba
END:VEVENT
BEGIN:VEVENT
DTSTART;TZID=America/Winnipeg:20260718T130000
DTEND;TZID=America/Winnipeg:20260718T130000
DTSTAMP:20260423T175437
CREATED:20260407T141555Z
LAST-MODIFIED:20260407T141911Z
UID:2794-1784379600-1784379600@ourhomeyourhome.ca
SUMMARY:Crib & Meat Draw | Beausejour Legion
DESCRIPTION:Please note there will be no Crib & Meat Draw events on long weekends.
URL:https://ourhomeyourhome.ca/event/crib-meat-draw-beausejour-legion/2026-07-18/
LOCATION:Beausejour Legion #132\, 300 Veterans Lane\, Beausejour\, Manitoba\, R0E 0C0\, Canada
END:VEVENT
BEGIN:VEVENT
DTSTART;TZID=America/Winnipeg:20260723T100000
DTEND;TZID=America/Winnipeg:20260723T150000
DTSTAMP:20260423T175437
CREATED:20260109T161130Z
LAST-MODIFIED:20260109T161130Z
UID:2534-1784800800-1784818800@ourhomeyourhome.ca
SUMMARY:Beausejour & Area Harvest & Share
DESCRIPTION:Free Vegetables and fruits when available for anyone who needs them!\nThursdays 10am – 3pm\nMid June to late September\n\n\nA table is set up every Thursday at 606 Park Ave in Beausejour in front of Community Threads clothing thrift store (next to RBC)\n\nFor more details and drop off location\, e-mail  Mireille Clark m1967clark@gmail.com
URL:https://ourhomeyourhome.ca/event/beausejour-area-harvest-share/2026-07-23/
LOCATION:Manitoba
END:VEVENT
BEGIN:VEVENT
DTSTART;TZID=America/Winnipeg:20260725T130000
DTEND;TZID=America/Winnipeg:20260725T130000
DTSTAMP:20260423T175437
CREATED:20260407T141555Z
LAST-MODIFIED:20260407T141911Z
UID:2795-1784984400-1784984400@ourhomeyourhome.ca
SUMMARY:Crib & Meat Draw | Beausejour Legion
DESCRIPTION:Please note there will be no Crib & Meat Draw events on long weekends.
URL:https://ourhomeyourhome.ca/event/crib-meat-draw-beausejour-legion/2026-07-25/
LOCATION:Beausejour Legion #132\, 300 Veterans Lane\, Beausejour\, Manitoba\, R0E 0C0\, Canada
END:VEVENT
END:VCALENDAR