BEGIN:VCALENDAR
VERSION:2.0
PRODID:-//BBDC - ECPv6.15.13//NONSGML v1.0//EN
CALSCALE:GREGORIAN
METHOD:PUBLISH
X-WR-CALNAME:BBDC
X-ORIGINAL-URL:https://ourhomeyourhome.ca
X-WR-CALDESC:Events for BBDC
REFRESH-INTERVAL;VALUE=DURATION:PT1H
X-Robots-Tag:noindex
X-PUBLISHED-TTL:PT1H
BEGIN:VTIMEZONE
TZID:UTC
BEGIN:STANDARD
TZOFFSETFROM:+0000
TZOFFSETTO:+0000
TZNAME:UTC
DTSTART:20240101T000000
END:STANDARD
END:VTIMEZONE
BEGIN:VEVENT
DTSTART;TZID=UTC:20260109T183000
DTEND;TZID=UTC:20260109T213000
DTSTAMP:20260424T024457
CREATED:20251001T183440Z
LAST-MODIFIED:20251001T183440Z
UID:2329-1767983400-1767994200@ourhomeyourhome.ca
SUMMARY:Games Night at Beausejour Legion
DESCRIPTION:Join us every second Friday of each month\, starting November 14\, for games night! We have darts\, pool\, crib\, board games\, and you’re welcome to bring your own games as well!
URL:https://ourhomeyourhome.ca/event/games-night-at-beausejour-legion/2026-01-09/
LOCATION:Beausejour Legion #132\, 300 Veterans Lane\, Beausejour\, Manitoba\, R0E 0C0\, Canada
END:VEVENT
BEGIN:VEVENT
DTSTART;TZID=UTC:20260107T093000
DTEND;TZID=UTC:20260107T113000
DTSTAMP:20260424T024457
CREATED:20250823T011126Z
LAST-MODIFIED:20250823T011126Z
UID:2246-1767778200-1767785400@ourhomeyourhome.ca
SUMMARY:Movers & Minglers for Seniors
DESCRIPTION:
URL:https://ourhomeyourhome.ca/event/movers-minglers-for-seniors/2026-01-07/
LOCATION:Brokenhead River Community Hall\, 320 Veterans Lane\, Beausejour\, Mb\, R0E 0C0\, Canada
END:VEVENT
BEGIN:VEVENT
DTSTART;TZID=UTC:20260104T140000
DTEND;TZID=UTC:20260104T160000
DTSTAMP:20260424T024457
CREATED:20250823T010738Z
LAST-MODIFIED:20250823T010738Z
UID:2226-1767535200-1767542400@ourhomeyourhome.ca
SUMMARY:Family Sunday Funday
DESCRIPTION:
URL:https://ourhomeyourhome.ca/event/family-sunday-funday/2026-01-04/
LOCATION:Brokenhead River Community Hall\, 320 Veterans Lane\, Beausejour\, Mb\, R0E 0C0\, Canada
END:VEVENT
BEGIN:VEVENT
DTSTART;TZID=UTC:20251231T093000
DTEND;TZID=UTC:20251231T113000
DTSTAMP:20260424T024457
CREATED:20250823T011126Z
LAST-MODIFIED:20250823T011126Z
UID:2245-1767173400-1767180600@ourhomeyourhome.ca
SUMMARY:Movers & Minglers for Seniors
DESCRIPTION:
URL:https://ourhomeyourhome.ca/event/movers-minglers-for-seniors/2025-12-31/
LOCATION:Brokenhead River Community Hall\, 320 Veterans Lane\, Beausejour\, Mb\, R0E 0C0\, Canada
END:VEVENT
BEGIN:VEVENT
DTSTART;TZID=UTC:20251224T093000
DTEND;TZID=UTC:20251224T113000
DTSTAMP:20260424T024457
CREATED:20250823T011126Z
LAST-MODIFIED:20250823T011126Z
UID:2244-1766568600-1766575800@ourhomeyourhome.ca
SUMMARY:Movers & Minglers for Seniors
DESCRIPTION:
URL:https://ourhomeyourhome.ca/event/movers-minglers-for-seniors/2025-12-24/
LOCATION:Brokenhead River Community Hall\, 320 Veterans Lane\, Beausejour\, Mb\, R0E 0C0\, Canada
END:VEVENT
BEGIN:VEVENT
DTSTART;TZID=UTC:20251217T093000
DTEND;TZID=UTC:20251217T113000
DTSTAMP:20260424T024457
CREATED:20250823T011126Z
LAST-MODIFIED:20250823T011126Z
UID:2243-1765963800-1765971000@ourhomeyourhome.ca
SUMMARY:Movers & Minglers for Seniors
DESCRIPTION:
URL:https://ourhomeyourhome.ca/event/movers-minglers-for-seniors/2025-12-17/
LOCATION:Brokenhead River Community Hall\, 320 Veterans Lane\, Beausejour\, Mb\, R0E 0C0\, Canada
END:VEVENT
BEGIN:VEVENT
DTSTART;TZID=UTC:20251216T100000
DTEND;TZID=UTC:20251216T120000
DTSTAMP:20260424T024457
CREATED:20251202T211949Z
LAST-MODIFIED:20251202T211949Z
UID:2476-1765879200-1765886400@ourhomeyourhome.ca
SUMMARY:Christmas Party
DESCRIPTION:
URL:https://ourhomeyourhome.ca/event/christmas-party/
LOCATION:Brokenhead River Community Hall\, 320 Veterans Lane\, Beausejour\, Mb\, R0E 0C0\, Canada
END:VEVENT
BEGIN:VEVENT
DTSTART;TZID=UTC:20251214T151500
DTEND;TZID=UTC:20251214T161500
DTSTAMP:20260424T024457
CREATED:20251128T204351Z
LAST-MODIFIED:20251128T204351Z
UID:2469-1765725300-1765728900@ourhomeyourhome.ca
SUMMARY:Skate with Santa
DESCRIPTION:
URL:https://ourhomeyourhome.ca/event/skate-with-santa-2/
LOCATION:Beausejour Sportsplex\, 360 Veterans Lane\, Beausejour\, Manitoba\, Canada
ORGANIZER;CN="Brokenhead River Recreation Commission":MAILTO:programdirector@brokenheadriverrec.com
END:VEVENT
BEGIN:VEVENT
DTSTART;TZID=UTC:20251214T090000
DTEND;TZID=UTC:20251214T120000
DTSTAMP:20260424T024457
CREATED:20251103T214704Z
LAST-MODIFIED:20251103T214704Z
UID:2437-1765702800-1765713600@ourhomeyourhome.ca
SUMMARY:Breakfast with Santa | Beausejour Legion
DESCRIPTION:
URL:https://ourhomeyourhome.ca/event/breakfast-with-santa-beausejour-legion/
LOCATION:Beausejour Legion #132\, 300 Veterans Lane\, Beausejour\, Manitoba\, R0E 0C0\, Canada
END:VEVENT
BEGIN:VEVENT
DTSTART;TZID=UTC:20251213T180000
DTEND;TZID=UTC:20251213T210000
DTSTAMP:20260424T024457
CREATED:20251030T193252Z
LAST-MODIFIED:20251125T232655Z
UID:2427-1765648800-1765659600@ourhomeyourhome.ca
SUMMARY:CWE Live in Beausejour
DESCRIPTION:Saturday\, December 13thLocation: Brokenhead River Community Hall (320 Veteran’s Ln)Time: VIP Doors: 6pm\, Doors Open 6:30pm\, Bell time 7:00pm.Tickets: VIP First Access Ticket $21 ($26 at the door)\, General Admission $16 in advance\, $21 at the door.Advance Tickets Available at: Breezy Oaks Inn & Tavern (1055 Park Ave.)Purchase tickets online at cwetickets.com
URL:https://ourhomeyourhome.ca/event/cwe-live-in-beausejour/
LOCATION:Brokenhead River Community Hall\, 320 Veterans Lane\, Beausejour\, Mb\, R0E 0C0\, Canada
END:VEVENT
BEGIN:VEVENT
DTSTART;TZID=UTC:20251213T123000
DTEND;TZID=UTC:20251213T143000
DTSTAMP:20260424T024457
CREATED:20251211T203440Z
LAST-MODIFIED:20251211T203440Z
UID:2488-1765629000-1765636200@ourhomeyourhome.ca
SUMMARY:Skate with Santa - Garson
DESCRIPTION:
URL:https://ourhomeyourhome.ca/event/skate-with-santa-garson/
LOCATION:Garson Arena\, 9 Thompson Ave\, Garson\, Manitoba\, R0E 0R0\, Canada
END:VEVENT
BEGIN:VEVENT
DTSTART;TZID=UTC:20251213T110000
DTEND;TZID=UTC:20251214T170000
DTSTAMP:20260424T024457
CREATED:20251105T032606Z
LAST-MODIFIED:20251105T032606Z
UID:2441-1765623600-1765731600@ourhomeyourhome.ca
SUMMARY:Ice Oval Snowmobile Races
DESCRIPTION:
URL:https://ourhomeyourhome.ca/event/ice-oval-snowmobile-races/
LOCATION:Co-Op Community Complex\, 71032\, MB-302\, Beausejour\, MB\, R0E 0C0\, Canada
ORGANIZER;CN="CPTC":MAILTO:info@cptcracing.com
END:VEVENT
BEGIN:VEVENT
DTSTART;TZID=UTC:20251213T100000
DTEND;TZID=UTC:20251213T150000
DTSTAMP:20260424T024457
CREATED:20250626T185142Z
LAST-MODIFIED:20250626T185142Z
UID:2174-1765620000-1765638000@ourhomeyourhome.ca
SUMMARY:Christmas Market - Tyndall
DESCRIPTION:
URL:https://ourhomeyourhome.ca/event/christmas-market-tyndall/
LOCATION:Tyndall Village Community Centre\, 69 Pierson Drive\, Tyndall\, Manitoba\, R0E 2B0\, Canada
END:VEVENT
BEGIN:VEVENT
DTSTART;TZID=UTC:20251212T183000
DTEND;TZID=UTC:20251212T213000
DTSTAMP:20260424T024457
CREATED:20251001T183440Z
LAST-MODIFIED:20251001T183440Z
UID:2328-1765564200-1765575000@ourhomeyourhome.ca
SUMMARY:Games Night at Beausejour Legion
DESCRIPTION:Join us every second Friday of each month\, starting November 14\, for games night! We have darts\, pool\, crib\, board games\, and you’re welcome to bring your own games as well!
URL:https://ourhomeyourhome.ca/event/games-night-at-beausejour-legion/2025-12-12/
LOCATION:Beausejour Legion #132\, 300 Veterans Lane\, Beausejour\, Manitoba\, R0E 0C0\, Canada
END:VEVENT
BEGIN:VEVENT
DTSTART;TZID=UTC:20251210T093000
DTEND;TZID=UTC:20251210T113000
DTSTAMP:20260424T024457
CREATED:20250823T011126Z
LAST-MODIFIED:20250823T011126Z
UID:2241-1765359000-1765366200@ourhomeyourhome.ca
SUMMARY:Movers & Minglers for Seniors
DESCRIPTION:
URL:https://ourhomeyourhome.ca/event/movers-minglers-for-seniors/2025-12-10/
LOCATION:Brokenhead River Community Hall\, 320 Veterans Lane\, Beausejour\, Mb\, R0E 0C0\, Canada
END:VEVENT
BEGIN:VEVENT
DTSTART;TZID=UTC:20251207T140000
DTEND;TZID=UTC:20251207T160000
DTSTAMP:20260424T024457
CREATED:20250823T010738Z
LAST-MODIFIED:20250823T010738Z
UID:2225-1765116000-1765123200@ourhomeyourhome.ca
SUMMARY:Family Sunday Funday
DESCRIPTION:
URL:https://ourhomeyourhome.ca/event/family-sunday-funday/2025-12-07/
LOCATION:Brokenhead River Community Hall\, 320 Veterans Lane\, Beausejour\, Mb\, R0E 0C0\, Canada
END:VEVENT
BEGIN:VEVENT
DTSTART;TZID=UTC:20251207T090000
DTEND;TZID=UTC:20251207T110000
DTSTAMP:20260424T024457
CREATED:20221202T004235Z
LAST-MODIFIED:20251202T212106Z
UID:721-1765098000-1765105200@ourhomeyourhome.ca
SUMMARY:Breakfast with Santa & The Grinch - Garson
DESCRIPTION:
URL:https://ourhomeyourhome.ca/event/breakfast-with-santa/
LOCATION:Garson Centennial Community Centre\, 11 Thompson Ave\, Garson\, Manitoba\, R0E 0R0\, Canada
END:VEVENT
BEGIN:VEVENT
DTSTART;TZID=UTC:20251206T103000
DTEND;TZID=UTC:20251206T133000
DTSTAMP:20260424T024457
CREATED:20251128T204631Z
LAST-MODIFIED:20251128T204631Z
UID:2472-1765017000-1765027800@ourhomeyourhome.ca
SUMMARY:Eastman Lace Makers | Show & Tell Stitch Party
DESCRIPTION:
URL:https://ourhomeyourhome.ca/event/eastman-lace-makers-show-tell-stitch-party/
LOCATION:Brokenhead River Regional Library\, 427 Park Avenue\, Beausejour\, Manitoba\, R0E0C0\, Canada
END:VEVENT
BEGIN:VEVENT
DTSTART;TZID=UTC:20251206T100000
DTEND;TZID=UTC:20251206T130000
DTSTAMP:20260424T024457
CREATED:20251120T204926Z
LAST-MODIFIED:20251120T204926Z
UID:2453-1765015200-1765026000@ourhomeyourhome.ca
SUMMARY:Kids Snowflake Bazaar
DESCRIPTION:
URL:https://ourhomeyourhome.ca/event/kids-snowflake-bazaar/2025-12-06/
LOCATION:Mb
END:VEVENT
BEGIN:VEVENT
DTSTART;TZID=UTC:20251205T190000
DTEND;TZID=UTC:20251205T210000
DTSTAMP:20260424T024457
CREATED:20251127T001810Z
LAST-MODIFIED:20251127T001810Z
UID:2465-1764961200-1764968400@ourhomeyourhome.ca
SUMMARY:Library Connections
DESCRIPTION:
URL:https://ourhomeyourhome.ca/event/library-connections/
LOCATION:Brokenhead River Regional Library\, 427 Park Avenue\, Beausejour\, Manitoba\, R0E0C0\, Canada
END:VEVENT
BEGIN:VEVENT
DTSTART;TZID=UTC:20251205T170000
DTEND;TZID=UTC:20251205T170000
DTSTAMP:20260424T024457
CREATED:20251125T231313Z
LAST-MODIFIED:20251125T231313Z
UID:2459-1764954000-1764954000@ourhomeyourhome.ca
SUMMARY:Beausejour Legion Supper and Jam Night
DESCRIPTION:
URL:https://ourhomeyourhome.ca/event/beausejour-legion-supper-and-jam-night-4/
LOCATION:Beausejour Legion #132\, 300 Veterans Lane\, Beausejour\, Manitoba\, R0E 0C0\, Canada
END:VEVENT
BEGIN:VEVENT
DTSTART;TZID=UTC:20251205T160000
DTEND;TZID=UTC:20251205T200000
DTSTAMP:20260424T024457
CREATED:20251120T204926Z
LAST-MODIFIED:20251120T204926Z
UID:2451-1764950400-1764964800@ourhomeyourhome.ca
SUMMARY:Kids Snowflake Bazaar
DESCRIPTION:
URL:https://ourhomeyourhome.ca/event/kids-snowflake-bazaar/2025-12-05/
LOCATION:Mb
END:VEVENT
BEGIN:VEVENT
DTSTART;TZID=UTC:20251203T190000
DTEND;TZID=UTC:20251203T213000
DTSTAMP:20260424T024457
CREATED:20251105T232521Z
LAST-MODIFIED:20251105T232521Z
UID:2444-1764788400-1764797400@ourhomeyourhome.ca
SUMMARY:Holiday Watercolour Painting Class
DESCRIPTION:
URL:https://ourhomeyourhome.ca/event/holiday-watercolour-painting-class/
LOCATION:Mb
END:VEVENT
BEGIN:VEVENT
DTSTART;TZID=UTC:20251203T093000
DTEND;TZID=UTC:20251203T113000
DTSTAMP:20260424T024457
CREATED:20250823T011126Z
LAST-MODIFIED:20250823T011126Z
UID:2240-1764754200-1764761400@ourhomeyourhome.ca
SUMMARY:Movers & Minglers for Seniors
DESCRIPTION:
URL:https://ourhomeyourhome.ca/event/movers-minglers-for-seniors/2025-12-03/
LOCATION:Brokenhead River Community Hall\, 320 Veterans Lane\, Beausejour\, Mb\, R0E 0C0\, Canada
END:VEVENT
BEGIN:VEVENT
DTSTART;TZID=UTC:20251202T130000
DTEND;TZID=UTC:20251202T170000
DTSTAMP:20260424T024457
CREATED:20251106T035816Z
LAST-MODIFIED:20251106T035816Z
UID:2447-1764680400-1764694800@ourhomeyourhome.ca
SUMMARY:Club 50 Old Time Dance
DESCRIPTION:
URL:https://ourhomeyourhome.ca/event/club-50-old-time-dance-6/
LOCATION:Brokenhead River Community Hall\, 320 Veterans Lane\, Beausejour\, Mb\, R0E 0C0\, Canada
END:VEVENT
BEGIN:VEVENT
DTSTART;TZID=UTC:20251126T093000
DTEND;TZID=UTC:20251126T113000
DTSTAMP:20260424T024457
CREATED:20250823T011126Z
LAST-MODIFIED:20250823T011126Z
UID:2239-1764149400-1764156600@ourhomeyourhome.ca
SUMMARY:Movers & Minglers for Seniors
DESCRIPTION:
URL:https://ourhomeyourhome.ca/event/movers-minglers-for-seniors/2025-11-26/
LOCATION:Brokenhead River Community Hall\, 320 Veterans Lane\, Beausejour\, Mb\, R0E 0C0\, Canada
END:VEVENT
BEGIN:VEVENT
DTSTART;TZID=UTC:20251123T143000
DTEND;TZID=UTC:20251123T183000
DTSTAMP:20260424T024457
CREATED:20250823T010553Z
LAST-MODIFIED:20250823T010553Z
UID:2219-1763908200-1763922600@ourhomeyourhome.ca
SUMMARY:Winnipeg Jets Watch Party
DESCRIPTION:
URL:https://ourhomeyourhome.ca/event/winnipeg-jets-watch-party/
LOCATION:Brokenhead River Community Hall\, 320 Veterans Lane\, Beausejour\, Mb\, R0E 0C0\, Canada
END:VEVENT
BEGIN:VEVENT
DTSTART;TZID=UTC:20251122T100000
DTEND;TZID=UTC:20251122T150000
DTSTAMP:20260424T024457
CREATED:20221027T011755Z
LAST-MODIFIED:20250925T233420Z
UID:641-1763805600-1763823600@ourhomeyourhome.ca
SUMMARY:Garson Annual Fall Craft and Trade Show
DESCRIPTION:
URL:https://ourhomeyourhome.ca/event/garson-annual-fall-craft-show/
LOCATION:Garson Centennial Community Centre\, 11 Thompson Ave\, Garson\, Manitoba\, R0E 0R0\, Canada
END:VEVENT
BEGIN:VEVENT
DTSTART;TZID=UTC:20251121T173000
DTEND;TZID=UTC:20251121T203000
DTSTAMP:20260424T024457
CREATED:20250910T182730Z
LAST-MODIFIED:20250910T182730Z
UID:2292-1763746200-1763757000@ourhomeyourhome.ca
SUMMARY:Christmas on Park
DESCRIPTION:  \nAny businesses\, groups\, or volunteers that would like to be involved in the event can email christmasonpark@gmail.com for more details!
URL:https://ourhomeyourhome.ca/event/christmas-on-park-2/
LOCATION:Mb
END:VEVENT
BEGIN:VEVENT
DTSTART;TZID=UTC:20251119T093000
DTEND;TZID=UTC:20251119T113000
DTSTAMP:20260424T024457
CREATED:20250823T011126Z
LAST-MODIFIED:20250823T011126Z
UID:2238-1763544600-1763551800@ourhomeyourhome.ca
SUMMARY:Movers & Minglers for Seniors
DESCRIPTION:
URL:https://ourhomeyourhome.ca/event/movers-minglers-for-seniors/2025-11-19/
LOCATION:Brokenhead River Community Hall\, 320 Veterans Lane\, Beausejour\, Mb\, R0E 0C0\, Canada
END:VEVENT
END:VCALENDAR