BEGIN:VCALENDAR
VERSION:2.0
PRODID:-//BBDC - ECPv6.15.13//NONSGML v1.0//EN
CALSCALE:GREGORIAN
METHOD:PUBLISH
X-ORIGINAL-URL:https://ourhomeyourhome.ca
X-WR-CALDESC:Events for BBDC
REFRESH-INTERVAL;VALUE=DURATION:PT1H
X-Robots-Tag:noindex
X-PUBLISHED-TTL:PT1H
BEGIN:VTIMEZONE
TZID:UTC
BEGIN:STANDARD
TZOFFSETFROM:+0000
TZOFFSETTO:+0000
TZNAME:UTC
DTSTART:20220101T000000
END:STANDARD
END:VTIMEZONE
BEGIN:VEVENT
DTSTART;TZID=UTC:20230105T190000
DTEND;TZID=UTC:20230105T220000
DTSTAMP:20260419T101447
CREATED:20230105T233831Z
LAST-MODIFIED:20230105T233831Z
UID:824-1672945200-1672956000@ourhomeyourhome.ca
SUMMARY:Bingo Night
DESCRIPTION:Thursday night bingo. Doors open at 4pm\, bingo starts at 7pm.\n\nRobbie Burns Annual dinner is Saturday January 28th\, he is the National Poet of Scotland and author of “Auld Lang Syne”\nIf you wish to purchase Robbie Burns Annual Dinner tickets\, see Cindy for tickets at the Legion 6:00-10:00pm.
URL:https://ourhomeyourhome.ca/event/bingo-night/2023-01-05/
LOCATION:Beausejour Legion #132\, 300 Veterans Lane\, Beausejour\, Manitoba\, R0E 0C0\, Canada
ATTACH;FMTTYPE=image/png:https://ourhomeyourhome.ca/wp-content/uploads/2023/01/Website-Events-11.png
END:VEVENT
BEGIN:VEVENT
DTSTART;VALUE=DATE:20230106
DTEND;VALUE=DATE:20230109
DTSTAMP:20260419T101447
CREATED:20221205T224834Z
LAST-MODIFIED:20221205T224834Z
UID:749-1672963200-1673222399@ourhomeyourhome.ca
SUMMARY:Beausejour Mens Bonspiel
DESCRIPTION:Entry fee is $200 per team with Saturday supper included.  Cash prizes per win. \n\n\n\nRegistration\n\nTo register or for more information\, please contact Justin Richer at justinrichter@me.com or phone 204-482-0505.
URL:https://ourhomeyourhome.ca/event/beausejour-mens-bonspiel/
LOCATION:Beausejour Curling Club\, 360 Veterans Lane\, BEAUSEJOUR\, MANITOBA\, R0E 0C0\, Canada
ATTACH;FMTTYPE=image/png:https://ourhomeyourhome.ca/wp-content/uploads/2022/12/Website-Events-3.png
ORGANIZER;CN="Justin Richter":MAILTO:justinrichter@me.com
END:VEVENT
BEGIN:VEVENT
DTSTART;TZID=UTC:20230109T180000
DTEND;TZID=UTC:20230109T203000
DTSTAMP:20260419T101447
CREATED:20230105T233322Z
LAST-MODIFIED:20230106T005350Z
UID:793-1673287200-1673296200@ourhomeyourhome.ca
SUMMARY:Yoga at Garson Hall
DESCRIPTION:Join us to slow down\, breathe\, and create space in community with experienced teacher\, Rebecca Watson. Learn more at rebecccawatsonyoga.com \n  \nSlow Flow Yoga  \nMondays 6 – 7pm\, January 9 – March 6 (no class Feb 6) \nWednesdays 6-7pm\, January 11 – March 3 \n8 weeks\, $100.80 \nSet the tone for your week with an all-levels flow practice. We will focus on connecting the breath with movement\, inviting strength\, balance\, and mobility into the body. The practice is warming\, dynamic\, and fluid. Beginners welcome. Bring water\, yoga mat\, any yoga props and wear comfortable clothes. \n  \nYin Restorative Yoga  \nMondays 7:30-8:30pm\, January 9 – March 6 (no class Feb 6) \nWednesdays 7:30-8:30pm\, January 11 – March 3 \n8 weeks\, $100.80 \nSlow down your day and land on your mat into a deeply restful practice. You will be guided through long-held passive poses to soften into connective tissues\, creating space in the hips\, spine\, and pelvis. This practice is meditative\, rejuvenating\, and restorative. A great practice if you live with symptoms of arthritis or carry a lot of tension and stiffness in your body. Class is beginner and prenatal friendly. \n  \n  \n 
URL:https://ourhomeyourhome.ca/event/yoga-at-garson-hall/2023-01-09/
LOCATION:Garson Centennial Community Centre\, 11 Thompson Ave\, Garson\, Manitoba\, R0E 0R0\, Canada
ATTACH;FMTTYPE=image/png:https://ourhomeyourhome.ca/wp-content/uploads/2023/01/Website-Events-10.png
END:VEVENT
BEGIN:VEVENT
DTSTART;TZID=UTC:20230120T180000
DTEND;TZID=UTC:20230120T210000
DTSTAMP:20260419T101447
CREATED:20230106T001613Z
LAST-MODIFIED:20230114T034224Z
UID:845-1674237600-1674248400@ourhomeyourhome.ca
SUMMARY:Paint Night at Beausejour Legion
DESCRIPTION:Paint Night with Rylea McEvoy sharing her winter sunset comes to Beausejour Legion on Friday\, January 27. Doors open at 6 and painting completed by 9:30. All paint and canvasses supplied. \nChase the Ace\, bar food and beverage available. Only 25 tickets being sold. \n204-268-1549 \nMembers $35\, Non Members $40 \n \n  \n  \n  \n  \n  \n  \n  \n  \n 
URL:https://ourhomeyourhome.ca/event/paint-night/
LOCATION:Beausejour Legion #132\, 300 Veterans Lane\, Beausejour\, Manitoba\, R0E 0C0\, Canada
ATTACH;FMTTYPE=image/png:https://ourhomeyourhome.ca/wp-content/uploads/2023/01/Website-Events-13.png
END:VEVENT
BEGIN:VEVENT
DTSTART;TZID=UTC:20230122T130000
DTEND;TZID=UTC:20230122T180000
DTSTAMP:20260419T101447
CREATED:20230114T034749Z
LAST-MODIFIED:20230228T000250Z
UID:945-1674392400-1674410400@ourhomeyourhome.ca
SUMMARY:Meat Bingo at Beausejour Legion
DESCRIPTION:Doors open 12 noon\, games start at 1:15 \nBring your own bingo chips \n$2 admission\, 50¢ per card \nBeverages and bar food available \n  \n 
URL:https://ourhomeyourhome.ca/event/meat-bingo-at-beausejour-legion/2023-01-22/
LOCATION:Beausejour Legion #132\, 300 Veterans Lane\, Beausejour\, Manitoba\, R0E 0C0\, Canada
ATTACH;FMTTYPE=image/png:https://ourhomeyourhome.ca/wp-content/uploads/2023/01/OHYH-BLOG-IMAGE.png
END:VEVENT
BEGIN:VEVENT
DTSTART;TZID=UTC:20230127T183000
DTEND;TZID=UTC:20230128T220000
DTSTAMP:20260419T101447
CREATED:20221205T225647Z
LAST-MODIFIED:20221205T231929Z
UID:752-1674844200-1674943200@ourhomeyourhome.ca
SUMMARY:Beausejour 2-Person Stick Bonspiel
DESCRIPTION:Our first ever 2-Person Stick Bonspiel is scheduled for Jan 27 and 28\, 2023.  There will be 3 draws on Friday evening and the remaining 9 draws on Saturday.\n\n\nFormat\n\nWe are planning on a double round-robin format.  The 16 teams will be divided randomly into 4 pools of 4 teams each and will play a round robin against the other teams in their pool.  After these games\, we will rank the teams in each pool from 1st to 4th.  We will then re-balance the pools to create a pool of the four 1st place teams\, a pool of the four 2nd place teams\, etc.  There will then be another round robin within each of these pools.  This will allow all teams to play 6 games (assuming a full field of 16 teams). \nOur current plan includes 3 draws on Friday evening (so two pools will play two games and two pools will play one game).  We will then play a total of 9 draws on Saturday during the day and finishing up in the evening.  There will also be supper provided for all players during the break between afternoon and evening games on Saturday.   All teams will have at least one game after supper on Saturday. \n\n\n\nHow to Enter\n\nThe entry fee is $80 per two-person team and we will be paying cash prizes for each win throughout the event.  This is an open bonspiel so teams can be any combination of men and women. Extra meal tickets will be available for purchase at the event for non-players. \nTo enter your team or if you have more questions\, please email Gary Plohman at srossing@mymts.net.
URL:https://ourhomeyourhome.ca/event/2-person-stick-bonspiel/
LOCATION:Beausejour Curling Club\, 360 Veterans Lane\, BEAUSEJOUR\, MANITOBA\, R0E 0C0\, Canada
ATTACH;FMTTYPE=image/png:https://ourhomeyourhome.ca/wp-content/uploads/2022/12/Website-Events-4.png
ORGANIZER;CN="Gary Plohman":MAILTO:srossing@mymts.net
END:VEVENT
END:VCALENDAR