BEGIN:VCALENDAR
VERSION:2.0
PRODID:-//BBDC - ECPv6.15.13//NONSGML v1.0//EN
CALSCALE:GREGORIAN
METHOD:PUBLISH
X-ORIGINAL-URL:https://ourhomeyourhome.ca
X-WR-CALDESC:Events for BBDC
REFRESH-INTERVAL;VALUE=DURATION:PT1H
X-Robots-Tag:noindex
X-PUBLISHED-TTL:PT1H
BEGIN:VTIMEZONE
TZID:UTC
BEGIN:STANDARD
TZOFFSETFROM:+0000
TZOFFSETTO:+0000
TZNAME:UTC
DTSTART:20220101T000000
END:STANDARD
END:VTIMEZONE
BEGIN:VEVENT
DTSTART;TZID=UTC:20230210T180000
DTEND;TZID=UTC:20230211T210000
DTSTAMP:20260419T071626
CREATED:20221205T230242Z
LAST-MODIFIED:20221205T230534Z
UID:757-1676052000-1676149200@ourhomeyourhome.ca
SUMMARY:Beausejour Ladies Bonspiel
DESCRIPTION:This is a 2-day bonspiel (Friday evening and Saturday) featuring 6-end games. \nEntry fees are $200 per team (Saturday supper included). There is an early bird entry fee of $180 if payment is received by Jan 31\, 2023.This year’s theme is “Dress like you did in High School”. \nPayments can be made by cheque payable to Beausejour Curling Club or by etransfer to beausejourcurlingclub@gmail.com. Please state “ladies bonspiel” and your team name in the message section and make the security answer “curling”. \nContact Myrna Black at myrna.C21sun@mymts.net or 204-268-0575 to register your team.
URL:https://ourhomeyourhome.ca/event/beausejour-ladies-bonspiel/
LOCATION:Beausejour Curling Club\, 360 Veterans Lane\, BEAUSEJOUR\, MANITOBA\, R0E 0C0\, Canada
ATTACH;FMTTYPE=image/png:https://ourhomeyourhome.ca/wp-content/uploads/2022/12/Website-Events-6.png
ORGANIZER;CN="Myrna Black":MAILTO:myrna.C21sun@mymts.net
END:VEVENT
BEGIN:VEVENT
DTSTART;TZID=UTC:20230217T160000
DTEND;TZID=UTC:20230217T220000
DTSTAMP:20260419T071626
CREATED:20230228T001548Z
LAST-MODIFIED:20230228T001548Z
UID:978-1676649600-1676671200@ourhomeyourhome.ca
SUMMARY:Game Night
DESCRIPTION:
URL:https://ourhomeyourhome.ca/event/game-night/
LOCATION:Beausejour Legion #132\, 300 Veterans Lane\, Beausejour\, Manitoba\, R0E 0C0\, Canada
ATTACH;FMTTYPE=image/png:https://ourhomeyourhome.ca/wp-content/uploads/2023/02/Website-1.png
END:VEVENT
BEGIN:VEVENT
DTSTART;TZID=UTC:20230225T090000
DTEND;TZID=UTC:20230225T150000
DTSTAMP:20260419T071626
CREATED:20230105T231341Z
LAST-MODIFIED:20230105T231341Z
UID:787-1677315600-1677337200@ourhomeyourhome.ca
SUMMARY:Food Handler Certification Level 1
DESCRIPTION:Certified Food Handler Training Program\, earn a Level 1 Provincially recognized food handlers certificate in a one day course. \nGarson Community Centre. Saturday Feb 25\, 9am-3pm \n$50 – To register contact Val at 204 – 268 – 5787 \n \n 
URL:https://ourhomeyourhome.ca/event/food-handler-certification-level-1/
LOCATION:Garson Centennial Community Centre\, 11 Thompson Ave\, Garson\, Manitoba\, R0E 0R0\, Canada
ATTACH;FMTTYPE=image/png:https://ourhomeyourhome.ca/wp-content/uploads/2023/01/Website-Events-9.png
END:VEVENT
END:VCALENDAR