BEGIN:VCALENDAR
VERSION:2.0
PRODID:-//BBDC - ECPv6.15.13//NONSGML v1.0//EN
CALSCALE:GREGORIAN
METHOD:PUBLISH
X-WR-CALNAME:BBDC
X-ORIGINAL-URL:https://ourhomeyourhome.ca
X-WR-CALDESC:Events for BBDC
REFRESH-INTERVAL;VALUE=DURATION:PT1H
X-Robots-Tag:noindex
X-PUBLISHED-TTL:PT1H
BEGIN:VTIMEZONE
TZID:UTC
BEGIN:STANDARD
TZOFFSETFROM:+0000
TZOFFSETTO:+0000
TZNAME:UTC
DTSTART:20240101T000000
END:STANDARD
END:VTIMEZONE
BEGIN:VEVENT
DTSTART;TZID=UTC:20250905T090000
DTEND;TZID=UTC:20250907T160000
DTSTAMP:20260425T080340
CREATED:20221014T221803Z
LAST-MODIFIED:20250904T195223Z
UID:605-1757062800-1757260800@ourhomeyourhome.ca
SUMMARY:Double B Ag Fest & Rodeo
DESCRIPTION:Follow Brokenhead Agricultural Society on Facebook for updates! \n 
URL:https://ourhomeyourhome.ca/event/double-b-ag-fest-rodeo/
LOCATION:Co-Op Community Complex\, 71032\, MB-302\, Beausejour\, MB\, R0E 0C0\, Canada
ATTACH;FMTTYPE=image/jpeg:https://ourhomeyourhome.ca/wp-content/uploads/2022/07/71489991_1143525739371010_4557180134662078464_n.jpg
ORGANIZER;CN="Brokenhead Agricultural Society":MAILTO:brokenheadag@outlook.com
END:VEVENT
END:VCALENDAR