BEGIN:VCALENDAR
VERSION:2.0
PRODID:-//BBDC - ECPv6.15.13//NONSGML v1.0//EN
CALSCALE:GREGORIAN
METHOD:PUBLISH
X-WR-CALNAME:BBDC
X-ORIGINAL-URL:https://ourhomeyourhome.ca
X-WR-CALDESC:Events for BBDC
REFRESH-INTERVAL;VALUE=DURATION:PT1H
X-Robots-Tag:noindex
X-PUBLISHED-TTL:PT1H
BEGIN:VTIMEZONE
TZID:UTC
BEGIN:STANDARD
TZOFFSETFROM:+0000
TZOFFSETTO:+0000
TZNAME:UTC
DTSTART:20220101T000000
END:STANDARD
END:VTIMEZONE
BEGIN:VEVENT
DTSTART;TZID=UTC:20240302T090000
DTEND;TZID=UTC:20240303T170000
DTSTAMP:20260419T101435
CREATED:20230106T004615Z
LAST-MODIFIED:20240210T005645Z
UID:855-1709370000-1709485200@ourhomeyourhome.ca
SUMMARY:62nd Canadian Power Toboggan Championships
DESCRIPTION:The fastest racers in the world!? A world-class racing track made of pure ice!? Speeds of over 160km per hr!? Head over to Beausejour for the most adrenaline-fueled races in Manitoba! This two-day\, speed infused\, family-friendly event attracts over 100 racers\, and thousands of spectators from all over North America to take part in this elite international race. \n62nd Canadian Championships – March 2 & 3\, 2024 \nLocation Co-Op Community Iceplex\, 71032\, MB-302\,  Beausejour\, MB \nCheck out https://cptcracing.com/ for details and updates!
URL:https://ourhomeyourhome.ca/event/canadian-power-toboggan-championships/
LOCATION:Co-Op Community Complex\, 71032\, MB-302\, Beausejour\, MB\, R0E 0C0\, Canada
ATTACH;FMTTYPE=image/jpeg:https://ourhomeyourhome.ca/wp-content/uploads/2021/11/Snomobile-3.jpg
ORGANIZER;CN="CPTC":MAILTO:info@cptcracing.com
END:VEVENT
BEGIN:VEVENT
DTSTART;TZID=UTC:20240223T180000
DTEND;TZID=UTC:20240223T200000
DTSTAMP:20260419T101435
CREATED:20240216T224132Z
LAST-MODIFIED:20240216T225241Z
UID:1742-1708711200-1708718400@ourhomeyourhome.ca
SUMMARY:Ice Skating at Co-Op Community Complex
DESCRIPTION:
URL:https://ourhomeyourhome.ca/event/ice-skating-at-co-op-community-complex/
LOCATION:Co-Op Community Complex\, 71032\, MB-302\, Beausejour\, MB\, R0E 0C0\, Canada
ATTACH;FMTTYPE=image/png:https://ourhomeyourhome.ca/wp-content/uploads/2024/02/Website-26.png
ORGANIZER;CN="CPTC":MAILTO:info@cptcracing.com
END:VEVENT
BEGIN:VEVENT
DTSTART;TZID=UTC:20231201T180000
DTEND;TZID=UTC:20231201T200000
DTSTAMP:20260419T101435
CREATED:20231102T023303Z
LAST-MODIFIED:20231102T023443Z
UID:1555-1701453600-1701460800@ourhomeyourhome.ca
SUMMARY:The Light Before Christmas
DESCRIPTION:
URL:https://ourhomeyourhome.ca/event/the-light-before-christmas/
LOCATION:Co-Op Community Complex\, 71032\, MB-302\, Beausejour\, MB\, R0E 0C0\, Canada
ATTACH;FMTTYPE=image/jpeg:https://ourhomeyourhome.ca/wp-content/uploads/2023/11/lightup-e1698874472861.jpg
ORGANIZER;CN="CPTC":MAILTO:info@cptcracing.com
END:VEVENT
END:VCALENDAR