BEGIN:VCALENDAR
VERSION:2.0
PRODID:-//BBDC - ECPv6.15.13//NONSGML v1.0//EN
CALSCALE:GREGORIAN
METHOD:PUBLISH
X-ORIGINAL-URL:https://ourhomeyourhome.ca
X-WR-CALDESC:Events for BBDC
REFRESH-INTERVAL;VALUE=DURATION:PT1H
X-Robots-Tag:noindex
X-PUBLISHED-TTL:PT1H
BEGIN:VTIMEZONE
TZID:America/Winnipeg
BEGIN:DAYLIGHT
TZOFFSETFROM:-0600
TZOFFSETTO:-0500
TZNAME:CDT
DTSTART:20250309T080000
END:DAYLIGHT
BEGIN:STANDARD
TZOFFSETFROM:-0500
TZOFFSETTO:-0600
TZNAME:CST
DTSTART:20251102T070000
END:STANDARD
BEGIN:DAYLIGHT
TZOFFSETFROM:-0600
TZOFFSETTO:-0500
TZNAME:CDT
DTSTART:20260308T080000
END:DAYLIGHT
BEGIN:STANDARD
TZOFFSETFROM:-0500
TZOFFSETTO:-0600
TZNAME:CST
DTSTART:20261101T070000
END:STANDARD
BEGIN:DAYLIGHT
TZOFFSETFROM:-0600
TZOFFSETTO:-0500
TZNAME:CDT
DTSTART:20270314T080000
END:DAYLIGHT
BEGIN:STANDARD
TZOFFSETFROM:-0500
TZOFFSETTO:-0600
TZNAME:CST
DTSTART:20271107T070000
END:STANDARD
END:VTIMEZONE
BEGIN:VEVENT
DTSTART;TZID=America/Winnipeg:20260530T100000
DTEND;TZID=America/Winnipeg:20260530T180000
DTSTAMP:20260423T130222
CREATED:20260331T162432Z
LAST-MODIFIED:20260331T162627Z
UID:2760-1780135200-1780164000@ourhomeyourhome.ca
SUMMARY:Eastman Tourism & Outdoor Show
DESCRIPTION:For more information or to book a booth\, please contact Michelle Gawronsky at Eastman Tourism at 204-451-1757 or admin@eastmantourism.ca
URL:https://ourhomeyourhome.ca/event/eastman-tourism-outdoor-show/2026-05-30/
ORGANIZER;CN="Eastman Tourism Association":MAILTO:admin@eastmantourism.ca
END:VEVENT
BEGIN:VEVENT
DTSTART;TZID=America/Winnipeg:20260531T100000
DTEND;TZID=America/Winnipeg:20260531T160000
DTSTAMP:20260423T130222
CREATED:20260331T162432Z
LAST-MODIFIED:20260331T162432Z
UID:2766-1780221600-1780243200@ourhomeyourhome.ca
SUMMARY:Eastman Tourism & Outdoor Show
DESCRIPTION:For more information or to book a booth\, please contact Michelle Gawronsky at Eastman Tourism at 204-451-1757 or admin@eastmantourism.ca
URL:https://ourhomeyourhome.ca/event/eastman-tourism-outdoor-show/2026-05-31/
ORGANIZER;CN="Eastman Tourism Association":MAILTO:admin@eastmantourism.ca
END:VEVENT
END:VCALENDAR