BEGIN:VCALENDAR
VERSION:2.0
PRODID:-//BBDC - ECPv6.15.13//NONSGML v1.0//EN
CALSCALE:GREGORIAN
METHOD:PUBLISH
X-WR-CALNAME:BBDC
X-ORIGINAL-URL:https://ourhomeyourhome.ca
X-WR-CALDESC:Events for BBDC
REFRESH-INTERVAL;VALUE=DURATION:PT1H
X-Robots-Tag:noindex
X-PUBLISHED-TTL:PT1H
BEGIN:VTIMEZONE
TZID:UTC
BEGIN:STANDARD
TZOFFSETFROM:+0000
TZOFFSETTO:+0000
TZNAME:UTC
DTSTART:20230101T000000
END:STANDARD
END:VTIMEZONE
BEGIN:VEVENT
DTSTART;TZID=UTC:20240316T143000
DTEND;TZID=UTC:20240316T160000
DTSTAMP:20260419T101436
CREATED:20240314T222046Z
LAST-MODIFIED:20240314T222046Z
UID:1766-1710599400-1710604800@ourhomeyourhome.ca
SUMMARY:Spring Glow Skate - Garson
DESCRIPTION:Enjoy a free glow skate at the Garson Arena\, March 16 from 2:30 til 4:00 with music\, treats\, and fun! Bring a tin for the bin! \nThis is the last public skate of the season. Weekly public skate times are announced Thursdays on Facebook and by checking the Garson Arena ice schedule.
URL:https://ourhomeyourhome.ca/event/spring-glow-skate-garson/
LOCATION:Garson Arena\, 9 Thompson Ave\, Garson\, Manitoba\, R0E 0R0\, Canada
ATTACH;FMTTYPE=image/png:https://ourhomeyourhome.ca/wp-content/uploads/2024/03/Website-Feature-Image-1.png
ORGANIZER;CN="Garson Arena":MAILTO:garsonarenamb@gmail.com
END:VEVENT
END:VCALENDAR