BEGIN:VCALENDAR
VERSION:2.0
PRODID:-//BBDC - ECPv6.15.13//NONSGML v1.0//EN
CALSCALE:GREGORIAN
METHOD:PUBLISH
X-WR-CALNAME:BBDC
X-ORIGINAL-URL:https://ourhomeyourhome.ca
X-WR-CALDESC:Events for BBDC
REFRESH-INTERVAL;VALUE=DURATION:PT1H
X-Robots-Tag:noindex
X-PUBLISHED-TTL:PT1H
BEGIN:VTIMEZONE
TZID:America/Winnipeg
BEGIN:DAYLIGHT
TZOFFSETFROM:-0600
TZOFFSETTO:-0500
TZNAME:CDT
DTSTART:20250309T080000
END:DAYLIGHT
BEGIN:STANDARD
TZOFFSETFROM:-0500
TZOFFSETTO:-0600
TZNAME:CST
DTSTART:20251102T070000
END:STANDARD
BEGIN:DAYLIGHT
TZOFFSETFROM:-0600
TZOFFSETTO:-0500
TZNAME:CDT
DTSTART:20260308T080000
END:DAYLIGHT
BEGIN:STANDARD
TZOFFSETFROM:-0500
TZOFFSETTO:-0600
TZNAME:CST
DTSTART:20261101T070000
END:STANDARD
BEGIN:DAYLIGHT
TZOFFSETFROM:-0600
TZOFFSETTO:-0500
TZNAME:CDT
DTSTART:20270314T080000
END:DAYLIGHT
BEGIN:STANDARD
TZOFFSETFROM:-0500
TZOFFSETTO:-0600
TZNAME:CST
DTSTART:20271107T070000
END:STANDARD
END:VTIMEZONE
BEGIN:VEVENT
DTSTART;TZID=America/Winnipeg:20260426T130000
DTEND;TZID=America/Winnipeg:20260426T170000
DTSTAMP:20260423T130325
CREATED:20260323T173520Z
LAST-MODIFIED:20260326T160334Z
UID:2728-1777208400-1777222800@ourhomeyourhome.ca
SUMMARY:Old Time Dance | Beausejour
DESCRIPTION:
URL:https://ourhomeyourhome.ca/event/old-time-dance-3/
LOCATION:Brokenhead River Community Hall\, 320 Veterans Lane\, Beausejour\, Mb\, R0E 0C0\, Canada
END:VEVENT
BEGIN:VEVENT
DTSTART;TZID=America/Winnipeg:20260505T130000
DTEND;TZID=America/Winnipeg:20260505T160000
DTSTAMP:20260423T130325
CREATED:20260415T170331Z
LAST-MODIFIED:20260415T170331Z
UID:2897-1777986000-1777996800@ourhomeyourhome.ca
SUMMARY:Club 50 Old Tyme Dance | Beausejour
DESCRIPTION:
URL:https://ourhomeyourhome.ca/event/club-50-old-tyme-dance-beausejour/
LOCATION:Brokenhead River Community Hall\, 320 Veterans Lane\, Beausejour\, Mb\, R0E 0C0\, Canada
END:VEVENT
END:VCALENDAR