BEGIN:VCALENDAR
VERSION:2.0
PRODID:-//BBDC - ECPv6.15.13//NONSGML v1.0//EN
CALSCALE:GREGORIAN
METHOD:PUBLISH
X-WR-CALNAME:BBDC
X-ORIGINAL-URL:https://ourhomeyourhome.ca
X-WR-CALDESC:Events for BBDC
REFRESH-INTERVAL;VALUE=DURATION:PT1H
X-Robots-Tag:noindex
X-PUBLISHED-TTL:PT1H
BEGIN:VTIMEZONE
TZID:UTC
BEGIN:STANDARD
TZOFFSETFROM:+0000
TZOFFSETTO:+0000
TZNAME:UTC
DTSTART:20230101T000000
END:STANDARD
END:VTIMEZONE
BEGIN:VEVENT
DTSTART;TZID=UTC:20251112T093000
DTEND;TZID=UTC:20251112T113000
DTSTAMP:20260424T032504
CREATED:20250823T011126Z
LAST-MODIFIED:20250823T011126Z
UID:2237-1762939800-1762947000@ourhomeyourhome.ca
SUMMARY:Movers & Minglers for Seniors
DESCRIPTION:
URL:https://ourhomeyourhome.ca/event/movers-minglers-for-seniors/2025-11-12/
LOCATION:Brokenhead River Community Hall\, 320 Veterans Lane\, Beausejour\, Mb\, R0E 0C0\, Canada
END:VEVENT
BEGIN:VEVENT
DTSTART;TZID=UTC:20251111T100000
DTEND;TZID=UTC:20251111T100000
DTSTAMP:20260424T032504
CREATED:20251030T193908Z
LAST-MODIFIED:20251030T193908Z
UID:2430-1762855200-1762855200@ourhomeyourhome.ca
SUMMARY:Remembrance Day Service
DESCRIPTION:
URL:https://ourhomeyourhome.ca/event/remembrance-day-service-2/
LOCATION:Brokenhead River Community Hall\, 320 Veterans Lane\, Beausejour\, Mb\, R0E 0C0\, Canada
ORGANIZER;CN="Beausejour Legion #132":MAILTO:Entertainmentrclbeausejour@gmail.com
END:VEVENT
BEGIN:VEVENT
DTSTART;TZID=UTC:20251108T100000
DTEND;TZID=UTC:20251108T170000
DTSTAMP:20260424T032504
CREATED:20251017T011717Z
LAST-MODIFIED:20251027T234322Z
UID:2409-1762596000-1762621200@ourhomeyourhome.ca
SUMMARY:Beausejour Annual Xmas Craft Show & Sale
DESCRIPTION:
URL:https://ourhomeyourhome.ca/event/beausejour-annual-xmas-craft-show-sale/2025-11-08/
LOCATION:Brokenhead River Community Hall\, 320 Veterans Lane\, Beausejour\, Mb\, R0E 0C0\, Canada
END:VEVENT
BEGIN:VEVENT
DTSTART;TZID=UTC:20251107T110000
DTEND;TZID=UTC:20251107T200000
DTSTAMP:20260424T032505
CREATED:20251017T011717Z
LAST-MODIFIED:20251027T234322Z
UID:2407-1762513200-1762545600@ourhomeyourhome.ca
SUMMARY:Beausejour Annual Xmas Craft Show & Sale
DESCRIPTION:
URL:https://ourhomeyourhome.ca/event/beausejour-annual-xmas-craft-show-sale/2025-11-07/
LOCATION:Brokenhead River Community Hall\, 320 Veterans Lane\, Beausejour\, Mb\, R0E 0C0\, Canada
END:VEVENT
BEGIN:VEVENT
DTSTART;TZID=UTC:20251105T093000
DTEND;TZID=UTC:20251105T113000
DTSTAMP:20260424T032505
CREATED:20250823T011126Z
LAST-MODIFIED:20250823T011126Z
UID:2236-1762335000-1762342200@ourhomeyourhome.ca
SUMMARY:Movers & Minglers for Seniors
DESCRIPTION:
URL:https://ourhomeyourhome.ca/event/movers-minglers-for-seniors/2025-11-05/
LOCATION:Brokenhead River Community Hall\, 320 Veterans Lane\, Beausejour\, Mb\, R0E 0C0\, Canada
END:VEVENT
BEGIN:VEVENT
DTSTART;TZID=UTC:20251104T130000
DTEND;TZID=UTC:20251104T130000
DTSTAMP:20260424T032505
CREATED:20251009T002749Z
LAST-MODIFIED:20251009T002749Z
UID:2364-1762261200-1762261200@ourhomeyourhome.ca
SUMMARY:Club 50 Old Time Dance
DESCRIPTION:
URL:https://ourhomeyourhome.ca/event/club-50-old-time-dance-5/
LOCATION:Brokenhead River Community Hall\, 320 Veterans Lane\, Beausejour\, Mb\, R0E 0C0\, Canada
END:VEVENT
BEGIN:VEVENT
DTSTART;TZID=UTC:20251102T140000
DTEND;TZID=UTC:20251102T160000
DTSTAMP:20260424T032505
CREATED:20250823T010738Z
LAST-MODIFIED:20250823T010738Z
UID:2224-1762092000-1762099200@ourhomeyourhome.ca
SUMMARY:Family Sunday Funday
DESCRIPTION:
URL:https://ourhomeyourhome.ca/event/family-sunday-funday/2025-11-02/
LOCATION:Brokenhead River Community Hall\, 320 Veterans Lane\, Beausejour\, Mb\, R0E 0C0\, Canada
END:VEVENT
BEGIN:VEVENT
DTSTART;TZID=UTC:20251029T093000
DTEND;TZID=UTC:20251029T113000
DTSTAMP:20260424T032505
CREATED:20250823T011126Z
LAST-MODIFIED:20250823T011126Z
UID:2235-1761730200-1761737400@ourhomeyourhome.ca
SUMMARY:Movers & Minglers for Seniors
DESCRIPTION:
URL:https://ourhomeyourhome.ca/event/movers-minglers-for-seniors/2025-10-29/
LOCATION:Brokenhead River Community Hall\, 320 Veterans Lane\, Beausejour\, Mb\, R0E 0C0\, Canada
END:VEVENT
BEGIN:VEVENT
DTSTART;TZID=UTC:20251028T090000
DTEND;TZID=UTC:20251028T160000
DTSTAMP:20260424T032505
CREATED:20251008T020439Z
LAST-MODIFIED:20251010T203803Z
UID:2354-1761642000-1761667200@ourhomeyourhome.ca
SUMMARY:Business Succession Workshop
DESCRIPTION:
URL:https://ourhomeyourhome.ca/event/business-succession-workshop/
LOCATION:Brokenhead River Community Hall\, 320 Veterans Lane\, Beausejour\, Mb\, R0E 0C0\, Canada
ORGANIZER;CN="Innovate Eastman":MAILTO:sli@innovateeastman.com
END:VEVENT
BEGIN:VEVENT
DTSTART;TZID=UTC:20251026T130000
DTEND;TZID=UTC:20251026T170000
DTSTAMP:20260424T032505
CREATED:20250909T232010Z
LAST-MODIFIED:20250909T232010Z
UID:2289-1761483600-1761498000@ourhomeyourhome.ca
SUMMARY:Old Time Dance
DESCRIPTION:
URL:https://ourhomeyourhome.ca/event/old-time-dance-2/
LOCATION:Brokenhead River Community Hall\, 320 Veterans Lane\, Beausejour\, Mb\, R0E 0C0\, Canada
END:VEVENT
BEGIN:VEVENT
DTSTART;TZID=UTC:20251022T093000
DTEND;TZID=UTC:20251022T113000
DTSTAMP:20260424T032505
CREATED:20250823T011126Z
LAST-MODIFIED:20250823T011126Z
UID:2234-1761125400-1761132600@ourhomeyourhome.ca
SUMMARY:Movers & Minglers for Seniors
DESCRIPTION:
URL:https://ourhomeyourhome.ca/event/movers-minglers-for-seniors/2025-10-22/
LOCATION:Brokenhead River Community Hall\, 320 Veterans Lane\, Beausejour\, Mb\, R0E 0C0\, Canada
END:VEVENT
BEGIN:VEVENT
DTSTART;TZID=UTC:20251021T183000
DTEND;TZID=UTC:20251021T203000
DTSTAMP:20260424T032505
CREATED:20250923T204121Z
LAST-MODIFIED:20251009T182952Z
UID:2300-1761071400-1761078600@ourhomeyourhome.ca
SUMMARY:Speed Networking | Beausejour & District Chamber
DESCRIPTION:
URL:https://ourhomeyourhome.ca/event/speed-networking-beausejour-district-chamber/
LOCATION:Brokenhead River Community Hall\, 320 Veterans Lane\, Beausejour\, Mb\, R0E 0C0\, Canada
END:VEVENT
BEGIN:VEVENT
DTSTART;TZID=UTC:20251015T093000
DTEND;TZID=UTC:20251015T113000
DTSTAMP:20260424T032505
CREATED:20250823T011126Z
LAST-MODIFIED:20250823T011126Z
UID:2233-1760520600-1760527800@ourhomeyourhome.ca
SUMMARY:Movers & Minglers for Seniors
DESCRIPTION:
URL:https://ourhomeyourhome.ca/event/movers-minglers-for-seniors/2025-10-15/
LOCATION:Brokenhead River Community Hall\, 320 Veterans Lane\, Beausejour\, Mb\, R0E 0C0\, Canada
END:VEVENT
BEGIN:VEVENT
DTSTART;TZID=UTC:20251008T093000
DTEND;TZID=UTC:20251008T113000
DTSTAMP:20260424T032505
CREATED:20250823T011126Z
LAST-MODIFIED:20250823T011126Z
UID:2232-1759915800-1759923000@ourhomeyourhome.ca
SUMMARY:Movers & Minglers for Seniors
DESCRIPTION:
URL:https://ourhomeyourhome.ca/event/movers-minglers-for-seniors/2025-10-08/
LOCATION:Brokenhead River Community Hall\, 320 Veterans Lane\, Beausejour\, Mb\, R0E 0C0\, Canada
END:VEVENT
BEGIN:VEVENT
DTSTART;TZID=UTC:20251007T130000
DTEND;TZID=UTC:20251007T160000
DTSTAMP:20260424T032505
CREATED:20250909T231748Z
LAST-MODIFIED:20250909T231748Z
UID:2286-1759842000-1759852800@ourhomeyourhome.ca
SUMMARY:Club 50 Old Time Dance
DESCRIPTION:
URL:https://ourhomeyourhome.ca/event/club-50-old-time-dance-4/
LOCATION:Brokenhead River Community Hall\, 320 Veterans Lane\, Beausejour\, Mb\, R0E 0C0\, Canada
END:VEVENT
BEGIN:VEVENT
DTSTART;TZID=UTC:20251005T140000
DTEND;TZID=UTC:20251005T160000
DTSTAMP:20260424T032505
CREATED:20250823T010738Z
LAST-MODIFIED:20250823T010738Z
UID:2222-1759672800-1759680000@ourhomeyourhome.ca
SUMMARY:Family Sunday Funday
DESCRIPTION:
URL:https://ourhomeyourhome.ca/event/family-sunday-funday/2025-10-05/
LOCATION:Brokenhead River Community Hall\, 320 Veterans Lane\, Beausejour\, Mb\, R0E 0C0\, Canada
END:VEVENT
BEGIN:VEVENT
DTSTART;TZID=UTC:20251001T093000
DTEND;TZID=UTC:20251001T113000
DTSTAMP:20260424T032505
CREATED:20250823T011126Z
LAST-MODIFIED:20250823T011126Z
UID:2230-1759311000-1759318200@ourhomeyourhome.ca
SUMMARY:Movers & Minglers for Seniors
DESCRIPTION:
URL:https://ourhomeyourhome.ca/event/movers-minglers-for-seniors/2025-10-01/
LOCATION:Brokenhead River Community Hall\, 320 Veterans Lane\, Beausejour\, Mb\, R0E 0C0\, Canada
END:VEVENT
BEGIN:VEVENT
DTSTART;TZID=UTC:20250902T130000
DTEND;TZID=UTC:20250902T170000
DTSTAMP:20260424T032505
CREATED:20250812T190500Z
LAST-MODIFIED:20250812T190500Z
UID:2209-1756818000-1756832400@ourhomeyourhome.ca
SUMMARY:Club 50 Old Time Dance
DESCRIPTION:
URL:https://ourhomeyourhome.ca/event/club-50-old-time-dance-3/
LOCATION:Brokenhead River Community Hall\, 320 Veterans Lane\, Beausejour\, Mb\, R0E 0C0\, Canada
END:VEVENT
BEGIN:VEVENT
DTSTART;TZID=UTC:20250805T130000
DTEND;TZID=UTC:20250805T170000
DTSTAMP:20260424T032505
CREATED:20250716T021148Z
LAST-MODIFIED:20250716T021200Z
UID:2190-1754398800-1754413200@ourhomeyourhome.ca
SUMMARY:Club 50 Old Time Dance
DESCRIPTION:
URL:https://ourhomeyourhome.ca/event/club-50-old-time-dance-2/
LOCATION:Brokenhead River Community Hall\, 320 Veterans Lane\, Beausejour\, Mb\, R0E 0C0\, Canada
END:VEVENT
BEGIN:VEVENT
DTSTART;TZID=UTC:20250708T130000
DTEND;TZID=UTC:20250708T160000
DTSTAMP:20260424T032505
CREATED:20250219T213323Z
LAST-MODIFIED:20250611T234018Z
UID:1986-1751979600-1751990400@ourhomeyourhome.ca
SUMMARY:Club 50 - Old Time Dance
DESCRIPTION:
URL:https://ourhomeyourhome.ca/event/club-50-old-time-dance/
LOCATION:Brokenhead River Community Hall\, 320 Veterans Lane\, Beausejour\, Mb\, R0E 0C0\, Canada
END:VEVENT
BEGIN:VEVENT
DTSTART;TZID=UTC:20250504T100000
DTEND;TZID=UTC:20250504T150000
DTSTAMP:20260424T032505
CREATED:20250219T213610Z
LAST-MODIFIED:20250219T213610Z
UID:1989-1746352800-1746370800@ourhomeyourhome.ca
SUMMARY:Pioneer Village Museum Fundraising Farmers Market
DESCRIPTION:
URL:https://ourhomeyourhome.ca/event/pioneer-village-museum-fundraising-farmers-market/
LOCATION:Brokenhead River Community Hall\, 320 Veterans Lane\, Beausejour\, Mb\, R0E 0C0\, Canada
ORGANIZER;CN="Pioneer Village Museum":MAILTO:PVMchair@outlook.com
END:VEVENT
BEGIN:VEVENT
DTSTART;TZID=UTC:20250503T100000
DTEND;TZID=UTC:20250503T150000
DTSTAMP:20260424T032505
CREATED:20250305T233119Z
LAST-MODIFIED:20250305T233119Z
UID:2012-1746266400-1746284400@ourhomeyourhome.ca
SUMMARY:Wellness Fair
DESCRIPTION:
URL:https://ourhomeyourhome.ca/event/wellness-fair/
LOCATION:Brokenhead River Community Hall\, 320 Veterans Lane\, Beausejour\, Mb\, R0E 0C0\, Canada
END:VEVENT
BEGIN:VEVENT
DTSTART;TZID=UTC:20250427T130000
DTEND;TZID=UTC:20250427T130000
DTSTAMP:20260424T032505
CREATED:20250218T221214Z
LAST-MODIFIED:20250218T221214Z
UID:1983-1745758800-1745758800@ourhomeyourhome.ca
SUMMARY:Old Time Dance
DESCRIPTION:
URL:https://ourhomeyourhome.ca/event/old-time-dance/
LOCATION:Brokenhead River Community Hall\, 320 Veterans Lane\, Beausejour\, Mb\, R0E 0C0\, Canada
END:VEVENT
BEGIN:VEVENT
DTSTART;TZID=UTC:20250424T143000
DTEND;TZID=UTC:20250424T193000
DTSTAMP:20260424T032505
CREATED:20221007T024601Z
LAST-MODIFIED:20250423T234055Z
UID:599-1745505000-1745523000@ourhomeyourhome.ca
SUMMARY:Blood Donor Clinic
DESCRIPTION:Visit blood.ca for more information and to book your time slot.
URL:https://ourhomeyourhome.ca/event/blood-donor-clinic/
LOCATION:Brokenhead River Community Hall\, 320 Veterans Lane\, Beausejour\, Mb\, R0E 0C0\, Canada
ATTACH;FMTTYPE=image/png:https://ourhomeyourhome.ca/wp-content/uploads/2022/10/BBDC-Event-Graphics.png
END:VEVENT
BEGIN:VEVENT
DTSTART;TZID=UTC:20250217T090000
DTEND;TZID=UTC:20250217T150000
DTSTAMP:20260424T032505
CREATED:20250108T211047Z
LAST-MODIFIED:20250129T214637Z
UID:1878-1739782800-1739804400@ourhomeyourhome.ca
SUMMARY:Winterfest - Brokenhead River Community Hall
DESCRIPTION:Come on down on February 17 to Brokenhead River Community Hall for a fun day filled with market vendors\, dance performances\, a puppet show\, and more!
URL:https://ourhomeyourhome.ca/event/winterfest-2/
LOCATION:Brokenhead River Community Hall\, 320 Veterans Lane\, Beausejour\, Mb\, R0E 0C0\, Canada
END:VEVENT
BEGIN:VEVENT
DTSTART;TZID=UTC:20250205T083000
DTEND;TZID=UTC:20250205T160000
DTSTAMP:20260424T032505
CREATED:20250110T233704Z
LAST-MODIFIED:20250110T233846Z
UID:1936-1738744200-1738771200@ourhomeyourhome.ca
SUMMARY:Brokenhead River Agricultural Conference
DESCRIPTION:38th Annual Brokenhead River Agricultural Conference \nFebruary 4 & 5\, 2025 \nBrokenhead River Community Hall\, 320 Veterans Lane\, Beausejour \nAdmission: $20 per day and includes a hot lunch\, presentations\, industry draws\, and grand prizes \nThe 2025 Conference will feature a 2-day event connecting local producers with industry experts. Day 1 targets Beef and Forages; Day 2 focuses on Grain and Crops. The conference also allows farmers to see the latest innovation in agriculture and to have face-to-face interactions with exhibitors. \n \nFollow Brokenhead Agricultural Society on Facebook or check out their website!
URL:https://ourhomeyourhome.ca/event/brokenhead-river-agricultural-conference/2025-02-05/
LOCATION:Brokenhead River Community Hall\, 320 Veterans Lane\, Beausejour\, Mb\, R0E 0C0\, Canada
ORGANIZER;CN="Brokenhead Agricultural Society":MAILTO:brokenheadag@outlook.com
END:VEVENT
BEGIN:VEVENT
DTSTART;TZID=UTC:20250204T083000
DTEND;TZID=UTC:20250204T160000
DTSTAMP:20260424T032505
CREATED:20250110T233704Z
LAST-MODIFIED:20250110T233846Z
UID:1928-1738657800-1738684800@ourhomeyourhome.ca
SUMMARY:Brokenhead River Agricultural Conference
DESCRIPTION:38th Annual Brokenhead River Agricultural Conference \nFebruary 4 & 5\, 2025 \nBrokenhead River Community Hall\, 320 Veterans Lane\, Beausejour \nAdmission: $20 per day and includes a hot lunch\, presentations\, industry draws\, and grand prizes \nThe 2025 Conference will feature a 2-day event connecting local producers with industry experts. Day 1 targets Beef and Forages; Day 2 focuses on Grain and Crops. The conference also allows farmers to see the latest innovation in agriculture and to have face-to-face interactions with exhibitors. \n \nFollow Brokenhead Agricultural Society on Facebook or check out their website!
URL:https://ourhomeyourhome.ca/event/brokenhead-river-agricultural-conference/2025-02-04/
LOCATION:Brokenhead River Community Hall\, 320 Veterans Lane\, Beausejour\, Mb\, R0E 0C0\, Canada
ORGANIZER;CN="Brokenhead Agricultural Society":MAILTO:brokenheadag@outlook.com
END:VEVENT
BEGIN:VEVENT
DTSTART;TZID=UTC:20240504T170000
DTEND;TZID=UTC:20240504T235900
DTSTAMP:20260424T032505
CREATED:20240209T222848Z
LAST-MODIFIED:20240209T222849Z
UID:1665-1714842000-1714867140@ourhomeyourhome.ca
SUMMARY:BRCH 40th Anniversary Gala
DESCRIPTION:Brokenhead River Community Hall invites you to celebrate with them at their 40th Anniversary Gala\, May 4 beginning at 5pm. \nPurchase tickets by April 15\, contact information is in the poster.
URL:https://ourhomeyourhome.ca/event/brch-40th-anniversary-gala/
LOCATION:Brokenhead River Community Hall\, 320 Veterans Lane\, Beausejour\, Mb\, R0E 0C0\, Canada
ATTACH;FMTTYPE=image/jpeg:https://ourhomeyourhome.ca/wp-content/uploads/2024/02/f7ea8c75-ab49-4243-ad20-8fc0fe8f1ea6.jpg
END:VEVENT
BEGIN:VEVENT
DTSTART;TZID=UTC:20240426T190000
DTEND;TZID=UTC:20240426T230000
DTSTAMP:20260424T032505
CREATED:20221205T231726Z
LAST-MODIFIED:20240209T225715Z
UID:772-1714158000-1714172400@ourhomeyourhome.ca
SUMMARY:BCC Quiz Night
DESCRIPTION: 
URL:https://ourhomeyourhome.ca/event/bcc-quiz-night/
LOCATION:Brokenhead River Community Hall\, 320 Veterans Lane\, Beausejour\, Mb\, R0E 0C0\, Canada
ATTACH;FMTTYPE=image/jpeg:https://ourhomeyourhome.ca/wp-content/uploads/2022/12/Website-Events.jpg
ORGANIZER;CN="Beausejour Curling Club":MAILTO:beausejourcurlingclub@gmail.com
END:VEVENT
BEGIN:VEVENT
DTSTART;TZID=UTC:20240421T083000
DTEND;TZID=UTC:20240421T113000
DTSTAMP:20260424T032505
CREATED:20240209T225946Z
LAST-MODIFIED:20240319T001238Z
UID:1689-1713688200-1713699000@ourhomeyourhome.ca
SUMMARY:BRCH Breakfast Fundraiser
DESCRIPTION:BREAKFAST FUNDRAISER for the Brokenhead River Community Hall\, 320 Veterans Lane\nAPRIL 21st 2024 8:30am- 11:30am\nPancakes\, ham\, fruit\, coffee/tea\nMAGICIAN until 11am -EVAN MORGAN\n50/50 Vendors\, Free Basket Draw\, \nTickets available March 1st 2024 $10 each\, 4 and under FREE\nTickets must be purchased by April 18th 2024\nInfo: mhpreserves1974@hotmail.com’
URL:https://ourhomeyourhome.ca/event/breakfast-fundraiser/
LOCATION:Brokenhead River Community Hall\, 320 Veterans Lane\, Beausejour\, Mb\, R0E 0C0\, Canada
ATTACH;FMTTYPE=image/png:https://ourhomeyourhome.ca/wp-content/uploads/2023/06/Website-1-3.png
END:VEVENT
END:VCALENDAR