BEGIN:VCALENDAR
VERSION:2.0
PRODID:-//BBDC - ECPv6.15.13//NONSGML v1.0//EN
CALSCALE:GREGORIAN
METHOD:PUBLISH
X-WR-CALNAME:BBDC
X-ORIGINAL-URL:https://ourhomeyourhome.ca
X-WR-CALDESC:Events for BBDC
REFRESH-INTERVAL;VALUE=DURATION:PT1H
X-Robots-Tag:noindex
X-PUBLISHED-TTL:PT1H
BEGIN:VTIMEZONE
TZID:UTC
BEGIN:STANDARD
TZOFFSETFROM:+0000
TZOFFSETTO:+0000
TZNAME:UTC
DTSTART:20220101T000000
END:STANDARD
END:VTIMEZONE
BEGIN:VEVENT
DTSTART;TZID=UTC:20250629T110000
DTEND;TZID=UTC:20250629T160000
DTSTAMP:20260419T071807
CREATED:20250108T214355Z
LAST-MODIFIED:20250527T011044Z
UID:1889-1751194800-1751212800@ourhomeyourhome.ca
SUMMARY:Pioneer Village Museum Summer Market Sundays
DESCRIPTION:11am – 4pm every Sunday at Pioneer Village Museum from June 29 to August 31 (with the exception of August 17\, the market will run from 9am – 4pm that day). \nEmail pioneervillagemuseum@gmail.com for a vendor application.
URL:https://ourhomeyourhome.ca/event/pioneer-village-museum-summer-market-sundays/2025-06-29/
LOCATION:Pioneer Village Museum\, 901 Gertrude Avenue\, Beausejour\, Manitoba\, R0E 0C0\, Canada
END:VEVENT
BEGIN:VEVENT
DTSTART;TZID=UTC:20250607T090000
DTEND;TZID=UTC:20250607T150000
DTSTAMP:20260419T071807
CREATED:20250527T010528Z
LAST-MODIFIED:20250527T010528Z
UID:2115-1749286800-1749308400@ourhomeyourhome.ca
SUMMARY:Pioneer Village Museum Spring Clean Up
DESCRIPTION:
URL:https://ourhomeyourhome.ca/event/pioneer-village-museum-spring-clean-up/
LOCATION:Pioneer Village Museum\, 901 Gertrude Avenue\, Beausejour\, Manitoba\, R0E 0C0\, Canada
ORGANIZER;CN="Pioneer Village Museum":MAILTO:PVMchair@outlook.com
END:VEVENT
BEGIN:VEVENT
DTSTART;TZID=UTC:20240921T080000
DTEND;TZID=UTC:20240922T170000
DTSTAMP:20260419T071807
CREATED:20240502T033217Z
LAST-MODIFIED:20240502T033217Z
UID:1617-1726905600-1727024400@ourhomeyourhome.ca
SUMMARY:PVM Swap Meet
DESCRIPTION:At Pioneer Village Museum\, Stay Tuned for Details…
URL:https://ourhomeyourhome.ca/event/pvm-swap-meet/
LOCATION:Pioneer Village Museum\, 901 Gertrude Avenue\, Beausejour\, Manitoba\, R0E 0C0\, Canada
END:VEVENT
BEGIN:VEVENT
DTSTART;TZID=UTC:20230923T090000
DTEND;TZID=UTC:20230923T150000
DTSTAMP:20260419T071807
CREATED:20230909T021319Z
LAST-MODIFIED:20230909T021403Z
UID:1324-1695459600-1695481200@ourhomeyourhome.ca
SUMMARY:4th Annual Vintage Snowmobile Show & Swap
DESCRIPTION:
URL:https://ourhomeyourhome.ca/event/vintage-snowmobile-show-swap/
LOCATION:Pioneer Village Museum\, 901 Gertrude Avenue\, Beausejour\, Manitoba\, R0E 0C0\, Canada
ATTACH;FMTTYPE=image/png:https://ourhomeyourhome.ca/wp-content/uploads/2023/09/Website-15.png
END:VEVENT
BEGIN:VEVENT
DTSTART;VALUE=DATE:20230826
DTEND;VALUE=DATE:20230828
DTSTAMP:20260419T071807
CREATED:20230616T010643Z
LAST-MODIFIED:20240203T003055Z
UID:1179-1693008000-1693180799@ourhomeyourhome.ca
SUMMARY:Beauhead Arts Fest 2023
DESCRIPTION:View the annual event listing\, here!  \n \n\n\n\n 
URL:https://ourhomeyourhome.ca/event/beauhead-arts-fest-2023/
LOCATION:Pioneer Village Museum\, 901 Gertrude Avenue\, Beausejour\, Manitoba\, R0E 0C0\, Canada
ORGANIZER;CN="Beauhead Arts Fest":MAILTO:beauheadartsfest@gmail.com
END:VEVENT
BEGIN:VEVENT
DTSTART;TZID=UTC:20230813T083000
DTEND;TZID=UTC:20230813T170000
DTSTAMP:20260419T071807
CREATED:20220708T014625Z
LAST-MODIFIED:20230712T230229Z
UID:397-1691915400-1691946000@ourhomeyourhome.ca
SUMMARY:Heritage Day at Pioneer Village Museum
DESCRIPTION:Celebrate our 25th Anniversary with us at the most exciting day of the year! \nKick off with a pancake breakfast\, live entertainment all day\, an old-fashioned threshing demonstration and antique tractor parade! \nGreat food\, pioneer games\, bouncy castles\, an even a visit from an alpaca! \nEnjoy a farmers market\, live music\, and more!
URL:https://ourhomeyourhome.ca/event/heritage-day-at-pioneer-village-museum/
LOCATION:Pioneer Village Museum\, 901 Gertrude Avenue\, Beausejour\, Manitoba\, R0E 0C0\, Canada
ATTACH;FMTTYPE=image/jpeg:https://ourhomeyourhome.ca/wp-content/uploads/2022/07/kososkis-store.jpg
END:VEVENT
BEGIN:VEVENT
DTSTART;TZID=UTC:20230706T150000
DTEND;TZID=UTC:20230706T190000
DTSTAMP:20260419T071807
CREATED:20230114T015821Z
LAST-MODIFIED:20230114T015821Z
UID:918-1688655600-1688670000@ourhomeyourhome.ca
SUMMARY:Summer Market at Pioneer Village Museum
DESCRIPTION:Music\, markets\, friends\, and food! Come out to the Pioneer Village Museum each week for this community market with more! \nBuskers\, market vendors\, food vendors\, and more contact mhpreserves1974@hotmail.com to register or for more information!
URL:https://ourhomeyourhome.ca/event/summer-market-at-pioneer-village-museum/2023-07-06/
LOCATION:Pioneer Village Museum\, 901 Gertrude Avenue\, Beausejour\, Manitoba\, R0E 0C0\, Canada
ATTACH;FMTTYPE=image/jpeg:https://ourhomeyourhome.ca/wp-content/uploads/2023/01/kososkis-store.jpg
END:VEVENT
END:VCALENDAR