BEGIN:VCALENDAR
VERSION:2.0
PRODID:-//BBDC - ECPv6.15.13//NONSGML v1.0//EN
CALSCALE:GREGORIAN
METHOD:PUBLISH
X-WR-CALNAME:BBDC
X-ORIGINAL-URL:https://ourhomeyourhome.ca
X-WR-CALDESC:Events for BBDC
REFRESH-INTERVAL;VALUE=DURATION:PT1H
X-Robots-Tag:noindex
X-PUBLISHED-TTL:PT1H
BEGIN:VTIMEZONE
TZID:America/Winnipeg
BEGIN:DAYLIGHT
TZOFFSETFROM:-0600
TZOFFSETTO:-0500
TZNAME:CDT
DTSTART:20250309T080000
END:DAYLIGHT
BEGIN:STANDARD
TZOFFSETFROM:-0500
TZOFFSETTO:-0600
TZNAME:CST
DTSTART:20251102T070000
END:STANDARD
BEGIN:DAYLIGHT
TZOFFSETFROM:-0600
TZOFFSETTO:-0500
TZNAME:CDT
DTSTART:20260308T080000
END:DAYLIGHT
BEGIN:STANDARD
TZOFFSETFROM:-0500
TZOFFSETTO:-0600
TZNAME:CST
DTSTART:20261101T070000
END:STANDARD
BEGIN:DAYLIGHT
TZOFFSETFROM:-0600
TZOFFSETTO:-0500
TZNAME:CDT
DTSTART:20270314T080000
END:DAYLIGHT
BEGIN:STANDARD
TZOFFSETFROM:-0500
TZOFFSETTO:-0600
TZNAME:CST
DTSTART:20271107T070000
END:STANDARD
END:VTIMEZONE
BEGIN:VEVENT
DTSTART;TZID=America/Winnipeg:20260509T140000
DTEND;TZID=America/Winnipeg:20260509T160000
DTSTAMP:20260423T130539
CREATED:20260323T172718Z
LAST-MODIFIED:20260326T160449Z
UID:2721-1778335200-1778342400@ourhomeyourhome.ca
SUMMARY:Paint Night | Beausejour
DESCRIPTION:Come out for some creative time\, meet new people\, and become part of a wonderful community of artists. We hope you’ll join us! Tickets are available through Eventbrite: https://www.eventbrite.ca/e/beauhead-arts-fest-fundraiser-paint-night-tickets-1985338014445 \nThis fundraising event is in support of Beauhead Arts Festival.
URL:https://ourhomeyourhome.ca/event/2721/
LOCATION:Sandy-Saulteaux Spiritual Centre\, 290 Zielke Drive\, Beausejour\, Manitoba\, R0E0C0\, Canada
ORGANIZER;CN="Beauhead Arts Fest":MAILTO:beauheadartsfest@gmail.com
END:VEVENT
END:VCALENDAR