BEGIN:VCALENDAR
VERSION:2.0
PRODID:-//BBDC - ECPv6.15.13//NONSGML v1.0//EN
CALSCALE:GREGORIAN
METHOD:PUBLISH
X-WR-CALNAME:BBDC
X-ORIGINAL-URL:https://ourhomeyourhome.ca
X-WR-CALDESC:Events for BBDC
REFRESH-INTERVAL;VALUE=DURATION:PT1H
X-Robots-Tag:noindex
X-PUBLISHED-TTL:PT1H
BEGIN:VTIMEZONE
TZID:UTC
BEGIN:STANDARD
TZOFFSETFROM:+0000
TZOFFSETTO:+0000
TZNAME:UTC
DTSTART:20240101T000000
END:STANDARD
END:VTIMEZONE
BEGIN:VEVENT
DTSTART;TZID=UTC:20250425T183000
DTEND;TZID=UTC:20250425T203000
DTSTAMP:20260423T163324
CREATED:20250220T220759Z
LAST-MODIFIED:20250321T192344Z
UID:1996-1745605800-1745613000@ourhomeyourhome.ca
SUMMARY:Beauhead Arts Fest Paint Night Fundraiser
DESCRIPTION:Get your tickets here: https://www.eventbrite.ca/e/paint-night-fundraiser-tickets-1205142095449?fbclid=IwY2xjawIkMW9leHRuA2FlbQIxMAABHQEvSuJ2yW7RptfpSMv8OLT1W8EpBpg1jTL1nnStP7l9s6iepyeo8pmQVA_aem_gbMVZPzUTuR3coMCC_EGtQ 
URL:https://ourhomeyourhome.ca/event/beauhead-arts-fest-paint-night-fundraiser/
LOCATION:Sandy-Saulteaux Spiritual Centre\, 290 Zielke Drive\, Beausejour\, Manitoba\, R0E0C0\, Canada
ORGANIZER;CN="Beauhead Arts Fest":MAILTO:beauheadartsfest@gmail.com
END:VEVENT
BEGIN:VEVENT
DTSTART;TZID=UTC:20250417T173000
DTEND;TZID=UTC:20250417T203000
DTSTAMP:20260423T163324
CREATED:20250206T222654Z
LAST-MODIFIED:20250206T222732Z
UID:1970-1744911000-1744921800@ourhomeyourhome.ca
SUMMARY:Seeds to Stew Workshop: Health and the Seven Sisters (Part 3)
DESCRIPTION:
URL:https://ourhomeyourhome.ca/event/seeds-to-stew-workshop-health-and-the-seven-sisters-part-3/
LOCATION:Sandy-Saulteaux Spiritual Centre\, 290 Zielke Drive\, Beausejour\, Manitoba\, R0E0C0\, Canada
END:VEVENT
BEGIN:VEVENT
DTSTART;TZID=UTC:20250313T173000
DTEND;TZID=UTC:20250313T203000
DTSTAMP:20260423T163324
CREATED:20250206T222232Z
LAST-MODIFIED:20250206T222232Z
UID:1968-1741887000-1741897800@ourhomeyourhome.ca
SUMMARY:Seeds to Stew Workshop: Gardening & Seed Saving (Part 2)
DESCRIPTION:Join Sandy-Saulteaux Spiritual Centre in part 2 of a 4 workshop series to share and learn based on the Seven Sisters with Knowledge Keeper Audrey Logan. We will share in food\, conversation\, skill sharing and knowledge. \nOn March 13\, we will learn about gardening and seed saving with Eastman Seed Savers. \nClick here to register: https://sandysaulteaux.ca/event/seeds-to-stew-workshop-gardening-seed-saving/
URL:https://ourhomeyourhome.ca/event/seeds-to-stew-workshop-gardening-seed-saving-part-2/
LOCATION:Sandy-Saulteaux Spiritual Centre\, 290 Zielke Drive\, Beausejour\, Manitoba\, R0E0C0\, Canada
END:VEVENT
BEGIN:VEVENT
DTSTART;TZID=UTC:20250220T173000
DTEND;TZID=UTC:20250220T203000
DTSTAMP:20260423T163324
CREATED:20250206T221736Z
LAST-MODIFIED:20250206T222006Z
UID:1960-1740072600-1740083400@ourhomeyourhome.ca
SUMMARY:Seeds to Stew Workshop: Indigenous teaching and the Story of the Seven Sisters (Part 1)
DESCRIPTION:Join Sandy-Saulteaux Spiritual Centre in part 1 of a 4 workshop series to share and learn based on the Seven Sisters with Knowledge Keeper Audrey Logan. We will share in food\, conversation\, skill sharing and knowledge. \nOn February 20\, we will hear Indigenous teaching and the Story of the Seven Sisters and learn to Dehydrate squash and culinary sage. \nClick here to register: https://sandysaulteaux.ca/event/seeds-to-stew-workshop-indigenous-teaching-and-the-story-of-the-seven-sisters/ 
URL:https://ourhomeyourhome.ca/event/1960/
LOCATION:Sandy-Saulteaux Spiritual Centre\, 290 Zielke Drive\, Beausejour\, Manitoba\, R0E0C0\, Canada
END:VEVENT
END:VCALENDAR